{"text_format":"1","workbook":"xlsx","n_sheets":3,"sheets":["Debt Reduction Plan","Snowball Calculator","Location"],"not_rendered":{"charts":0,"images":0,"macros":1,"external_links":0,"defined_names":1,"comments":0,"pivot_tables":0},"unopened":[],"bounds":{"document_bytes":16777216,"sheet_cells":100000,"rows_first":2000,"rows_last":500,"rows_between":2000,"halvings":0,"cell_chars":16384,"cell_head_chars":4096},"cells_cut":0,"cells_raw":0,"read":"whole","date_system":"1900"}

{"sheet":"Debt Reduction Plan","index":0,"n_rows":34,"n_cols":6,"rows_kept":34,"cut":false,"hidden":false,"merged":[[6,4,6,6],[29,2,30,4],[1,1,1,2],[1,5,1,6],[33,1,33,6],[3,1,3,6],[4,1,4,6],[5,1,5,6],[24,4,25,6]]}
[null,"Debt Reduction Plan"]
[null,"Today's Date:",null,"2018-01-01"]
[]
[null,"This worksheet will help you use the power of the Snowball Debt Reduction Plan to pay off your debts. After entering a little bit of information about all your current debts, simply press the \"Start Snowball\" button and then go to the Snowball Calculator tab to see how quickly you can pay off your debt."]
[null,"First, fill in the Start Date. Your Snowball Payment plan will start the month after the date you enter, so if you enter today's date the plan will start next month.  Next, list all of your current debts in the table. These will be automatically sorted later so don't worry about the order you list them in, just be sure to get them all.  Verify this information with each lender and keep in mind that this calculator will assume that the debt balances will not increase and the rate and minimum payment will not change.  If these things do change, return to this calculator and update the numbers accordingly. \n\nCreditor: A short name for each creditor, the person or organization you owe.\nBalance: The total remaining balance owed to the creditor.  \nRate: A fixed APR (Annual Percentage Rate) for the interest for each debt. Some loan interest rates, especially for credit cards, will change over time but this calculator assumes a fixed rate.  \nPayment: The minimum required payment each month. If the minimum payment may vary, be as accurate as you can and update as needed."]
[null,"Finally, below the table you will see your total Minimum Monthly Payment. This should be the minimum amount you have to pay to keep from defaulting on your debts. However, remember that your goal is to get the monthly budget down to 50% or less of income so that the other 50% can go to savings, investments and paying off debt. Even if you aren't living below your means on 50% of income yet, you will significantly accelarate your snowball by dedicating an additional amount each month to paying off debt. This amount gets added to the minimum payment for the first debt so it gets paid off faster, then once the debt is paid off that payment gets added to the second debt so it will be paid off faster, and so on.  Carefully consider your monthly budget and enter an Additional Payment amount to accelerate your snowball.  Once all this has been entered, click the \"Start Snowball\" button."]
[null,null,"Start Date:",null,"Enter the current date or an alternate starting date."]
[]
[null,null,"Creditor Information Table"]
[]
[null,"Row","Creditor","Balance","Rate","Payment"]
[null,1]
[null,2]
[null,3]
[null,4]
[null,5]
[null,6]
[null,7]
[null,8]
[null,9]
[null,10]
[null,null,"Totals:",{"$f":"SUM(D12:D21)","v":0},null,{"$f":"SUM(F12:F21)","v":0}]
[]
[null,null,"Minimum Monthly Payment",{"$f":"F22","v":0}]
[null,null,"Additional Payment",0,"Enter the additonal amount that you can add each month to pay down your debts faster."]
[]
[null,null,"Monthly Payment ",{"$f":"D24+D25","v":0},{"$f":"IF(D25=0,\"Enter Additional Payment (snowball)\",\"\")","v":"Enter Additional Payment (snowball)"}]
[null,null,"Initial Snowball ",{"$f":"D25","v":0},{"$f":"IF(D28<0,\"Need to Increase Monthly Payment\",\"\")","v":""}]
[]
[null,null,"When you have entered all the information above, including an Additional Payment, click one of the Start Snowball buttons to the right and then go to the second tab, Snowball Calculator.  The first button will sort your debts with the lowest balance first, and the second will sort with the highest interest rate first. Important: remember to press a \"Start Snowball\" button again anytime you change any of the information on this tab!"]
[]
[]
[]
[null,"© 2016 BC Holdings, LLC; All rights reserved. This information is for educational purposes only and should not be construed as investment advice. You should consult a qualified, licensed investment professional for any questions you have related to investment or other financial matters. All information, content, calculators and materials in whatever form provided in this program are protected by the copyright laws in the United States and in foreign countries. Provided you hold a valid, current license to use this training program, BC Holdings, LLC authorizes you to access this content and download the downloadable forms for personal, non-commercial use during the period for which you hold a valid, current license. You are not authorized to reproduce or distribute this program or any of its components in any way, in any form without the express written consent from BC Holdings, LLC.  All rights not expressly granted herein are reserved to BC Holdings, LLC and its licensors."]

{"sheet":"Snowball Calculator","index":1,"n_rows":386,"n_cols":73,"rows_kept":386,"cut":false,"hidden":false,"merged":[[3,1,3,3],[1,5,1,6],[14,1,14,3],[14,4,14,5],[3,5,3,6],[17,1,17,13],[385,1,385,13],[6,1,6,3],[7,1,7,3],[8,1,8,3],[9,1,9,3],[10,1,10,3],[11,1,11,3],[12,1,12,3],[16,1,16,13],[14,12,14,13]]}
[null,"Snowball Calculator"]
[null,"Today's Date:",null,null,null,{"$f":"'Debt Reduction Plan'!D2","v":"2018-01-01"}]
[]
[null,"Monthly Payment:",null,null,null,{"$f":"+'Debt Reduction Plan'!D27","v":0}]
[]
[null,null,null,"Creditor:",{"$f":"IF(ISBLANK(INDEX('Debt Reduction Plan'!$C$12:$C$21,Location!A1)),0,INDEX('Debt Reduction Plan'!$C$12:$C$21,Location!A1))","v":0},{"$f":"IF(ISBLANK(INDEX('Debt Reduction Plan'!$C$12:$C$21,Location!A2)),0,INDEX('Debt Reduction Plan'!$C$12:$C$21,Location!A2))","v":0},{"$f":"IF(ISBLANK(INDEX('Debt Reduction Plan'!$C$12:$C$21,Location!A3)),0,INDEX('Debt Reduction Plan'!$C$12:$C$21,Location!A3))","v":0},{"$f":"IF(ISBLANK(INDEX('Debt Reduction Plan'!$C$12:$C$21,Location!A4)),0,INDEX('Debt Reduction Plan'!$C$12:$C$21,Location!A4))","v":0},{"$f":"IF(ISBLANK(INDEX('Debt Reduction Plan'!$C$12:$C$21,Location!A5)),0,INDEX('Debt Reduction Plan'!$C$12:$C$21,Location!A5))","v":0},{"$f":"IF(ISBLANK(INDEX('Debt Reduction Plan'!$C$12:$C$21,Location!A6)),0,INDEX('Debt Reduction Plan'!$C$12:$C$21,Location!A6))","v":0},{"$f":"IF(ISBLANK(INDEX('Debt Reduction Plan'!$C$12:$C$21,Location!A7)),0,INDEX('Debt Reduction Plan'!$C$12:$C$21,Location!A7))","v":0},{"$f":"IF(ISBLANK(INDEX('Debt Reduction Plan'!$C$12:$C$21,Location!A8)),0,INDEX('Debt Reduction Plan'!$C$12:$C$21,Location!A8))","v":0},{"$f":"IF(ISBLANK(INDEX('Debt Reduction Plan'!$C$12:$C$21,Location!A9)),0,INDEX('Debt Reduction Plan'!$C$12:$C$21,Location!A9))","v":0},{"$f":"IF(ISBLANK(INDEX('Debt Reduction Plan'!$C$12:$C$21,Location!A10)),0,INDEX('Debt Reduction Plan'!$C$12:$C$21,Location!A10))","v":0}]
[null,"Balance:",null,null,{"$f":"IF(ISBLANK(INDEX('Debt Reduction Plan'!$D$12:$D$21,Location!A1)),0,INDEX('Debt Reduction Plan'!$D$12:$D$21,Location!A1))","v":0},{"$f":"IF(ISBLANK(INDEX('Debt Reduction Plan'!$D$12:$D$21,Location!A2)),0,INDEX('Debt Reduction Plan'!$D$12:$D$21,Location!A2))","v":0},{"$f":"IF(ISBLANK(INDEX('Debt Reduction Plan'!$D$12:$D$21,Location!A3)),0,INDEX('Debt Reduction Plan'!$D$12:$D$21,Location!A3))","v":0},{"$f":"IF(ISBLANK(INDEX('Debt Reduction Plan'!$D$12:$D$21,Location!A4)),0,INDEX('Debt Reduction Plan'!$D$12:$D$21,Location!A4))","v":0},{"$f":"IF(ISBLANK(INDEX('Debt Reduction Plan'!$D$12:$D$21,Location!A5)),0,INDEX('Debt Reduction Plan'!$D$12:$D$21,Location!A5))","v":0},{"$f":"IF(ISBLANK(INDEX('Debt Reduction Plan'!$D$12:$D$21,Location!A6)),0,INDEX('Debt Reduction Plan'!$D$12:$D$21,Location!A6))","v":0},{"$f":"IF(ISBLANK(INDEX('Debt Reduction Plan'!$D$12:$D$21,Location!A7)),0,INDEX('Debt Reduction Plan'!$D$12:$D$21,Location!A7))","v":0},{"$f":"IF(ISBLANK(INDEX('Debt Reduction Plan'!$D$12:$D$21,Location!A8)),0,INDEX('Debt Reduction Plan'!$D$12:$D$21,Location!A8))","v":0},{"$f":"IF(ISBLANK(INDEX('Debt Reduction Plan'!$D$12:$D$21,Location!A9)),0,INDEX('Debt Reduction Plan'!$D$12:$D$21,Location!A9))","v":0},{"$f":"IF(ISBLANK(INDEX('Debt Reduction Plan'!$D$12:$D$21,Location!A10)),0,INDEX('Debt Reduction Plan'!$D$12:$D$21,Location!A10))","v":0}]
[null,"Rate:",null,null,{"$f":"IF(ISBLANK(INDEX('Debt Reduction Plan'!$E$12:$E$21,Location!$A1)),0,INDEX('Debt Reduction Plan'!$E$12:$E$21,Location!$A1))","v":0},{"$f":"IF(ISBLANK(INDEX('Debt Reduction Plan'!$E$12:$E$21,Location!$A2)),0,INDEX('Debt Reduction Plan'!$E$12:$E$21,Location!$A2))","v":0},{"$f":"IF(ISBLANK(INDEX('Debt Reduction Plan'!$E$12:$E$21,Location!$A3)),0,INDEX('Debt Reduction Plan'!$E$12:$E$21,Location!$A3))","v":0},{"$f":"IF(ISBLANK(INDEX('Debt Reduction Plan'!$E$12:$E$21,Location!$A4)),0,INDEX('Debt Reduction Plan'!$E$12:$E$21,Location!$A4))","v":0},{"$f":"IF(ISBLANK(INDEX('Debt Reduction Plan'!$E$12:$E$21,Location!$A5)),0,INDEX('Debt Reduction Plan'!$E$12:$E$21,Location!$A5))","v":0},{"$f":"IF(ISBLANK(INDEX('Debt Reduction Plan'!$E$12:$E$21,Location!$A6)),0,INDEX('Debt Reduction Plan'!$E$12:$E$21,Location!$A6))","v":0},{"$f":"IF(ISBLANK(INDEX('Debt Reduction Plan'!$E$12:$E$21,Location!$A7)),0,INDEX('Debt Reduction Plan'!$E$12:$E$21,Location!$A7))","v":0},{"$f":"IF(ISBLANK(INDEX('Debt Reduction Plan'!$E$12:$E$21,Location!$A8)),0,INDEX('Debt Reduction Plan'!$E$12:$E$21,Location!$A8))","v":0},{"$f":"IF(ISBLANK(INDEX('Debt Reduction Plan'!$E$12:$E$21,Location!$A9)),0,INDEX('Debt Reduction Plan'!$E$12:$E$21,Location!$A9))","v":0},{"$f":"IF(ISBLANK(INDEX('Debt Reduction Plan'!$E$12:$E$21,Location!$A10)),0,INDEX('Debt Reduction Plan'!$E$12:$E$21,Location!$A10))","v":0}]
[null,"Base Payment:",null,null,{"$f":"IF(ISBLANK(INDEX('Debt Reduction Plan'!$F$12:$F$21,Location!A1)),0,INDEX('Debt Reduction Plan'!$F$12:$F$21,Location!A1))","v":0},{"$f":"IF(ISBLANK(INDEX('Debt Reduction Plan'!$F$12:$F$21,Location!A2)),0,INDEX('Debt Reduction Plan'!$F$12:$F$21,Location!A2))","v":0},{"$f":"IF(ISBLANK(INDEX('Debt Reduction Plan'!$F$12:$F$21,Location!A3)),0,INDEX('Debt Reduction Plan'!$F$12:$F$21,Location!A3))","v":0},{"$f":"IF(ISBLANK(INDEX('Debt Reduction Plan'!$F$12:$F$21,Location!A4)),0,INDEX('Debt Reduction Plan'!$F$12:$F$21,Location!A4))","v":0},{"$f":"IF(ISBLANK(INDEX('Debt Reduction Plan'!$F$12:$F$21,Location!A5)),0,INDEX('Debt Reduction Plan'!$F$12:$F$21,Location!A5))","v":0},{"$f":"IF(ISBLANK(INDEX('Debt Reduction Plan'!$F$12:$F$21,Location!A6)),0,INDEX('Debt Reduction Plan'!$F$12:$F$21,Location!A6))","v":0},{"$f":"IF(ISBLANK(INDEX('Debt Reduction Plan'!$F$12:$F$21,Location!A7)),0,INDEX('Debt Reduction Plan'!$F$12:$F$21,Location!A7))","v":0},{"$f":"IF(ISBLANK(INDEX('Debt Reduction Plan'!$F$12:$F$21,Location!A8)),0,INDEX('Debt Reduction Plan'!$F$12:$F$21,Location!A8))","v":0},{"$f":"IF(ISBLANK(INDEX('Debt Reduction Plan'!$F$12:$F$21,Location!A9)),0,INDEX('Debt Reduction Plan'!$F$12:$F$21,Location!A9))","v":0},{"$f":"IF(ISBLANK(INDEX('Debt Reduction Plan'!$F$12:$F$21,Location!A10)),0,INDEX('Debt Reduction Plan'!$F$12:$F$21,Location!A10))","v":0}]
[null,"Months to Pay Off:",null,null,{"$f":"IF(E$7>0,MATCH(0,E$23:E$382,0)-1,0)","v":0},0,0,0,0,0,0,0,0,0]
[null,"Month Paid Off:",null,null,{"$f":"IF(E7>0,INDEX($C$26:$C$530,E10),\"\")","v":""},{"$f":"IF(F7>0,INDEX($C$26:$C$530,F10),\"\")","v":""},"","","","","","","",""]
[null,"Total Interest:",null,null,{"$f":"IF(E382=0,SUM(AM24:AM382),NA())","v":0},0,0,0,0,0,0,0,0,0]
[null,"Error Code:",null,null,{"$f":"IF(E382>0,\">\"&$B$385&\" Payments\",\" . \")","v":" . "}," . "," . "," . "," . "," . "," . "," . "," . "," . "]
[]
[null,"Total Interest:",null,null,null,null,null,null,null,null,null,null,{"$f":"SUM(E12:N12)","v":0}]
[]
[null,"Monthly Payments"]
[null,"This table shows the monthly payments for each debt until it is paid off. The snowball column represents the extra payment that is above and beyond the minimal monthly payments. When a loan is fully paid, that loan's monthly payment is added the snowball and used to pay off the next loan, and so on, until all the loans have been paid off."]
[]
[null,"No.","Month","Snowball",{"$f":"IF(E6>0, E6, \"\")","v":""},"","","","","","","","","",null,null,null,null,null,null,null,null,null,null,null,null,null,"Balance AFTER Payment",null,null,null,null,null,null,null,null,null,null,"Interest",null,null,null,null,null,null,null,null,null,null,null,"Payment Before Snowball",null,null,null,null,null,null,null,null,null,null,null,"Extra Payment"]
[]
[null,null,{"$f":"'Debt Reduction Plan'!D7","v":"00:00:00"},null,null,null,null,null,null,null,null,null,null,null,null,null,null,null,null,null,null,null,null,null,null,null,"END BALANCE",{"$f":"+E6","v":0},0,0,0,0,0,0,0,0,0,null,{"$f":"+E6","v":0},0,0,0,0,0,0,0,0,0,"TOTAL",null,{"$f":"+E6","v":0},0,0,0,0,0,0,0,0,0,"TOTAL",null,{"$f":"+E6","v":0},0,0,0,0,0,0,0,0,0]
[null,{"$f":"IF(SUM(AB23:AK23)<=0,\"\",B22+1)","v":""},{"$f":"IF(C22=\"\",NA(),DATE(YEAR(C22),MONTH(C22)+1,1))","v":"1900-02-01"},{"$f":"IF(($F$4-BI24<0),$F$4,$F$4-BI24)","v":0},{"$f":"+AY24+BK24","v":0},{"$f":"+AZ24+BL24","v":0},0,0,0,0,0,0,0,0,null,null,null,null,null,null,null,null,null,null,null,null,{"$f":"SUM(AB23:AK23)","v":0},{"$f":"E7","v":0},{"$f":"F7","v":0},{"$f":"G7","v":0},{"$f":"H7","v":0},{"$f":"I7","v":0},{"$f":"+J7","v":0},{"$f":"+K7","v":0},{"$f":"+L7","v":0},{"$f":"+M7","v":0},{"$f":"+N7","v":0}]
[null,"",{"$f":"IF(C23=\"\",NA(),DATE(YEAR(C23),MONTH(C23)+1,1))","v":"1900-03-01"},0,{"$f":"+AY25+BK25","v":0},0,0,0,0,0,0,0,0,0,null,null,null,null,null,null,null,null,null,null,null,null,{"$f":"SUM(AB24:AK24)","v":0},{"$f":"IF(E$7=0,0,ROUND(AB23-(E23-AM24),2))","v":0},{"$f":"IF(F$7=0,0,ROUND(AC23-(F23-AN24),2))","v":0},{"$f":"IF(G$7=0,0,ROUND(AD23-(G23-AO24),2))","v":0},{"$f":"IF(H$7=0,0,ROUND(AE23-(H23-AP24),2))","v":0},{"$f":"IF(I$7=0,0,ROUND(AF23-(I23-AQ24),2))","v":0},{"$f":"IF(J$7=0,0,ROUND(AG23-(J23-AR24),2))","v":0},{"$f":"IF(K$7=0,0,ROUND(AH23-(K23-AS24),2))","v":0},{"$f":"IF(L$7=0,0,ROUND(AI23-(L23-AT24),2))","v":0},{"$f":"IF(M$7=0,0,ROUND(AJ23-(M23-AU24),2))","v":0},{"$f":"IF(N$7=0,0,ROUND(AK23-(N23-AV24),2))","v":0},null,{"$f":"IF((AB23=\"-\"),0,ROUND(AB23*E$8/12,2))","v":0},{"$f":"IF((AC23=\"-\"),0,ROUND(AC23*F$8/12,2))","v":0},{"$f":"IF((AD23=\"-\"),0,ROUND(AD23*G$8/12,2))","v":0},{"$f":"IF((AE23=\"-\"),0,ROUND(AE23*H$8/12,2))","v":0},{"$f":"IF((AF23=\"-\"),0,ROUND(AF23*I$8/12,2))","v":0},{"$f":"IF((AG23=\"-\"),0,ROUND(AG23*J$8/12,2))","v":0},{"$f":"IF((AH23=\"-\"),0,ROUND(AH23*K$8/12,2))","v":0},{"$f":"IF((AI23=\"-\"),0,ROUND(AI23*L$8/12,2))","v":0},{"$f":"IF((AJ23=\"-\"),0,ROUND(AJ23*M$8/12,2))","v":0},{"$f":"IF((AK23=\"-\"),0,ROUND(AK23*N$8/12,2))","v":0},{"$f":"SUM(AM24:AV24)","v":0},null,{"$f":"IF(AB23>0,IF((IF(AB23=\"-\",AM24,AB23+AM24))<E$9,IF(AB23=\"-\",AM24,AB23+AM24),E$9),0)","v":0},0,0,0,0,0,0,0,0,0,{"$f":"SUM(AY24:BH24)","v":0},null,{"$f":"IF(AB23<=0,0,IF(AY24+$D23>AB23+AM24,AB23+AM24-AY24,$D23))","v":0},{"$f":"IF(AC23<=0,0,IF($D23<=SUM($BK24:BK24),0,IF(AZ24+$D23-SUM($BK24:BK24)>AC23+AN24,AC23+AN24-AZ24,$D23-SUM($BK24:BK24))))","v":0},{"$f":"IF(AD23<=0,0,IF($D23<=SUM($BK24:BL24),0,IF(BA24+$D23-SUM($BK24:BL24)>AD23+AO24,AD23+AO24-BA24,$D23-SUM($BK24:BL24))))","v":0},{"$f":"IF(AE23<=0,0,IF($D23<=SUM($BK24:BM24),0,IF(BB24+$D23-SUM($BK24:BM24)>AE23+AP24,AE23+AP24-BB24,$D23-SUM($BK24:BM24))))","v":0},{"$f":"IF(AF23<=0,0,IF($D23<=SUM($BK24:BN24),0,IF(BC24+$D23-SUM($BK24:BN24)>AF23+AQ24,AF23+AQ24-BC24,$D23-SUM($BK24:BN24))))","v":0},{"$f":"IF(AG23<=0,0,IF($D23<=SUM($BK24:BO24),0,IF(BD24+$D23-SUM($BK24:BO24)>AG23+AR24,AG23+AR24-BD24,$D23-SUM($BK24:BO24))))","v":0},{"$f":"IF(AH23<=0,0,IF($D23<=SUM($BK24:BP24),0,IF(BE24+$D23-SUM($BK24:BP24)>AH23+AS24,AH23+AS24-BE24,$D23-SUM($BK24:BP24))))","v":0},{"$f":"IF(AI23<=0,0,IF($D23<=SUM($BK24:BQ24),0,IF(BF24+$D23-SUM($BK24:BQ24)>AI23+AT24,AI23+AT24-BF24,$D23-SUM($BK24:BQ24))))","v":0},{"$f":"IF(AJ23<=0,0,IF($D23<=SUM($BK24:BR24),0,IF(BG24+$D23-SUM($BK24:BR24)>AJ23+AU24,AJ23+AU24-BG24,$D23-SUM($BK24:BR24))))","v":0},{"$f":"IF(AK23<=0,0,IF($D23<=SUM($BK24:BS24),0,IF(BH24+$D23-SUM($BK24:BS24)>AK23+AV24,AK23+AV24-BH24,$D23-SUM($BK24:BS24))))","v":0}]
[null,"",{"$f":"IF(C24=\"\",NA(),DATE(YEAR(C24),MONTH(C24)+1,1))","v":"1900-04-01"},0,{"$f":"+AY26+BK26","v":0},0,0,0,0,0,0,0,0,0,null,null,null,null,null,null,null,null,null,null,null,null,{"$f":"SUM(AB25:AK25)","v":0},0,0,0,0,0,0,0,0,0,0,null,0,0,0,0,0,0,0,0,0,0,{"$f":"SUM(AM25:AV25)","v":0},null,{"$f":"IF(AB24>0,IF((AB24+AM25)<E$9,AB24+AM25,E$9),0)","v":0},{"$f":"IF(AC24>0,IF((AC24+AN25)<F$9,AC24+AN25,F$9),0)","v":0},{"$f":"IF(AD24>0,IF((AD24+AO25)<G$9,AD24+AO25,G$9),0)","v":0},{"$f":"IF(AE24>0,IF((AE24+AP25)<H$9,AE24+AP25,H$9),0)","v":0},{"$f":"IF(AF24>0,IF((AF24+AQ25)<I$9,AF24+AQ25,I$9),0)","v":0},{"$f":"IF(AG24>0,IF((AG24+AR25)<J$9,AG24+AR25,J$9),0)","v":0},{"$f":"IF(AH24>0,IF((AH24+AS25)<K$9,AH24+AS25,K$9),0)","v":0},{"$f":"IF(AI24>0,IF((AI24+AT25)<L$9,AI24+AT25,L$9),0)","v":0},{"$f":"IF(AJ24>0,IF((AJ24+AU25)<M$9,AJ24+AU25,M$9),0)","v":0},{"$f":"IF(AK24>0,IF((AK24+AV25)<N$9,AK24+AV25,N$9),0)","v":0},{"$f":"SUM(AY25:BH25)","v":0},null,{"$f":"IF(AB24<=0,0,IF(AY25+$D24>AB24+AM25,AB24+AM25-AY25,$D24))","v":0},{"$f":"IF(AC24<=0,0,IF($D24<=SUM($BK25:BK25),0,IF(AZ25+$D24-SUM($BK25:BK25)>AC24+AN25,AC24+AN25-AZ25,$D24-SUM($BK25:BK25))))","v":0},{"$f":"IF(AD24<=0,0,IF($D24<=SUM($BK25:BL25),0,IF(BA25+$D24-SUM($BK25:BL25)>AD24+AO25,AD24+AO25-BA25,$D24-SUM($BK25:BL25))))","v":0},{"$f":"IF(AE24<=0,0,IF($D24<=SUM($BK25:BM25),0,IF(BB25+$D24-SUM($BK25:BM25)>AE24+AP25,AE24+AP25-BB25,$D24-SUM($BK25:BM25))))","v":0},{"$f":"IF(AF24<=0,0,IF($D24<=SUM($BK25:BN25),0,IF(BC25+$D24-SUM($BK25:BN25)>AF24+AQ25,AF24+AQ25-BC25,$D24-SUM($BK25:BN25))))","v":0},{"$f":"IF(AG24<=0,0,IF($D24<=SUM($BK25:BO25),0,IF(BD25+$D24-SUM($BK25:BO25)>AG24+AR25,AG24+AR25-BD25,$D24-SUM($BK25:BO25))))","v":0},{"$f":"IF(AH24<=0,0,IF($D24<=SUM($BK25:BP25),0,IF(BE25+$D24-SUM($BK25:BP25)>AH24+AS25,AH24+AS25-BE25,$D24-SUM($BK25:BP25))))","v":0},{"$f":"IF(AI24<=0,0,IF($D24<=SUM($BK25:BQ25),0,IF(BF25+$D24-SUM($BK25:BQ25)>AI24+AT25,AI24+AT25-BF25,$D24-SUM($BK25:BQ25))))","v":0},{"$f":"IF(AJ24<=0,0,IF($D24<=SUM($BK25:BR25),0,IF(BG25+$D24-SUM($BK25:BR25)>AJ24+AU25,AJ24+AU25-BG25,$D24-SUM($BK25:BR25))))","v":0},{"$f":"IF(AK24<=0,0,IF($D24<=SUM($BK25:BS25),0,IF(BH25+$D24-SUM($BK25:BS25)>AK24+AV25,AK24+AV25-BH25,$D24-SUM($BK25:BS25))))","v":0}]
[null,"","1900-05-01",0,0,0,0,0,0,0,0,0,0,0,null,null,null,null,null,null,null,null,null,null,null,null,0,0,0,0,0,0,0,0,0,0,0,null,0,0,0,0,0,0,0,0,0,0,0,null,0,0,0,0,0,0,0,0,0,0,0,null,{"$f":"IF(AB25<=0,0,IF(AY26+$D25>AB25+AM26,AB25+AM26-AY26,$D25))","v":0},{"$f":"IF(AC25<=0,0,IF($D25<=SUM($BK26:BK26),0,IF(AZ26+$D25-SUM($BK26:BK26)>AC25+AN26,AC25+AN26-AZ26,$D25-SUM($BK26:BK26))))","v":0},{"$f":"IF(AD25<=0,0,IF($D25<=SUM($BK26:BL26),0,IF(BA26+$D25-SUM($BK26:BL26)>AD25+AO26,AD25+AO26-BA26,$D25-SUM($BK26:BL26))))","v":0},{"$f":"IF(AE25<=0,0,IF($D25<=SUM($BK26:BM26),0,IF(BB26+$D25-SUM($BK26:BM26)>AE25+AP26,AE25+AP26-BB26,$D25-SUM($BK26:BM26))))","v":0},{"$f":"IF(AF25<=0,0,IF($D25<=SUM($BK26:BN26),0,IF(BC26+$D25-SUM($BK26:BN26)>AF25+AQ26,AF25+AQ26-BC26,$D25-SUM($BK26:BN26))))","v":0},{"$f":"IF(AG25<=0,0,IF($D25<=SUM($BK26:BO26),0,IF(BD26+$D25-SUM($BK26:BO26)>AG25+AR26,AG25+AR26-BD26,$D25-SUM($BK26:BO26))))","v":0},{"$f":"IF(AH25<=0,0,IF($D25<=SUM($BK26:BP26),0,IF(BE26+$D25-SUM($BK26:BP26)>AH25+AS26,AH25+AS26-BE26,$D25-SUM($BK26:BP26))))","v":0},{"$f":"IF(AI25<=0,0,IF($D25<=SUM($BK26:BQ26),0,IF(BF26+$D25-SUM($BK26:BQ26)>AI25+AT26,AI25+AT26-BF26,$D25-SUM($BK26:BQ26))))","v":0},{"$f":"IF(AJ25<=0,0,IF($D25<=SUM($BK26:BR26),0,IF(BG26+$D25-SUM($BK26:BR26)>AJ25+AU26,AJ25+AU26-BG26,$D25-SUM($BK26:BR26))))","v":0},{"$f":"IF(AK25<=0,0,IF($D25<=SUM($BK26:BS26),0,IF(BH26+$D25-SUM($BK26:BS26)>AK25+AV26,AK25+AV26-BH26,$D25-SUM($BK26:BS26))))","v":0}]
[null,"","1900-06-01",0,0,0,0,0,0,0,0,0,0,0,null,null,null,null,null,null,null,null,null,null,null,null,0,0,0,0,0,0,0,0,0,0,0,null,0,0,0,0,0,0,0,0,0,0,0,null,0,0,0,0,0,0,0,0,0,0,0,null,0,{"$f":"IF(AC26<=0,0,IF($D26<=SUM($BK27:BK27),0,IF(AZ27+$D26-SUM($BK27:BK27)>AC26+AN27,AC26+AN27-AZ27,$D26-SUM($BK27:BK27))))","v":0},{"$f":"IF(AD26<=0,0,IF($D26<=SUM($BK27:BL27),0,IF(BA27+$D26-SUM($BK27:BL27)>AD26+AO27,AD26+AO27-BA27,$D26-SUM($BK27:BL27))))","v":0},{"$f":"IF(AE26<=0,0,IF($D26<=SUM($BK27:BM27),0,IF(BB27+$D26-SUM($BK27:BM27)>AE26+AP27,AE26+AP27-BB27,$D26-SUM($BK27:BM27))))","v":0},{"$f":"IF(AF26<=0,0,IF($D26<=SUM($BK27:BN27),0,IF(BC27+$D26-SUM($BK27:BN27)>AF26+AQ27,AF26+AQ27-BC27,$D26-SUM($BK27:BN27))))","v":0},{"$f":"IF(AG26<=0,0,IF($D26<=SUM($BK27:BO27),0,IF(BD27+$D26-SUM($BK27:BO27)>AG26+AR27,AG26+AR27-BD27,$D26-SUM($BK27:BO27))))","v":0},{"$f":"IF(AH26<=0,0,IF($D26<=SUM($BK27:BP27),0,IF(BE27+$D26-SUM($BK27:BP27)>AH26+AS27,AH26+AS27-BE27,$D26-SUM($BK27:BP27))))","v":0},{"$f":"IF(AI26<=0,0,IF($D26<=SUM($BK27:BQ27),0,IF(BF27+$D26-SUM($BK27:BQ27)>AI26+AT27,AI26+AT27-BF27,$D26-SUM($BK27:BQ27))))","v":0},{"$f":"IF(AJ26<=0,0,IF($D26<=SUM($BK27:BR27),0,IF(BG27+$D26-SUM($BK27:BR27)>AJ26+AU27,AJ26+AU27-BG27,$D26-SUM($BK27:BR27))))","v":0},{"$f":"IF(AK26<=0,0,IF($D26<=SUM($BK27:BS27),0,IF(BH27+$D26-SUM($BK27:BS27)>AK26+AV27,AK26+AV27-BH27,$D26-SUM($BK27:BS27))))","v":0}]
[null,"","1900-07-01",0,0,0,0,0,0,0,0,0,0,0,null,null,null,null,null,null,null,null,null,null,null,null,0,0,0,0,0,0,0,0,0,0,0,null,0,0,0,0,0,0,0,0,0,0,0,null,0,0,0,0,0,0,0,0,0,0,0,null,0,{"$f":"IF(AC27<=0,0,IF($D27<=SUM($BK28:BK28),0,IF(AZ28+$D27-SUM($BK28:BK28)>AC27+AN28,AC27+AN28-AZ28,$D27-SUM($BK28:BK28))))","v":0},{"$f":"IF(AD27<=0,0,IF($D27<=SUM($BK28:BL28),0,IF(BA28+$D27-SUM($BK28:BL28)>AD27+AO28,AD27+AO28-BA28,$D27-SUM($BK28:BL28))))","v":0},{"$f":"IF(AE27<=0,0,IF($D27<=SUM($BK28:BM28),0,IF(BB28+$D27-SUM($BK28:BM28)>AE27+AP28,AE27+AP28-BB28,$D27-SUM($BK28:BM28))))","v":0},{"$f":"IF(AF27<=0,0,IF($D27<=SUM($BK28:BN28),0,IF(BC28+$D27-SUM($BK28:BN28)>AF27+AQ28,AF27+AQ28-BC28,$D27-SUM($BK28:BN28))))","v":0},{"$f":"IF(AG27<=0,0,IF($D27<=SUM($BK28:BO28),0,IF(BD28+$D27-SUM($BK28:BO28)>AG27+AR28,AG27+AR28-BD28,$D27-SUM($BK28:BO28))))","v":0},{"$f":"IF(AH27<=0,0,IF($D27<=SUM($BK28:BP28),0,IF(BE28+$D27-SUM($BK28:BP28)>AH27+AS28,AH27+AS28-BE28,$D27-SUM($BK28:BP28))))","v":0},{"$f":"IF(AI27<=0,0,IF($D27<=SUM($BK28:BQ28),0,IF(BF28+$D27-SUM($BK28:BQ28)>AI27+AT28,AI27+AT28-BF28,$D27-SUM($BK28:BQ28))))","v":0},{"$f":"IF(AJ27<=0,0,IF($D27<=SUM($BK28:BR28),0,IF(BG28+$D27-SUM($BK28:BR28)>AJ27+AU28,AJ27+AU28-BG28,$D27-SUM($BK28:BR28))))","v":0},{"$f":"IF(AK27<=0,0,IF($D27<=SUM($BK28:BS28),0,IF(BH28+$D27-SUM($BK28:BS28)>AK27+AV28,AK27+AV28-BH28,$D27-SUM($BK28:BS28))))","v":0}]
[null,"","1900-08-01",0,0,0,0,0,0,0,0,0,0,0,null,null,null,null,null,null,null,null,null,null,null,null,0,0,0,0,0,0,0,0,0,0,0,null,0,0,0,0,0,0,0,0,0,0,0,null,0,0,0,0,0,0,0,0,0,0,0,null,0,{"$f":"IF(AC28<=0,0,IF($D28<=SUM($BK29:BK29),0,IF(AZ29+$D28-SUM($BK29:BK29)>AC28+AN29,AC28+AN29-AZ29,$D28-SUM($BK29:BK29))))","v":0},{"$f":"IF(AD28<=0,0,IF($D28<=SUM($BK29:BL29),0,IF(BA29+$D28-SUM($BK29:BL29)>AD28+AO29,AD28+AO29-BA29,$D28-SUM($BK29:BL29))))","v":0},{"$f":"IF(AE28<=0,0,IF($D28<=SUM($BK29:BM29),0,IF(BB29+$D28-SUM($BK29:BM29)>AE28+AP29,AE28+AP29-BB29,$D28-SUM($BK29:BM29))))","v":0},{"$f":"IF(AF28<=0,0,IF($D28<=SUM($BK29:BN29),0,IF(BC29+$D28-SUM($BK29:BN29)>AF28+AQ29,AF28+AQ29-BC29,$D28-SUM($BK29:BN29))))","v":0},{"$f":"IF(AG28<=0,0,IF($D28<=SUM($BK29:BO29),0,IF(BD29+$D28-SUM($BK29:BO29)>AG28+AR29,AG28+AR29-BD29,$D28-SUM($BK29:BO29))))","v":0},{"$f":"IF(AH28<=0,0,IF($D28<=SUM($BK29:BP29),0,IF(BE29+$D28-SUM($BK29:BP29)>AH28+AS29,AH28+AS29-BE29,$D28-SUM($BK29:BP29))))","v":0},{"$f":"IF(AI28<=0,0,IF($D28<=SUM($BK29:BQ29),0,IF(BF29+$D28-SUM($BK29:BQ29)>AI28+AT29,AI28+AT29-BF29,$D28-SUM($BK29:BQ29))))","v":0},{"$f":"IF(AJ28<=0,0,IF($D28<=SUM($BK29:BR29),0,IF(BG29+$D28-SUM($BK29:BR29)>AJ28+AU29,AJ28+AU29-BG29,$D28-SUM($BK29:BR29))))","v":0},{"$f":"IF(AK28<=0,0,IF($D28<=SUM($BK29:BS29),0,IF(BH29+$D28-SUM($BK29:BS29)>AK28+AV29,AK28+AV29-BH29,$D28-SUM($BK29:BS29))))","v":0}]
[null,"","1900-09-01",0,0,0,0,0,0,0,0,0,0,0,null,null,null,null,null,null,null,null,null,null,null,null,0,0,0,0,0,0,0,0,0,0,0,null,0,0,0,0,0,0,0,0,0,0,0,null,0,0,0,0,0,0,0,0,0,0,0,null,0,{"$f":"IF(AC29<=0,0,IF($D29<=SUM($BK30:BK30),0,IF(AZ30+$D29-SUM($BK30:BK30)>AC29+AN30,AC29+AN30-AZ30,$D29-SUM($BK30:BK30))))","v":0},{"$f":"IF(AD29<=0,0,IF($D29<=SUM($BK30:BL30),0,IF(BA30+$D29-SUM($BK30:BL30)>AD29+AO30,AD29+AO30-BA30,$D29-SUM($BK30:BL30))))","v":0},{"$f":"IF(AE29<=0,0,IF($D29<=SUM($BK30:BM30),0,IF(BB30+$D29-SUM($BK30:BM30)>AE29+AP30,AE29+AP30-BB30,$D29-SUM($BK30:BM30))))","v":0},{"$f":"IF(AF29<=0,0,IF($D29<=SUM($BK30:BN30),0,IF(BC30+$D29-SUM($BK30:BN30)>AF29+AQ30,AF29+AQ30-BC30,$D29-SUM($BK30:BN30))))","v":0},{"$f":"IF(AG29<=0,0,IF($D29<=SUM($BK30:BO30),0,IF(BD30+$D29-SUM($BK30:BO30)>AG29+AR30,AG29+AR30-BD30,$D29-SUM($BK30:BO30))))","v":0},{"$f":"IF(AH29<=0,0,IF($D29<=SUM($BK30:BP30),0,IF(BE30+$D29-SUM($BK30:BP30)>AH29+AS30,AH29+AS30-BE30,$D29-SUM($BK30:BP30))))","v":0},{"$f":"IF(AI29<=0,0,IF($D29<=SUM($BK30:BQ30),0,IF(BF30+$D29-SUM($BK30:BQ30)>AI29+AT30,AI29+AT30-BF30,$D29-SUM($BK30:BQ30))))","v":0},{"$f":"IF(AJ29<=0,0,IF($D29<=SUM($BK30:BR30),0,IF(BG30+$D29-SUM($BK30:BR30)>AJ29+AU30,AJ29+AU30-BG30,$D29-SUM($BK30:BR30))))","v":0},{"$f":"IF(AK29<=0,0,IF($D29<=SUM($BK30:BS30),0,IF(BH30+$D29-SUM($BK30:BS30)>AK29+AV30,AK29+AV30-BH30,$D29-SUM($BK30:BS30))))","v":0}]
[null,"","1900-10-01",0,0,0,0,0,0,0,0,0,0,0,null,null,null,null,null,null,null,null,null,null,null,null,0,0,0,0,0,0,0,0,0,0,0,null,0,0,0,0,0,0,0,0,0,0,0,null,0,0,0,0,0,0,0,0,0,0,0,null,0,{"$f":"IF(AC30<=0,0,IF($D30<=SUM($BK31:BK31),0,IF(AZ31+$D30-SUM($BK31:BK31)>AC30+AN31,AC30+AN31-AZ31,$D30-SUM($BK31:BK31))))","v":0},{"$f":"IF(AD30<=0,0,IF($D30<=SUM($BK31:BL31),0,IF(BA31+$D30-SUM($BK31:BL31)>AD30+AO31,AD30+AO31-BA31,$D30-SUM($BK31:BL31))))","v":0},{"$f":"IF(AE30<=0,0,IF($D30<=SUM($BK31:BM31),0,IF(BB31+$D30-SUM($BK31:BM31)>AE30+AP31,AE30+AP31-BB31,$D30-SUM($BK31:BM31))))","v":0},{"$f":"IF(AF30<=0,0,IF($D30<=SUM($BK31:BN31),0,IF(BC31+$D30-SUM($BK31:BN31)>AF30+AQ31,AF30+AQ31-BC31,$D30-SUM($BK31:BN31))))","v":0},{"$f":"IF(AG30<=0,0,IF($D30<=SUM($BK31:BO31),0,IF(BD31+$D30-SUM($BK31:BO31)>AG30+AR31,AG30+AR31-BD31,$D30-SUM($BK31:BO31))))","v":0},{"$f":"IF(AH30<=0,0,IF($D30<=SUM($BK31:BP31),0,IF(BE31+$D30-SUM($BK31:BP31)>AH30+AS31,AH30+AS31-BE31,$D30-SUM($BK31:BP31))))","v":0},{"$f":"IF(AI30<=0,0,IF($D30<=SUM($BK31:BQ31),0,IF(BF31+$D30-SUM($BK31:BQ31)>AI30+AT31,AI30+AT31-BF31,$D30-SUM($BK31:BQ31))))","v":0},{"$f":"IF(AJ30<=0,0,IF($D30<=SUM($BK31:BR31),0,IF(BG31+$D30-SUM($BK31:BR31)>AJ30+AU31,AJ30+AU31-BG31,$D30-SUM($BK31:BR31))))","v":0},{"$f":"IF(AK30<=0,0,IF($D30<=SUM($BK31:BS31),0,IF(BH31+$D30-SUM($BK31:BS31)>AK30+AV31,AK30+AV31-BH31,$D30-SUM($BK31:BS31))))","v":0}]
[null,"","1900-11-01",0,0,0,0,0,0,0,0,0,0,0,null,null,null,null,null,null,null,null,null,null,null,null,0,0,0,0,0,0,0,0,0,0,0,null,0,0,0,0,0,0,0,0,0,0,0,null,0,0,0,0,0,0,0,0,0,0,0,null,0,{"$f":"IF(AC31<=0,0,IF($D31<=SUM($BK32:BK32),0,IF(AZ32+$D31-SUM($BK32:BK32)>AC31+AN32,AC31+AN32-AZ32,$D31-SUM($BK32:BK32))))","v":0},{"$f":"IF(AD31<=0,0,IF($D31<=SUM($BK32:BL32),0,IF(BA32+$D31-SUM($BK32:BL32)>AD31+AO32,AD31+AO32-BA32,$D31-SUM($BK32:BL32))))","v":0},{"$f":"IF(AE31<=0,0,IF($D31<=SUM($BK32:BM32),0,IF(BB32+$D31-SUM($BK32:BM32)>AE31+AP32,AE31+AP32-BB32,$D31-SUM($BK32:BM32))))","v":0},{"$f":"IF(AF31<=0,0,IF($D31<=SUM($BK32:BN32),0,IF(BC32+$D31-SUM($BK32:BN32)>AF31+AQ32,AF31+AQ32-BC32,$D31-SUM($BK32:BN32))))","v":0},{"$f":"IF(AG31<=0,0,IF($D31<=SUM($BK32:BO32),0,IF(BD32+$D31-SUM($BK32:BO32)>AG31+AR32,AG31+AR32-BD32,$D31-SUM($BK32:BO32))))","v":0},{"$f":"IF(AH31<=0,0,IF($D31<=SUM($BK32:BP32),0,IF(BE32+$D31-SUM($BK32:BP32)>AH31+AS32,AH31+AS32-BE32,$D31-SUM($BK32:BP32))))","v":0},{"$f":"IF(AI31<=0,0,IF($D31<=SUM($BK32:BQ32),0,IF(BF32+$D31-SUM($BK32:BQ32)>AI31+AT32,AI31+AT32-BF32,$D31-SUM($BK32:BQ32))))","v":0},{"$f":"IF(AJ31<=0,0,IF($D31<=SUM($BK32:BR32),0,IF(BG32+$D31-SUM($BK32:BR32)>AJ31+AU32,AJ31+AU32-BG32,$D31-SUM($BK32:BR32))))","v":0},{"$f":"IF(AK31<=0,0,IF($D31<=SUM($BK32:BS32),0,IF(BH32+$D31-SUM($BK32:BS32)>AK31+AV32,AK31+AV32-BH32,$D31-SUM($BK32:BS32))))","v":0}]
[null,"","1900-12-01",0,0,0,0,0,0,0,0,0,0,0,null,null,null,null,null,null,null,null,null,null,null,null,0,0,0,0,0,0,0,0,0,0,0,null,0,0,0,0,0,0,0,0,0,0,0,null,0,0,0,0,0,0,0,0,0,0,0,null,0,{"$f":"IF(AC32<=0,0,IF($D32<=SUM($BK33:BK33),0,IF(AZ33+$D32-SUM($BK33:BK33)>AC32+AN33,AC32+AN33-AZ33,$D32-SUM($BK33:BK33))))","v":0},{"$f":"IF(AD32<=0,0,IF($D32<=SUM($BK33:BL33),0,IF(BA33+$D32-SUM($BK33:BL33)>AD32+AO33,AD32+AO33-BA33,$D32-SUM($BK33:BL33))))","v":0},{"$f":"IF(AE32<=0,0,IF($D32<=SUM($BK33:BM33),0,IF(BB33+$D32-SUM($BK33:BM33)>AE32+AP33,AE32+AP33-BB33,$D32-SUM($BK33:BM33))))","v":0},{"$f":"IF(AF32<=0,0,IF($D32<=SUM($BK33:BN33),0,IF(BC33+$D32-SUM($BK33:BN33)>AF32+AQ33,AF32+AQ33-BC33,$D32-SUM($BK33:BN33))))","v":0},{"$f":"IF(AG32<=0,0,IF($D32<=SUM($BK33:BO33),0,IF(BD33+$D32-SUM($BK33:BO33)>AG32+AR33,AG32+AR33-BD33,$D32-SUM($BK33:BO33))))","v":0},{"$f":"IF(AH32<=0,0,IF($D32<=SUM($BK33:BP33),0,IF(BE33+$D32-SUM($BK33:BP33)>AH32+AS33,AH32+AS33-BE33,$D32-SUM($BK33:BP33))))","v":0},{"$f":"IF(AI32<=0,0,IF($D32<=SUM($BK33:BQ33),0,IF(BF33+$D32-SUM($BK33:BQ33)>AI32+AT33,AI32+AT33-BF33,$D32-SUM($BK33:BQ33))))","v":0},{"$f":"IF(AJ32<=0,0,IF($D32<=SUM($BK33:BR33),0,IF(BG33+$D32-SUM($BK33:BR33)>AJ32+AU33,AJ32+AU33-BG33,$D32-SUM($BK33:BR33))))","v":0},{"$f":"IF(AK32<=0,0,IF($D32<=SUM($BK33:BS33),0,IF(BH33+$D32-SUM($BK33:BS33)>AK32+AV33,AK32+AV33-BH33,$D32-SUM($BK33:BS33))))","v":0}]
[null,"","1901-01-01",0,0,0,0,0,0,0,0,0,0,0,null,null,null,null,null,null,null,null,null,null,null,null,0,0,0,0,0,0,0,0,0,0,0,null,0,0,0,0,0,0,0,0,0,0,0,null,0,0,0,0,0,0,0,0,0,0,0,null,0,{"$f":"IF(AC33<=0,0,IF($D33<=SUM($BK34:BK34),0,IF(AZ34+$D33-SUM($BK34:BK34)>AC33+AN34,AC33+AN34-AZ34,$D33-SUM($BK34:BK34))))","v":0},{"$f":"IF(AD33<=0,0,IF($D33<=SUM($BK34:BL34),0,IF(BA34+$D33-SUM($BK34:BL34)>AD33+AO34,AD33+AO34-BA34,$D33-SUM($BK34:BL34))))","v":0},{"$f":"IF(AE33<=0,0,IF($D33<=SUM($BK34:BM34),0,IF(BB34+$D33-SUM($BK34:BM34)>AE33+AP34,AE33+AP34-BB34,$D33-SUM($BK34:BM34))))","v":0},{"$f":"IF(AF33<=0,0,IF($D33<=SUM($BK34:BN34),0,IF(BC34+$D33-SUM($BK34:BN34)>AF33+AQ34,AF33+AQ34-BC34,$D33-SUM($BK34:BN34))))","v":0},{"$f":"IF(AG33<=0,0,IF($D33<=SUM($BK34:BO34),0,IF(BD34+$D33-SUM($BK34:BO34)>AG33+AR34,AG33+AR34-BD34,$D33-SUM($BK34:BO34))))","v":0},{"$f":"IF(AH33<=0,0,IF($D33<=SUM($BK34:BP34),0,IF(BE34+$D33-SUM($BK34:BP34)>AH33+AS34,AH33+AS34-BE34,$D33-SUM($BK34:BP34))))","v":0},{"$f":"IF(AI33<=0,0,IF($D33<=SUM($BK34:BQ34),0,IF(BF34+$D33-SUM($BK34:BQ34)>AI33+AT34,AI33+AT34-BF34,$D33-SUM($BK34:BQ34))))","v":0},{"$f":"IF(AJ33<=0,0,IF($D33<=SUM($BK34:BR34),0,IF(BG34+$D33-SUM($BK34:BR34)>AJ33+AU34,AJ33+AU34-BG34,$D33-SUM($BK34:BR34))))","v":0},{"$f":"IF(AK33<=0,0,IF($D33<=SUM($BK34:BS34),0,IF(BH34+$D33-SUM($BK34:BS34)>AK33+AV34,AK33+AV34-BH34,$D33-SUM($BK34:BS34))))","v":0}]
[null,"","1901-02-01",0,0,0,0,0,0,0,0,0,0,0,null,null,null,null,null,null,null,null,null,null,null,null,0,0,0,0,0,0,0,0,0,0,0,null,0,0,0,0,0,0,0,0,0,0,0,null,0,0,0,0,0,0,0,0,0,0,0,null,0,{"$f":"IF(AC34<=0,0,IF($D34<=SUM($BK35:BK35),0,IF(AZ35+$D34-SUM($BK35:BK35)>AC34+AN35,AC34+AN35-AZ35,$D34-SUM($BK35:BK35))))","v":0},{"$f":"IF(AD34<=0,0,IF($D34<=SUM($BK35:BL35),0,IF(BA35+$D34-SUM($BK35:BL35)>AD34+AO35,AD34+AO35-BA35,$D34-SUM($BK35:BL35))))","v":0},{"$f":"IF(AE34<=0,0,IF($D34<=SUM($BK35:BM35),0,IF(BB35+$D34-SUM($BK35:BM35)>AE34+AP35,AE34+AP35-BB35,$D34-SUM($BK35:BM35))))","v":0},{"$f":"IF(AF34<=0,0,IF($D34<=SUM($BK35:BN35),0,IF(BC35+$D34-SUM($BK35:BN35)>AF34+AQ35,AF34+AQ35-BC35,$D34-SUM($BK35:BN35))))","v":0},{"$f":"IF(AG34<=0,0,IF($D34<=SUM($BK35:BO35),0,IF(BD35+$D34-SUM($BK35:BO35)>AG34+AR35,AG34+AR35-BD35,$D34-SUM($BK35:BO35))))","v":0},{"$f":"IF(AH34<=0,0,IF($D34<=SUM($BK35:BP35),0,IF(BE35+$D34-SUM($BK35:BP35)>AH34+AS35,AH34+AS35-BE35,$D34-SUM($BK35:BP35))))","v":0},{"$f":"IF(AI34<=0,0,IF($D34<=SUM($BK35:BQ35),0,IF(BF35+$D34-SUM($BK35:BQ35)>AI34+AT35,AI34+AT35-BF35,$D34-SUM($BK35:BQ35))))","v":0},{"$f":"IF(AJ34<=0,0,IF($D34<=SUM($BK35:BR35),0,IF(BG35+$D34-SUM($BK35:BR35)>AJ34+AU35,AJ34+AU35-BG35,$D34-SUM($BK35:BR35))))","v":0},{"$f":"IF(AK34<=0,0,IF($D34<=SUM($BK35:BS35),0,IF(BH35+$D34-SUM($BK35:BS35)>AK34+AV35,AK34+AV35-BH35,$D34-SUM($BK35:BS35))))","v":0}]
[null,"","1901-03-01",0,0,0,0,0,0,0,0,0,0,0,null,null,null,null,null,null,null,null,null,null,null,null,0,0,0,0,0,0,0,0,0,0,0,null,0,0,0,0,0,0,0,0,0,0,0,null,0,0,0,0,0,0,0,0,0,0,0,null,0,{"$f":"IF(AC35<=0,0,IF($D35<=SUM($BK36:BK36),0,IF(AZ36+$D35-SUM($BK36:BK36)>AC35+AN36,AC35+AN36-AZ36,$D35-SUM($BK36:BK36))))","v":0},{"$f":"IF(AD35<=0,0,IF($D35<=SUM($BK36:BL36),0,IF(BA36+$D35-SUM($BK36:BL36)>AD35+AO36,AD35+AO36-BA36,$D35-SUM($BK36:BL36))))","v":0},{"$f":"IF(AE35<=0,0,IF($D35<=SUM($BK36:BM36),0,IF(BB36+$D35-SUM($BK36:BM36)>AE35+AP36,AE35+AP36-BB36,$D35-SUM($BK36:BM36))))","v":0},{"$f":"IF(AF35<=0,0,IF($D35<=SUM($BK36:BN36),0,IF(BC36+$D35-SUM($BK36:BN36)>AF35+AQ36,AF35+AQ36-BC36,$D35-SUM($BK36:BN36))))","v":0},{"$f":"IF(AG35<=0,0,IF($D35<=SUM($BK36:BO36),0,IF(BD36+$D35-SUM($BK36:BO36)>AG35+AR36,AG35+AR36-BD36,$D35-SUM($BK36:BO36))))","v":0},{"$f":"IF(AH35<=0,0,IF($D35<=SUM($BK36:BP36),0,IF(BE36+$D35-SUM($BK36:BP36)>AH35+AS36,AH35+AS36-BE36,$D35-SUM($BK36:BP36))))","v":0},{"$f":"IF(AI35<=0,0,IF($D35<=SUM($BK36:BQ36),0,IF(BF36+$D35-SUM($BK36:BQ36)>AI35+AT36,AI35+AT36-BF36,$D35-SUM($BK36:BQ36))))","v":0},{"$f":"IF(AJ35<=0,0,IF($D35<=SUM($BK36:BR36),0,IF(BG36+$D35-SUM($BK36:BR36)>AJ35+AU36,AJ35+AU36-BG36,$D35-SUM($BK36:BR36))))","v":0},{"$f":"IF(AK35<=0,0,IF($D35<=SUM($BK36:BS36),0,IF(BH36+$D35-SUM($BK36:BS36)>AK35+AV36,AK35+AV36-BH36,$D35-SUM($BK36:BS36))))","v":0}]
[null,"","1901-04-01",0,0,0,0,0,0,0,0,0,0,0,null,null,null,null,null,null,null,null,null,null,null,null,0,0,0,0,0,0,0,0,0,0,0,null,0,0,0,0,0,0,0,0,0,0,0,null,0,0,0,0,0,0,0,0,0,0,0,null,0,{"$f":"IF(AC36<=0,0,IF($D36<=SUM($BK37:BK37),0,IF(AZ37+$D36-SUM($BK37:BK37)>AC36+AN37,AC36+AN37-AZ37,$D36-SUM($BK37:BK37))))","v":0},{"$f":"IF(AD36<=0,0,IF($D36<=SUM($BK37:BL37),0,IF(BA37+$D36-SUM($BK37:BL37)>AD36+AO37,AD36+AO37-BA37,$D36-SUM($BK37:BL37))))","v":0},{"$f":"IF(AE36<=0,0,IF($D36<=SUM($BK37:BM37),0,IF(BB37+$D36-SUM($BK37:BM37)>AE36+AP37,AE36+AP37-BB37,$D36-SUM($BK37:BM37))))","v":0},{"$f":"IF(AF36<=0,0,IF($D36<=SUM($BK37:BN37),0,IF(BC37+$D36-SUM($BK37:BN37)>AF36+AQ37,AF36+AQ37-BC37,$D36-SUM($BK37:BN37))))","v":0},{"$f":"IF(AG36<=0,0,IF($D36<=SUM($BK37:BO37),0,IF(BD37+$D36-SUM($BK37:BO37)>AG36+AR37,AG36+AR37-BD37,$D36-SUM($BK37:BO37))))","v":0},{"$f":"IF(AH36<=0,0,IF($D36<=SUM($BK37:BP37),0,IF(BE37+$D36-SUM($BK37:BP37)>AH36+AS37,AH36+AS37-BE37,$D36-SUM($BK37:BP37))))","v":0},{"$f":"IF(AI36<=0,0,IF($D36<=SUM($BK37:BQ37),0,IF(BF37+$D36-SUM($BK37:BQ37)>AI36+AT37,AI36+AT37-BF37,$D36-SUM($BK37:BQ37))))","v":0},{"$f":"IF(AJ36<=0,0,IF($D36<=SUM($BK37:BR37),0,IF(BG37+$D36-SUM($BK37:BR37)>AJ36+AU37,AJ36+AU37-BG37,$D36-SUM($BK37:BR37))))","v":0},{"$f":"IF(AK36<=0,0,IF($D36<=SUM($BK37:BS37),0,IF(BH37+$D36-SUM($BK37:BS37)>AK36+AV37,AK36+AV37-BH37,$D36-SUM($BK37:BS37))))","v":0}]
[null,"","1901-05-01",0,0,0,0,0,0,0,0,0,0,0,null,null,null,null,null,null,null,null,null,null,null,null,0,0,0,0,0,0,0,0,0,0,0,null,0,0,0,0,0,0,0,0,0,0,0,null,0,0,0,0,0,0,0,0,0,0,0,null,0,{"$f":"IF(AC37<=0,0,IF($D37<=SUM($BK38:BK38),0,IF(AZ38+$D37-SUM($BK38:BK38)>AC37+AN38,AC37+AN38-AZ38,$D37-SUM($BK38:BK38))))","v":0},{"$f":"IF(AD37<=0,0,IF($D37<=SUM($BK38:BL38),0,IF(BA38+$D37-SUM($BK38:BL38)>AD37+AO38,AD37+AO38-BA38,$D37-SUM($BK38:BL38))))","v":0},{"$f":"IF(AE37<=0,0,IF($D37<=SUM($BK38:BM38),0,IF(BB38+$D37-SUM($BK38:BM38)>AE37+AP38,AE37+AP38-BB38,$D37-SUM($BK38:BM38))))","v":0},{"$f":"IF(AF37<=0,0,IF($D37<=SUM($BK38:BN38),0,IF(BC38+$D37-SUM($BK38:BN38)>AF37+AQ38,AF37+AQ38-BC38,$D37-SUM($BK38:BN38))))","v":0},{"$f":"IF(AG37<=0,0,IF($D37<=SUM($BK38:BO38),0,IF(BD38+$D37-SUM($BK38:BO38)>AG37+AR38,AG37+AR38-BD38,$D37-SUM($BK38:BO38))))","v":0},{"$f":"IF(AH37<=0,0,IF($D37<=SUM($BK38:BP38),0,IF(BE38+$D37-SUM($BK38:BP38)>AH37+AS38,AH37+AS38-BE38,$D37-SUM($BK38:BP38))))","v":0},{"$f":"IF(AI37<=0,0,IF($D37<=SUM($BK38:BQ38),0,IF(BF38+$D37-SUM($BK38:BQ38)>AI37+AT38,AI37+AT38-BF38,$D37-SUM($BK38:BQ38))))","v":0},{"$f":"IF(AJ37<=0,0,IF($D37<=SUM($BK38:BR38),0,IF(BG38+$D37-SUM($BK38:BR38)>AJ37+AU38,AJ37+AU38-BG38,$D37-SUM($BK38:BR38))))","v":0},{"$f":"IF(AK37<=0,0,IF($D37<=SUM($BK38:BS38),0,IF(BH38+$D37-SUM($BK38:BS38)>AK37+AV38,AK37+AV38-BH38,$D37-SUM($BK38:BS38))))","v":0}]
[null,"","1901-06-01",0,0,{"$f":"+AZ40+BL40","v":0},{"$f":"+BA40+BM40","v":0},{"$f":"+BB40+BN40","v":0},{"$f":"+BC40+BO40","v":0},{"$f":"+BD40+BP40","v":0},{"$f":"+BE40+BQ40","v":0},{"$f":"+BF40+BR40","v":0},{"$f":"+BG40+BS40","v":0},{"$f":"+BH40+BT40","v":0},null,null,null,null,null,null,null,null,null,null,null,null,0,0,0,0,0,0,0,0,0,0,0,null,0,0,0,0,0,0,0,0,0,0,0,null,0,0,0,0,0,0,0,0,0,0,0,null,0,{"$f":"IF(AC38<=0,0,IF($D38<=SUM($BK39:BK39),0,IF(AZ39+$D38-SUM($BK39:BK39)>AC38+AN39,AC38+AN39-AZ39,$D38-SUM($BK39:BK39))))","v":0},{"$f":"IF(AD38<=0,0,IF($D38<=SUM($BK39:BL39),0,IF(BA39+$D38-SUM($BK39:BL39)>AD38+AO39,AD38+AO39-BA39,$D38-SUM($BK39:BL39))))","v":0},{"$f":"IF(AE38<=0,0,IF($D38<=SUM($BK39:BM39),0,IF(BB39+$D38-SUM($BK39:BM39)>AE38+AP39,AE38+AP39-BB39,$D38-SUM($BK39:BM39))))","v":0},{"$f":"IF(AF38<=0,0,IF($D38<=SUM($BK39:BN39),0,IF(BC39+$D38-SUM($BK39:BN39)>AF38+AQ39,AF38+AQ39-BC39,$D38-SUM($BK39:BN39))))","v":0},{"$f":"IF(AG38<=0,0,IF($D38<=SUM($BK39:BO39),0,IF(BD39+$D38-SUM($BK39:BO39)>AG38+AR39,AG38+AR39-BD39,$D38-SUM($BK39:BO39))))","v":0},{"$f":"IF(AH38<=0,0,IF($D38<=SUM($BK39:BP39),0,IF(BE39+$D38-SUM($BK39:BP39)>AH38+AS39,AH38+AS39-BE39,$D38-SUM($BK39:BP39))))","v":0},{"$f":"IF(AI38<=0,0,IF($D38<=SUM($BK39:BQ39),0,IF(BF39+$D38-SUM($BK39:BQ39)>AI38+AT39,AI38+AT39-BF39,$D38-SUM($BK39:BQ39))))","v":0},{"$f":"IF(AJ38<=0,0,IF($D38<=SUM($BK39:BR39),0,IF(BG39+$D38-SUM($BK39:BR39)>AJ38+AU39,AJ38+AU39-BG39,$D38-SUM($BK39:BR39))))","v":0},{"$f":"IF(AK38<=0,0,IF($D38<=SUM($BK39:BS39),0,IF(BH39+$D38-SUM($BK39:BS39)>AK38+AV39,AK38+AV39-BH39,$D38-SUM($BK39:BS39))))","v":0}]
[null,"","1901-07-01",0,0,0,0,0,0,0,0,0,0,0,null,null,null,null,null,null,null,null,null,null,null,null,0,0,0,0,0,0,0,0,0,0,0,null,0,0,0,0,0,0,0,0,0,0,0,null,0,0,0,0,0,0,0,0,0,0,0,null,0,{"$f":"IF(AC39<=0,0,IF($D39<=SUM($BK40:BK40),0,IF(AZ40+$D39-SUM($BK40:BK40)>AC39+AN40,AC39+AN40-AZ40,$D39-SUM($BK40:BK40))))","v":0},{"$f":"IF(AD39<=0,0,IF($D39<=SUM($BK40:BL40),0,IF(BA40+$D39-SUM($BK40:BL40)>AD39+AO40,AD39+AO40-BA40,$D39-SUM($BK40:BL40))))","v":0},{"$f":"IF(AE39<=0,0,IF($D39<=SUM($BK40:BM40),0,IF(BB40+$D39-SUM($BK40:BM40)>AE39+AP40,AE39+AP40-BB40,$D39-SUM($BK40:BM40))))","v":0},{"$f":"IF(AF39<=0,0,IF($D39<=SUM($BK40:BN40),0,IF(BC40+$D39-SUM($BK40:BN40)>AF39+AQ40,AF39+AQ40-BC40,$D39-SUM($BK40:BN40))))","v":0},{"$f":"IF(AG39<=0,0,IF($D39<=SUM($BK40:BO40),0,IF(BD40+$D39-SUM($BK40:BO40)>AG39+AR40,AG39+AR40-BD40,$D39-SUM($BK40:BO40))))","v":0},{"$f":"IF(AH39<=0,0,IF($D39<=SUM($BK40:BP40),0,IF(BE40+$D39-SUM($BK40:BP40)>AH39+AS40,AH39+AS40-BE40,$D39-SUM($BK40:BP40))))","v":0},{"$f":"IF(AI39<=0,0,IF($D39<=SUM($BK40:BQ40),0,IF(BF40+$D39-SUM($BK40:BQ40)>AI39+AT40,AI39+AT40-BF40,$D39-SUM($BK40:BQ40))))","v":0},{"$f":"IF(AJ39<=0,0,IF($D39<=SUM($BK40:BR40),0,IF(BG40+$D39-SUM($BK40:BR40)>AJ39+AU40,AJ39+AU40-BG40,$D39-SUM($BK40:BR40))))","v":0},{"$f":"IF(AK39<=0,0,IF($D39<=SUM($BK40:BS40),0,IF(BH40+$D39-SUM($BK40:BS40)>AK39+AV40,AK39+AV40-BH40,$D39-SUM($BK40:BS40))))","v":0}]
[null,"","1901-08-01",0,0,0,0,0,0,0,0,0,0,0,null,null,null,null,null,null,null,null,null,null,null,null,0,0,0,0,0,0,0,0,0,0,0,null,0,0,0,0,0,0,0,0,0,0,0,null,0,0,0,0,0,0,0,0,0,0,0,null,0,{"$f":"IF(AC40<=0,0,IF($D40<=SUM($BK41:BK41),0,IF(AZ41+$D40-SUM($BK41:BK41)>AC40+AN41,AC40+AN41-AZ41,$D40-SUM($BK41:BK41))))","v":0},{"$f":"IF(AD40<=0,0,IF($D40<=SUM($BK41:BL41),0,IF(BA41+$D40-SUM($BK41:BL41)>AD40+AO41,AD40+AO41-BA41,$D40-SUM($BK41:BL41))))","v":0},{"$f":"IF(AE40<=0,0,IF($D40<=SUM($BK41:BM41),0,IF(BB41+$D40-SUM($BK41:BM41)>AE40+AP41,AE40+AP41-BB41,$D40-SUM($BK41:BM41))))","v":0},{"$f":"IF(AF40<=0,0,IF($D40<=SUM($BK41:BN41),0,IF(BC41+$D40-SUM($BK41:BN41)>AF40+AQ41,AF40+AQ41-BC41,$D40-SUM($BK41:BN41))))","v":0},{"$f":"IF(AG40<=0,0,IF($D40<=SUM($BK41:BO41),0,IF(BD41+$D40-SUM($BK41:BO41)>AG40+AR41,AG40+AR41-BD41,$D40-SUM($BK41:BO41))))","v":0},{"$f":"IF(AH40<=0,0,IF($D40<=SUM($BK41:BP41),0,IF(BE41+$D40-SUM($BK41:BP41)>AH40+AS41,AH40+AS41-BE41,$D40-SUM($BK41:BP41))))","v":0},{"$f":"IF(AI40<=0,0,IF($D40<=SUM($BK41:BQ41),0,IF(BF41+$D40-SUM($BK41:BQ41)>AI40+AT41,AI40+AT41-BF41,$D40-SUM($BK41:BQ41))))","v":0},{"$f":"IF(AJ40<=0,0,IF($D40<=SUM($BK41:BR41),0,IF(BG41+$D40-SUM($BK41:BR41)>AJ40+AU41,AJ40+AU41-BG41,$D40-SUM($BK41:BR41))))","v":0},{"$f":"IF(AK40<=0,0,IF($D40<=SUM($BK41:BS41),0,IF(BH41+$D40-SUM($BK41:BS41)>AK40+AV41,AK40+AV41-BH41,$D40-SUM($BK41:BS41))))","v":0}]
[null,"","1901-09-01",0,0,0,0,0,0,0,0,0,0,0,null,null,null,null,null,null,null,null,null,null,null,null,0,0,0,0,0,0,0,0,0,0,0,null,0,0,0,0,0,0,0,0,0,0,0,null,0,0,0,0,0,0,0,0,0,0,0,null,0,{"$f":"IF(AC41<=0,0,IF($D41<=SUM($BK42:BK42),0,IF(AZ42+$D41-SUM($BK42:BK42)>AC41+AN42,AC41+AN42-AZ42,$D41-SUM($BK42:BK42))))","v":0},{"$f":"IF(AD41<=0,0,IF($D41<=SUM($BK42:BL42),0,IF(BA42+$D41-SUM($BK42:BL42)>AD41+AO42,AD41+AO42-BA42,$D41-SUM($BK42:BL42))))","v":0},{"$f":"IF(AE41<=0,0,IF($D41<=SUM($BK42:BM42),0,IF(BB42+$D41-SUM($BK42:BM42)>AE41+AP42,AE41+AP42-BB42,$D41-SUM($BK42:BM42))))","v":0},{"$f":"IF(AF41<=0,0,IF($D41<=SUM($BK42:BN42),0,IF(BC42+$D41-SUM($BK42:BN42)>AF41+AQ42,AF41+AQ42-BC42,$D41-SUM($BK42:BN42))))","v":0},{"$f":"IF(AG41<=0,0,IF($D41<=SUM($BK42:BO42),0,IF(BD42+$D41-SUM($BK42:BO42)>AG41+AR42,AG41+AR42-BD42,$D41-SUM($BK42:BO42))))","v":0},{"$f":"IF(AH41<=0,0,IF($D41<=SUM($BK42:BP42),0,IF(BE42+$D41-SUM($BK42:BP42)>AH41+AS42,AH41+AS42-BE42,$D41-SUM($BK42:BP42))))","v":0},{"$f":"IF(AI41<=0,0,IF($D41<=SUM($BK42:BQ42),0,IF(BF42+$D41-SUM($BK42:BQ42)>AI41+AT42,AI41+AT42-BF42,$D41-SUM($BK42:BQ42))))","v":0},{"$f":"IF(AJ41<=0,0,IF($D41<=SUM($BK42:BR42),0,IF(BG42+$D41-SUM($BK42:BR42)>AJ41+AU42,AJ41+AU42-BG42,$D41-SUM($BK42:BR42))))","v":0},{"$f":"IF(AK41<=0,0,IF($D41<=SUM($BK42:BS42),0,IF(BH42+$D41-SUM($BK42:BS42)>AK41+AV42,AK41+AV42-BH42,$D41-SUM($BK42:BS42))))","v":0}]
[null,"","1901-10-01",0,0,0,0,0,0,0,0,0,0,0,null,null,null,null,null,null,null,null,null,null,null,null,0,0,0,0,0,0,0,0,0,0,0,null,0,0,0,0,0,0,0,0,0,0,0,null,0,0,0,0,0,0,0,0,0,0,0,null,0,{"$f":"IF(AC42<=0,0,IF($D42<=SUM($BK43:BK43),0,IF(AZ43+$D42-SUM($BK43:BK43)>AC42+AN43,AC42+AN43-AZ43,$D42-SUM($BK43:BK43))))","v":0},{"$f":"IF(AD42<=0,0,IF($D42<=SUM($BK43:BL43),0,IF(BA43+$D42-SUM($BK43:BL43)>AD42+AO43,AD42+AO43-BA43,$D42-SUM($BK43:BL43))))","v":0},{"$f":"IF(AE42<=0,0,IF($D42<=SUM($BK43:BM43),0,IF(BB43+$D42-SUM($BK43:BM43)>AE42+AP43,AE42+AP43-BB43,$D42-SUM($BK43:BM43))))","v":0},{"$f":"IF(AF42<=0,0,IF($D42<=SUM($BK43:BN43),0,IF(BC43+$D42-SUM($BK43:BN43)>AF42+AQ43,AF42+AQ43-BC43,$D42-SUM($BK43:BN43))))","v":0},{"$f":"IF(AG42<=0,0,IF($D42<=SUM($BK43:BO43),0,IF(BD43+$D42-SUM($BK43:BO43)>AG42+AR43,AG42+AR43-BD43,$D42-SUM($BK43:BO43))))","v":0},{"$f":"IF(AH42<=0,0,IF($D42<=SUM($BK43:BP43),0,IF(BE43+$D42-SUM($BK43:BP43)>AH42+AS43,AH42+AS43-BE43,$D42-SUM($BK43:BP43))))","v":0},{"$f":"IF(AI42<=0,0,IF($D42<=SUM($BK43:BQ43),0,IF(BF43+$D42-SUM($BK43:BQ43)>AI42+AT43,AI42+AT43-BF43,$D42-SUM($BK43:BQ43))))","v":0},{"$f":"IF(AJ42<=0,0,IF($D42<=SUM($BK43:BR43),0,IF(BG43+$D42-SUM($BK43:BR43)>AJ42+AU43,AJ42+AU43-BG43,$D42-SUM($BK43:BR43))))","v":0},{"$f":"IF(AK42<=0,0,IF($D42<=SUM($BK43:BS43),0,IF(BH43+$D42-SUM($BK43:BS43)>AK42+AV43,AK42+AV43-BH43,$D42-SUM($BK43:BS43))))","v":0}]
[null,"","1901-11-01",0,0,0,0,0,0,0,0,0,0,0,null,null,null,null,null,null,null,null,null,null,null,null,0,0,0,0,0,0,0,0,0,0,0,null,0,0,0,0,0,0,0,0,0,0,0,null,0,0,0,0,0,0,0,0,0,0,0,null,0,{"$f":"IF(AC43<=0,0,IF($D43<=SUM($BK44:BK44),0,IF(AZ44+$D43-SUM($BK44:BK44)>AC43+AN44,AC43+AN44-AZ44,$D43-SUM($BK44:BK44))))","v":0},{"$f":"IF(AD43<=0,0,IF($D43<=SUM($BK44:BL44),0,IF(BA44+$D43-SUM($BK44:BL44)>AD43+AO44,AD43+AO44-BA44,$D43-SUM($BK44:BL44))))","v":0},{"$f":"IF(AE43<=0,0,IF($D43<=SUM($BK44:BM44),0,IF(BB44+$D43-SUM($BK44:BM44)>AE43+AP44,AE43+AP44-BB44,$D43-SUM($BK44:BM44))))","v":0},{"$f":"IF(AF43<=0,0,IF($D43<=SUM($BK44:BN44),0,IF(BC44+$D43-SUM($BK44:BN44)>AF43+AQ44,AF43+AQ44-BC44,$D43-SUM($BK44:BN44))))","v":0},{"$f":"IF(AG43<=0,0,IF($D43<=SUM($BK44:BO44),0,IF(BD44+$D43-SUM($BK44:BO44)>AG43+AR44,AG43+AR44-BD44,$D43-SUM($BK44:BO44))))","v":0},{"$f":"IF(AH43<=0,0,IF($D43<=SUM($BK44:BP44),0,IF(BE44+$D43-SUM($BK44:BP44)>AH43+AS44,AH43+AS44-BE44,$D43-SUM($BK44:BP44))))","v":0},{"$f":"IF(AI43<=0,0,IF($D43<=SUM($BK44:BQ44),0,IF(BF44+$D43-SUM($BK44:BQ44)>AI43+AT44,AI43+AT44-BF44,$D43-SUM($BK44:BQ44))))","v":0},{"$f":"IF(AJ43<=0,0,IF($D43<=SUM($BK44:BR44),0,IF(BG44+$D43-SUM($BK44:BR44)>AJ43+AU44,AJ43+AU44-BG44,$D43-SUM($BK44:BR44))))","v":0},{"$f":"IF(AK43<=0,0,IF($D43<=SUM($BK44:BS44),0,IF(BH44+$D43-SUM($BK44:BS44)>AK43+AV44,AK43+AV44-BH44,$D43-SUM($BK44:BS44))))","v":0}]
[null,"","1901-12-01",0,0,0,0,0,0,0,0,0,0,0,null,null,null,null,null,null,null,null,null,null,null,null,0,0,0,0,0,0,0,0,0,0,0,null,0,0,0,0,0,0,0,0,0,0,0,null,0,0,0,0,0,0,0,0,0,0,0,null,0,{"$f":"IF(AC44<=0,0,IF($D44<=SUM($BK45:BK45),0,IF(AZ45+$D44-SUM($BK45:BK45)>AC44+AN45,AC44+AN45-AZ45,$D44-SUM($BK45:BK45))))","v":0},{"$f":"IF(AD44<=0,0,IF($D44<=SUM($BK45:BL45),0,IF(BA45+$D44-SUM($BK45:BL45)>AD44+AO45,AD44+AO45-BA45,$D44-SUM($BK45:BL45))))","v":0},{"$f":"IF(AE44<=0,0,IF($D44<=SUM($BK45:BM45),0,IF(BB45+$D44-SUM($BK45:BM45)>AE44+AP45,AE44+AP45-BB45,$D44-SUM($BK45:BM45))))","v":0},{"$f":"IF(AF44<=0,0,IF($D44<=SUM($BK45:BN45),0,IF(BC45+$D44-SUM($BK45:BN45)>AF44+AQ45,AF44+AQ45-BC45,$D44-SUM($BK45:BN45))))","v":0},{"$f":"IF(AG44<=0,0,IF($D44<=SUM($BK45:BO45),0,IF(BD45+$D44-SUM($BK45:BO45)>AG44+AR45,AG44+AR45-BD45,$D44-SUM($BK45:BO45))))","v":0},{"$f":"IF(AH44<=0,0,IF($D44<=SUM($BK45:BP45),0,IF(BE45+$D44-SUM($BK45:BP45)>AH44+AS45,AH44+AS45-BE45,$D44-SUM($BK45:BP45))))","v":0},{"$f":"IF(AI44<=0,0,IF($D44<=SUM($BK45:BQ45),0,IF(BF45+$D44-SUM($BK45:BQ45)>AI44+AT45,AI44+AT45-BF45,$D44-SUM($BK45:BQ45))))","v":0},{"$f":"IF(AJ44<=0,0,IF($D44<=SUM($BK45:BR45),0,IF(BG45+$D44-SUM($BK45:BR45)>AJ44+AU45,AJ44+AU45-BG45,$D44-SUM($BK45:BR45))))","v":0},{"$f":"IF(AK44<=0,0,IF($D44<=SUM($BK45:BS45),0,IF(BH45+$D44-SUM($BK45:BS45)>AK44+AV45,AK44+AV45-BH45,$D44-SUM($BK45:BS45))))","v":0}]
[null,"","1902-01-01",0,0,0,0,0,0,0,0,0,0,0,null,null,null,null,null,null,null,null,null,null,null,null,0,0,0,0,0,0,0,0,0,0,0,null,0,0,0,0,0,0,0,0,0,0,0,null,0,0,0,0,0,0,0,0,0,0,0,null,0,{"$f":"IF(AC45<=0,0,IF($D45<=SUM($BK46:BK46),0,IF(AZ46+$D45-SUM($BK46:BK46)>AC45+AN46,AC45+AN46-AZ46,$D45-SUM($BK46:BK46))))","v":0},{"$f":"IF(AD45<=0,0,IF($D45<=SUM($BK46:BL46),0,IF(BA46+$D45-SUM($BK46:BL46)>AD45+AO46,AD45+AO46-BA46,$D45-SUM($BK46:BL46))))","v":0},{"$f":"IF(AE45<=0,0,IF($D45<=SUM($BK46:BM46),0,IF(BB46+$D45-SUM($BK46:BM46)>AE45+AP46,AE45+AP46-BB46,$D45-SUM($BK46:BM46))))","v":0},{"$f":"IF(AF45<=0,0,IF($D45<=SUM($BK46:BN46),0,IF(BC46+$D45-SUM($BK46:BN46)>AF45+AQ46,AF45+AQ46-BC46,$D45-SUM($BK46:BN46))))","v":0},{"$f":"IF(AG45<=0,0,IF($D45<=SUM($BK46:BO46),0,IF(BD46+$D45-SUM($BK46:BO46)>AG45+AR46,AG45+AR46-BD46,$D45-SUM($BK46:BO46))))","v":0},{"$f":"IF(AH45<=0,0,IF($D45<=SUM($BK46:BP46),0,IF(BE46+$D45-SUM($BK46:BP46)>AH45+AS46,AH45+AS46-BE46,$D45-SUM($BK46:BP46))))","v":0},{"$f":"IF(AI45<=0,0,IF($D45<=SUM($BK46:BQ46),0,IF(BF46+$D45-SUM($BK46:BQ46)>AI45+AT46,AI45+AT46-BF46,$D45-SUM($BK46:BQ46))))","v":0},{"$f":"IF(AJ45<=0,0,IF($D45<=SUM($BK46:BR46),0,IF(BG46+$D45-SUM($BK46:BR46)>AJ45+AU46,AJ45+AU46-BG46,$D45-SUM($BK46:BR46))))","v":0},{"$f":"IF(AK45<=0,0,IF($D45<=SUM($BK46:BS46),0,IF(BH46+$D45-SUM($BK46:BS46)>AK45+AV46,AK45+AV46-BH46,$D45-SUM($BK46:BS46))))","v":0}]
[null,"","1902-02-01",0,0,0,0,0,0,0,0,0,0,0,null,null,null,null,null,null,null,null,null,null,null,null,0,0,0,0,0,0,0,0,0,0,0,null,0,0,0,0,0,0,0,0,0,0,0,null,0,0,0,0,0,0,0,0,0,0,0,null,0,{"$f":"IF(AC46<=0,0,IF($D46<=SUM($BK47:BK47),0,IF(AZ47+$D46-SUM($BK47:BK47)>AC46+AN47,AC46+AN47-AZ47,$D46-SUM($BK47:BK47))))","v":0},{"$f":"IF(AD46<=0,0,IF($D46<=SUM($BK47:BL47),0,IF(BA47+$D46-SUM($BK47:BL47)>AD46+AO47,AD46+AO47-BA47,$D46-SUM($BK47:BL47))))","v":0},{"$f":"IF(AE46<=0,0,IF($D46<=SUM($BK47:BM47),0,IF(BB47+$D46-SUM($BK47:BM47)>AE46+AP47,AE46+AP47-BB47,$D46-SUM($BK47:BM47))))","v":0},{"$f":"IF(AF46<=0,0,IF($D46<=SUM($BK47:BN47),0,IF(BC47+$D46-SUM($BK47:BN47)>AF46+AQ47,AF46+AQ47-BC47,$D46-SUM($BK47:BN47))))","v":0},{"$f":"IF(AG46<=0,0,IF($D46<=SUM($BK47:BO47),0,IF(BD47+$D46-SUM($BK47:BO47)>AG46+AR47,AG46+AR47-BD47,$D46-SUM($BK47:BO47))))","v":0},{"$f":"IF(AH46<=0,0,IF($D46<=SUM($BK47:BP47),0,IF(BE47+$D46-SUM($BK47:BP47)>AH46+AS47,AH46+AS47-BE47,$D46-SUM($BK47:BP47))))","v":0},{"$f":"IF(AI46<=0,0,IF($D46<=SUM($BK47:BQ47),0,IF(BF47+$D46-SUM($BK47:BQ47)>AI46+AT47,AI46+AT47-BF47,$D46-SUM($BK47:BQ47))))","v":0},{"$f":"IF(AJ46<=0,0,IF($D46<=SUM($BK47:BR47),0,IF(BG47+$D46-SUM($BK47:BR47)>AJ46+AU47,AJ46+AU47-BG47,$D46-SUM($BK47:BR47))))","v":0},{"$f":"IF(AK46<=0,0,IF($D46<=SUM($BK47:BS47),0,IF(BH47+$D46-SUM($BK47:BS47)>AK46+AV47,AK46+AV47-BH47,$D46-SUM($BK47:BS47))))","v":0}]
[null,"","1902-03-01",0,0,0,0,0,0,0,0,0,0,0,null,null,null,null,null,null,null,null,null,null,null,null,0,0,0,0,0,0,0,0,0,0,0,null,0,0,0,0,0,0,0,0,0,0,0,null,0,0,0,0,0,0,0,0,0,0,0,null,0,{"$f":"IF(AC47<=0,0,IF($D47<=SUM($BK48:BK48),0,IF(AZ48+$D47-SUM($BK48:BK48)>AC47+AN48,AC47+AN48-AZ48,$D47-SUM($BK48:BK48))))","v":0},{"$f":"IF(AD47<=0,0,IF($D47<=SUM($BK48:BL48),0,IF(BA48+$D47-SUM($BK48:BL48)>AD47+AO48,AD47+AO48-BA48,$D47-SUM($BK48:BL48))))","v":0},{"$f":"IF(AE47<=0,0,IF($D47<=SUM($BK48:BM48),0,IF(BB48+$D47-SUM($BK48:BM48)>AE47+AP48,AE47+AP48-BB48,$D47-SUM($BK48:BM48))))","v":0},{"$f":"IF(AF47<=0,0,IF($D47<=SUM($BK48:BN48),0,IF(BC48+$D47-SUM($BK48:BN48)>AF47+AQ48,AF47+AQ48-BC48,$D47-SUM($BK48:BN48))))","v":0},{"$f":"IF(AG47<=0,0,IF($D47<=SUM($BK48:BO48),0,IF(BD48+$D47-SUM($BK48:BO48)>AG47+AR48,AG47+AR48-BD48,$D47-SUM($BK48:BO48))))","v":0},{"$f":"IF(AH47<=0,0,IF($D47<=SUM($BK48:BP48),0,IF(BE48+$D47-SUM($BK48:BP48)>AH47+AS48,AH47+AS48-BE48,$D47-SUM($BK48:BP48))))","v":0},{"$f":"IF(AI47<=0,0,IF($D47<=SUM($BK48:BQ48),0,IF(BF48+$D47-SUM($BK48:BQ48)>AI47+AT48,AI47+AT48-BF48,$D47-SUM($BK48:BQ48))))","v":0},{"$f":"IF(AJ47<=0,0,IF($D47<=SUM($BK48:BR48),0,IF(BG48+$D47-SUM($BK48:BR48)>AJ47+AU48,AJ47+AU48-BG48,$D47-SUM($BK48:BR48))))","v":0},{"$f":"IF(AK47<=0,0,IF($D47<=SUM($BK48:BS48),0,IF(BH48+$D47-SUM($BK48:BS48)>AK47+AV48,AK47+AV48-BH48,$D47-SUM($BK48:BS48))))","v":0}]
[null,"","1902-04-01",0,0,0,0,0,0,0,0,0,0,0,null,null,null,null,null,null,null,null,null,null,null,null,0,0,0,0,0,0,0,0,0,0,0,null,0,0,0,0,0,0,0,0,0,0,0,null,0,0,0,0,0,0,0,0,0,0,0,null,0,{"$f":"IF(AC48<=0,0,IF($D48<=SUM($BK49:BK49),0,IF(AZ49+$D48-SUM($BK49:BK49)>AC48+AN49,AC48+AN49-AZ49,$D48-SUM($BK49:BK49))))","v":0},{"$f":"IF(AD48<=0,0,IF($D48<=SUM($BK49:BL49),0,IF(BA49+$D48-SUM($BK49:BL49)>AD48+AO49,AD48+AO49-BA49,$D48-SUM($BK49:BL49))))","v":0},{"$f":"IF(AE48<=0,0,IF($D48<=SUM($BK49:BM49),0,IF(BB49+$D48-SUM($BK49:BM49)>AE48+AP49,AE48+AP49-BB49,$D48-SUM($BK49:BM49))))","v":0},{"$f":"IF(AF48<=0,0,IF($D48<=SUM($BK49:BN49),0,IF(BC49+$D48-SUM($BK49:BN49)>AF48+AQ49,AF48+AQ49-BC49,$D48-SUM($BK49:BN49))))","v":0},{"$f":"IF(AG48<=0,0,IF($D48<=SUM($BK49:BO49),0,IF(BD49+$D48-SUM($BK49:BO49)>AG48+AR49,AG48+AR49-BD49,$D48-SUM($BK49:BO49))))","v":0},{"$f":"IF(AH48<=0,0,IF($D48<=SUM($BK49:BP49),0,IF(BE49+$D48-SUM($BK49:BP49)>AH48+AS49,AH48+AS49-BE49,$D48-SUM($BK49:BP49))))","v":0},{"$f":"IF(AI48<=0,0,IF($D48<=SUM($BK49:BQ49),0,IF(BF49+$D48-SUM($BK49:BQ49)>AI48+AT49,AI48+AT49-BF49,$D48-SUM($BK49:BQ49))))","v":0},{"$f":"IF(AJ48<=0,0,IF($D48<=SUM($BK49:BR49),0,IF(BG49+$D48-SUM($BK49:BR49)>AJ48+AU49,AJ48+AU49-BG49,$D48-SUM($BK49:BR49))))","v":0},{"$f":"IF(AK48<=0,0,IF($D48<=SUM($BK49:BS49),0,IF(BH49+$D48-SUM($BK49:BS49)>AK48+AV49,AK48+AV49-BH49,$D48-SUM($BK49:BS49))))","v":0}]
[null,"","1902-05-01",0,0,0,0,0,0,0,0,0,0,0,null,null,null,null,null,null,null,null,null,null,null,null,0,0,0,0,0,0,0,0,0,0,0,null,0,0,0,0,0,0,0,0,0,0,0,null,0,0,0,0,0,0,0,0,0,0,0,null,0,{"$f":"IF(AC49<=0,0,IF($D49<=SUM($BK50:BK50),0,IF(AZ50+$D49-SUM($BK50:BK50)>AC49+AN50,AC49+AN50-AZ50,$D49-SUM($BK50:BK50))))","v":0},{"$f":"IF(AD49<=0,0,IF($D49<=SUM($BK50:BL50),0,IF(BA50+$D49-SUM($BK50:BL50)>AD49+AO50,AD49+AO50-BA50,$D49-SUM($BK50:BL50))))","v":0},{"$f":"IF(AE49<=0,0,IF($D49<=SUM($BK50:BM50),0,IF(BB50+$D49-SUM($BK50:BM50)>AE49+AP50,AE49+AP50-BB50,$D49-SUM($BK50:BM50))))","v":0},{"$f":"IF(AF49<=0,0,IF($D49<=SUM($BK50:BN50),0,IF(BC50+$D49-SUM($BK50:BN50)>AF49+AQ50,AF49+AQ50-BC50,$D49-SUM($BK50:BN50))))","v":0},{"$f":"IF(AG49<=0,0,IF($D49<=SUM($BK50:BO50),0,IF(BD50+$D49-SUM($BK50:BO50)>AG49+AR50,AG49+AR50-BD50,$D49-SUM($BK50:BO50))))","v":0},{"$f":"IF(AH49<=0,0,IF($D49<=SUM($BK50:BP50),0,IF(BE50+$D49-SUM($BK50:BP50)>AH49+AS50,AH49+AS50-BE50,$D49-SUM($BK50:BP50))))","v":0},{"$f":"IF(AI49<=0,0,IF($D49<=SUM($BK50:BQ50),0,IF(BF50+$D49-SUM($BK50:BQ50)>AI49+AT50,AI49+AT50-BF50,$D49-SUM($BK50:BQ50))))","v":0},{"$f":"IF(AJ49<=0,0,IF($D49<=SUM($BK50:BR50),0,IF(BG50+$D49-SUM($BK50:BR50)>AJ49+AU50,AJ49+AU50-BG50,$D49-SUM($BK50:BR50))))","v":0},{"$f":"IF(AK49<=0,0,IF($D49<=SUM($BK50:BS50),0,IF(BH50+$D49-SUM($BK50:BS50)>AK49+AV50,AK49+AV50-BH50,$D49-SUM($BK50:BS50))))","v":0}]
[null,"","1902-06-01",0,0,0,0,0,0,0,0,0,0,0,null,null,null,null,null,null,null,null,null,null,null,null,0,0,0,0,0,0,0,0,0,0,0,null,0,0,0,0,0,0,0,0,0,0,0,null,0,0,0,0,0,0,0,0,0,0,0,null,0,{"$f":"IF(AC50<=0,0,IF($D50<=SUM($BK51:BK51),0,IF(AZ51+$D50-SUM($BK51:BK51)>AC50+AN51,AC50+AN51-AZ51,$D50-SUM($BK51:BK51))))","v":0},{"$f":"IF(AD50<=0,0,IF($D50<=SUM($BK51:BL51),0,IF(BA51+$D50-SUM($BK51:BL51)>AD50+AO51,AD50+AO51-BA51,$D50-SUM($BK51:BL51))))","v":0},{"$f":"IF(AE50<=0,0,IF($D50<=SUM($BK51:BM51),0,IF(BB51+$D50-SUM($BK51:BM51)>AE50+AP51,AE50+AP51-BB51,$D50-SUM($BK51:BM51))))","v":0},{"$f":"IF(AF50<=0,0,IF($D50<=SUM($BK51:BN51),0,IF(BC51+$D50-SUM($BK51:BN51)>AF50+AQ51,AF50+AQ51-BC51,$D50-SUM($BK51:BN51))))","v":0},{"$f":"IF(AG50<=0,0,IF($D50<=SUM($BK51:BO51),0,IF(BD51+$D50-SUM($BK51:BO51)>AG50+AR51,AG50+AR51-BD51,$D50-SUM($BK51:BO51))))","v":0},{"$f":"IF(AH50<=0,0,IF($D50<=SUM($BK51:BP51),0,IF(BE51+$D50-SUM($BK51:BP51)>AH50+AS51,AH50+AS51-BE51,$D50-SUM($BK51:BP51))))","v":0},{"$f":"IF(AI50<=0,0,IF($D50<=SUM($BK51:BQ51),0,IF(BF51+$D50-SUM($BK51:BQ51)>AI50+AT51,AI50+AT51-BF51,$D50-SUM($BK51:BQ51))))","v":0},{"$f":"IF(AJ50<=0,0,IF($D50<=SUM($BK51:BR51),0,IF(BG51+$D50-SUM($BK51:BR51)>AJ50+AU51,AJ50+AU51-BG51,$D50-SUM($BK51:BR51))))","v":0},{"$f":"IF(AK50<=0,0,IF($D50<=SUM($BK51:BS51),0,IF(BH51+$D50-SUM($BK51:BS51)>AK50+AV51,AK50+AV51-BH51,$D50-SUM($BK51:BS51))))","v":0}]
[null,"","1902-07-01",0,0,0,0,0,0,0,0,0,0,0,null,null,null,null,null,null,null,null,null,null,null,null,0,0,0,0,0,0,0,0,0,0,0,null,0,0,0,0,0,0,0,0,0,0,0,null,0,0,0,0,0,0,0,0,0,0,0,null,0,{"$f":"IF(AC51<=0,0,IF($D51<=SUM($BK52:BK52),0,IF(AZ52+$D51-SUM($BK52:BK52)>AC51+AN52,AC51+AN52-AZ52,$D51-SUM($BK52:BK52))))","v":0},{"$f":"IF(AD51<=0,0,IF($D51<=SUM($BK52:BL52),0,IF(BA52+$D51-SUM($BK52:BL52)>AD51+AO52,AD51+AO52-BA52,$D51-SUM($BK52:BL52))))","v":0},{"$f":"IF(AE51<=0,0,IF($D51<=SUM($BK52:BM52),0,IF(BB52+$D51-SUM($BK52:BM52)>AE51+AP52,AE51+AP52-BB52,$D51-SUM($BK52:BM52))))","v":0},{"$f":"IF(AF51<=0,0,IF($D51<=SUM($BK52:BN52),0,IF(BC52+$D51-SUM($BK52:BN52)>AF51+AQ52,AF51+AQ52-BC52,$D51-SUM($BK52:BN52))))","v":0},{"$f":"IF(AG51<=0,0,IF($D51<=SUM($BK52:BO52),0,IF(BD52+$D51-SUM($BK52:BO52)>AG51+AR52,AG51+AR52-BD52,$D51-SUM($BK52:BO52))))","v":0},{"$f":"IF(AH51<=0,0,IF($D51<=SUM($BK52:BP52),0,IF(BE52+$D51-SUM($BK52:BP52)>AH51+AS52,AH51+AS52-BE52,$D51-SUM($BK52:BP52))))","v":0},{"$f":"IF(AI51<=0,0,IF($D51<=SUM($BK52:BQ52),0,IF(BF52+$D51-SUM($BK52:BQ52)>AI51+AT52,AI51+AT52-BF52,$D51-SUM($BK52:BQ52))))","v":0},{"$f":"IF(AJ51<=0,0,IF($D51<=SUM($BK52:BR52),0,IF(BG52+$D51-SUM($BK52:BR52)>AJ51+AU52,AJ51+AU52-BG52,$D51-SUM($BK52:BR52))))","v":0},{"$f":"IF(AK51<=0,0,IF($D51<=SUM($BK52:BS52),0,IF(BH52+$D51-SUM($BK52:BS52)>AK51+AV52,AK51+AV52-BH52,$D51-SUM($BK52:BS52))))","v":0}]
[null,"","1902-08-01",0,0,0,0,0,0,0,0,0,0,0,null,null,null,null,null,null,null,null,null,null,null,null,0,0,0,0,0,0,0,0,0,0,0,null,0,0,0,0,0,0,0,0,0,0,0,null,0,0,0,0,0,0,0,0,0,0,0,null,0,{"$f":"IF(AC52<=0,0,IF($D52<=SUM($BK53:BK53),0,IF(AZ53+$D52-SUM($BK53:BK53)>AC52+AN53,AC52+AN53-AZ53,$D52-SUM($BK53:BK53))))","v":0},{"$f":"IF(AD52<=0,0,IF($D52<=SUM($BK53:BL53),0,IF(BA53+$D52-SUM($BK53:BL53)>AD52+AO53,AD52+AO53-BA53,$D52-SUM($BK53:BL53))))","v":0},{"$f":"IF(AE52<=0,0,IF($D52<=SUM($BK53:BM53),0,IF(BB53+$D52-SUM($BK53:BM53)>AE52+AP53,AE52+AP53-BB53,$D52-SUM($BK53:BM53))))","v":0},{"$f":"IF(AF52<=0,0,IF($D52<=SUM($BK53:BN53),0,IF(BC53+$D52-SUM($BK53:BN53)>AF52+AQ53,AF52+AQ53-BC53,$D52-SUM($BK53:BN53))))","v":0},{"$f":"IF(AG52<=0,0,IF($D52<=SUM($BK53:BO53),0,IF(BD53+$D52-SUM($BK53:BO53)>AG52+AR53,AG52+AR53-BD53,$D52-SUM($BK53:BO53))))","v":0},{"$f":"IF(AH52<=0,0,IF($D52<=SUM($BK53:BP53),0,IF(BE53+$D52-SUM($BK53:BP53)>AH52+AS53,AH52+AS53-BE53,$D52-SUM($BK53:BP53))))","v":0},{"$f":"IF(AI52<=0,0,IF($D52<=SUM($BK53:BQ53),0,IF(BF53+$D52-SUM($BK53:BQ53)>AI52+AT53,AI52+AT53-BF53,$D52-SUM($BK53:BQ53))))","v":0},{"$f":"IF(AJ52<=0,0,IF($D52<=SUM($BK53:BR53),0,IF(BG53+$D52-SUM($BK53:BR53)>AJ52+AU53,AJ52+AU53-BG53,$D52-SUM($BK53:BR53))))","v":0},{"$f":"IF(AK52<=0,0,IF($D52<=SUM($BK53:BS53),0,IF(BH53+$D52-SUM($BK53:BS53)>AK52+AV53,AK52+AV53-BH53,$D52-SUM($BK53:BS53))))","v":0}]
[null,"","1902-09-01",0,0,0,0,0,0,0,0,0,0,0,null,null,null,null,null,null,null,null,null,null,null,null,0,0,0,0,0,0,0,0,0,0,0,null,0,0,0,0,0,0,0,0,0,0,0,null,0,0,0,0,0,0,0,0,0,0,0,null,0,{"$f":"IF(AC53<=0,0,IF($D53<=SUM($BK54:BK54),0,IF(AZ54+$D53-SUM($BK54:BK54)>AC53+AN54,AC53+AN54-AZ54,$D53-SUM($BK54:BK54))))","v":0},{"$f":"IF(AD53<=0,0,IF($D53<=SUM($BK54:BL54),0,IF(BA54+$D53-SUM($BK54:BL54)>AD53+AO54,AD53+AO54-BA54,$D53-SUM($BK54:BL54))))","v":0},{"$f":"IF(AE53<=0,0,IF($D53<=SUM($BK54:BM54),0,IF(BB54+$D53-SUM($BK54:BM54)>AE53+AP54,AE53+AP54-BB54,$D53-SUM($BK54:BM54))))","v":0},{"$f":"IF(AF53<=0,0,IF($D53<=SUM($BK54:BN54),0,IF(BC54+$D53-SUM($BK54:BN54)>AF53+AQ54,AF53+AQ54-BC54,$D53-SUM($BK54:BN54))))","v":0},{"$f":"IF(AG53<=0,0,IF($D53<=SUM($BK54:BO54),0,IF(BD54+$D53-SUM($BK54:BO54)>AG53+AR54,AG53+AR54-BD54,$D53-SUM($BK54:BO54))))","v":0},{"$f":"IF(AH53<=0,0,IF($D53<=SUM($BK54:BP54),0,IF(BE54+$D53-SUM($BK54:BP54)>AH53+AS54,AH53+AS54-BE54,$D53-SUM($BK54:BP54))))","v":0},{"$f":"IF(AI53<=0,0,IF($D53<=SUM($BK54:BQ54),0,IF(BF54+$D53-SUM($BK54:BQ54)>AI53+AT54,AI53+AT54-BF54,$D53-SUM($BK54:BQ54))))","v":0},{"$f":"IF(AJ53<=0,0,IF($D53<=SUM($BK54:BR54),0,IF(BG54+$D53-SUM($BK54:BR54)>AJ53+AU54,AJ53+AU54-BG54,$D53-SUM($BK54:BR54))))","v":0},{"$f":"IF(AK53<=0,0,IF($D53<=SUM($BK54:BS54),0,IF(BH54+$D53-SUM($BK54:BS54)>AK53+AV54,AK53+AV54-BH54,$D53-SUM($BK54:BS54))))","v":0}]
[null,"","1902-10-01",0,0,0,0,0,0,0,0,0,0,0,null,null,null,null,null,null,null,null,null,null,null,null,0,0,0,0,0,0,0,0,0,0,0,null,0,0,0,0,0,0,0,0,0,0,0,null,0,0,0,0,0,0,0,0,0,0,0,null,0,{"$f":"IF(AC54<=0,0,IF($D54<=SUM($BK55:BK55),0,IF(AZ55+$D54-SUM($BK55:BK55)>AC54+AN55,AC54+AN55-AZ55,$D54-SUM($BK55:BK55))))","v":0},{"$f":"IF(AD54<=0,0,IF($D54<=SUM($BK55:BL55),0,IF(BA55+$D54-SUM($BK55:BL55)>AD54+AO55,AD54+AO55-BA55,$D54-SUM($BK55:BL55))))","v":0},{"$f":"IF(AE54<=0,0,IF($D54<=SUM($BK55:BM55),0,IF(BB55+$D54-SUM($BK55:BM55)>AE54+AP55,AE54+AP55-BB55,$D54-SUM($BK55:BM55))))","v":0},{"$f":"IF(AF54<=0,0,IF($D54<=SUM($BK55:BN55),0,IF(BC55+$D54-SUM($BK55:BN55)>AF54+AQ55,AF54+AQ55-BC55,$D54-SUM($BK55:BN55))))","v":0},{"$f":"IF(AG54<=0,0,IF($D54<=SUM($BK55:BO55),0,IF(BD55+$D54-SUM($BK55:BO55)>AG54+AR55,AG54+AR55-BD55,$D54-SUM($BK55:BO55))))","v":0},{"$f":"IF(AH54<=0,0,IF($D54<=SUM($BK55:BP55),0,IF(BE55+$D54-SUM($BK55:BP55)>AH54+AS55,AH54+AS55-BE55,$D54-SUM($BK55:BP55))))","v":0},{"$f":"IF(AI54<=0,0,IF($D54<=SUM($BK55:BQ55),0,IF(BF55+$D54-SUM($BK55:BQ55)>AI54+AT55,AI54+AT55-BF55,$D54-SUM($BK55:BQ55))))","v":0},{"$f":"IF(AJ54<=0,0,IF($D54<=SUM($BK55:BR55),0,IF(BG55+$D54-SUM($BK55:BR55)>AJ54+AU55,AJ54+AU55-BG55,$D54-SUM($BK55:BR55))))","v":0},{"$f":"IF(AK54<=0,0,IF($D54<=SUM($BK55:BS55),0,IF(BH55+$D54-SUM($BK55:BS55)>AK54+AV55,AK54+AV55-BH55,$D54-SUM($BK55:BS55))))","v":0}]
[null,"","1902-11-01",0,0,0,0,0,0,0,0,0,0,0,null,null,null,null,null,null,null,null,null,null,null,null,0,0,0,0,0,0,0,0,0,0,0,null,0,0,0,0,0,0,0,0,0,0,0,null,0,0,0,0,0,0,0,0,0,0,0,null,0,{"$f":"IF(AC55<=0,0,IF($D55<=SUM($BK56:BK56),0,IF(AZ56+$D55-SUM($BK56:BK56)>AC55+AN56,AC55+AN56-AZ56,$D55-SUM($BK56:BK56))))","v":0},{"$f":"IF(AD55<=0,0,IF($D55<=SUM($BK56:BL56),0,IF(BA56+$D55-SUM($BK56:BL56)>AD55+AO56,AD55+AO56-BA56,$D55-SUM($BK56:BL56))))","v":0},{"$f":"IF(AE55<=0,0,IF($D55<=SUM($BK56:BM56),0,IF(BB56+$D55-SUM($BK56:BM56)>AE55+AP56,AE55+AP56-BB56,$D55-SUM($BK56:BM56))))","v":0},{"$f":"IF(AF55<=0,0,IF($D55<=SUM($BK56:BN56),0,IF(BC56+$D55-SUM($BK56:BN56)>AF55+AQ56,AF55+AQ56-BC56,$D55-SUM($BK56:BN56))))","v":0},{"$f":"IF(AG55<=0,0,IF($D55<=SUM($BK56:BO56),0,IF(BD56+$D55-SUM($BK56:BO56)>AG55+AR56,AG55+AR56-BD56,$D55-SUM($BK56:BO56))))","v":0},{"$f":"IF(AH55<=0,0,IF($D55<=SUM($BK56:BP56),0,IF(BE56+$D55-SUM($BK56:BP56)>AH55+AS56,AH55+AS56-BE56,$D55-SUM($BK56:BP56))))","v":0},{"$f":"IF(AI55<=0,0,IF($D55<=SUM($BK56:BQ56),0,IF(BF56+$D55-SUM($BK56:BQ56)>AI55+AT56,AI55+AT56-BF56,$D55-SUM($BK56:BQ56))))","v":0},{"$f":"IF(AJ55<=0,0,IF($D55<=SUM($BK56:BR56),0,IF(BG56+$D55-SUM($BK56:BR56)>AJ55+AU56,AJ55+AU56-BG56,$D55-SUM($BK56:BR56))))","v":0},{"$f":"IF(AK55<=0,0,IF($D55<=SUM($BK56:BS56),0,IF(BH56+$D55-SUM($BK56:BS56)>AK55+AV56,AK55+AV56-BH56,$D55-SUM($BK56:BS56))))","v":0}]
[null,"","1902-12-01",0,0,0,0,0,0,0,0,0,0,0,null,null,null,null,null,null,null,null,null,null,null,null,0,0,0,0,0,0,0,0,0,0,0,null,0,0,0,0,0,0,0,0,0,0,0,null,0,0,0,0,0,0,0,0,0,0,0,null,0,{"$f":"IF(AC56<=0,0,IF($D56<=SUM($BK57:BK57),0,IF(AZ57+$D56-SUM($BK57:BK57)>AC56+AN57,AC56+AN57-AZ57,$D56-SUM($BK57:BK57))))","v":0},{"$f":"IF(AD56<=0,0,IF($D56<=SUM($BK57:BL57),0,IF(BA57+$D56-SUM($BK57:BL57)>AD56+AO57,AD56+AO57-BA57,$D56-SUM($BK57:BL57))))","v":0},{"$f":"IF(AE56<=0,0,IF($D56<=SUM($BK57:BM57),0,IF(BB57+$D56-SUM($BK57:BM57)>AE56+AP57,AE56+AP57-BB57,$D56-SUM($BK57:BM57))))","v":0},{"$f":"IF(AF56<=0,0,IF($D56<=SUM($BK57:BN57),0,IF(BC57+$D56-SUM($BK57:BN57)>AF56+AQ57,AF56+AQ57-BC57,$D56-SUM($BK57:BN57))))","v":0},{"$f":"IF(AG56<=0,0,IF($D56<=SUM($BK57:BO57),0,IF(BD57+$D56-SUM($BK57:BO57)>AG56+AR57,AG56+AR57-BD57,$D56-SUM($BK57:BO57))))","v":0},{"$f":"IF(AH56<=0,0,IF($D56<=SUM($BK57:BP57),0,IF(BE57+$D56-SUM($BK57:BP57)>AH56+AS57,AH56+AS57-BE57,$D56-SUM($BK57:BP57))))","v":0},{"$f":"IF(AI56<=0,0,IF($D56<=SUM($BK57:BQ57),0,IF(BF57+$D56-SUM($BK57:BQ57)>AI56+AT57,AI56+AT57-BF57,$D56-SUM($BK57:BQ57))))","v":0},{"$f":"IF(AJ56<=0,0,IF($D56<=SUM($BK57:BR57),0,IF(BG57+$D56-SUM($BK57:BR57)>AJ56+AU57,AJ56+AU57-BG57,$D56-SUM($BK57:BR57))))","v":0},{"$f":"IF(AK56<=0,0,IF($D56<=SUM($BK57:BS57),0,IF(BH57+$D56-SUM($BK57:BS57)>AK56+AV57,AK56+AV57-BH57,$D56-SUM($BK57:BS57))))","v":0}]
[null,"","1903-01-01",0,0,0,0,0,0,0,0,0,0,0,null,null,null,null,null,null,null,null,null,null,null,null,0,0,0,0,0,0,0,0,0,0,0,null,0,0,0,0,0,0,0,0,0,0,0,null,0,0,0,0,0,0,0,0,0,0,0,null,0,{"$f":"IF(AC57<=0,0,IF($D57<=SUM($BK58:BK58),0,IF(AZ58+$D57-SUM($BK58:BK58)>AC57+AN58,AC57+AN58-AZ58,$D57-SUM($BK58:BK58))))","v":0},{"$f":"IF(AD57<=0,0,IF($D57<=SUM($BK58:BL58),0,IF(BA58+$D57-SUM($BK58:BL58)>AD57+AO58,AD57+AO58-BA58,$D57-SUM($BK58:BL58))))","v":0},{"$f":"IF(AE57<=0,0,IF($D57<=SUM($BK58:BM58),0,IF(BB58+$D57-SUM($BK58:BM58)>AE57+AP58,AE57+AP58-BB58,$D57-SUM($BK58:BM58))))","v":0},{"$f":"IF(AF57<=0,0,IF($D57<=SUM($BK58:BN58),0,IF(BC58+$D57-SUM($BK58:BN58)>AF57+AQ58,AF57+AQ58-BC58,$D57-SUM($BK58:BN58))))","v":0},{"$f":"IF(AG57<=0,0,IF($D57<=SUM($BK58:BO58),0,IF(BD58+$D57-SUM($BK58:BO58)>AG57+AR58,AG57+AR58-BD58,$D57-SUM($BK58:BO58))))","v":0},{"$f":"IF(AH57<=0,0,IF($D57<=SUM($BK58:BP58),0,IF(BE58+$D57-SUM($BK58:BP58)>AH57+AS58,AH57+AS58-BE58,$D57-SUM($BK58:BP58))))","v":0},{"$f":"IF(AI57<=0,0,IF($D57<=SUM($BK58:BQ58),0,IF(BF58+$D57-SUM($BK58:BQ58)>AI57+AT58,AI57+AT58-BF58,$D57-SUM($BK58:BQ58))))","v":0},{"$f":"IF(AJ57<=0,0,IF($D57<=SUM($BK58:BR58),0,IF(BG58+$D57-SUM($BK58:BR58)>AJ57+AU58,AJ57+AU58-BG58,$D57-SUM($BK58:BR58))))","v":0},{"$f":"IF(AK57<=0,0,IF($D57<=SUM($BK58:BS58),0,IF(BH58+$D57-SUM($BK58:BS58)>AK57+AV58,AK57+AV58-BH58,$D57-SUM($BK58:BS58))))","v":0}]
[null,"","1903-02-01",0,0,0,0,0,0,0,0,0,0,0,null,null,null,null,null,null,null,null,null,null,null,null,0,0,0,0,0,0,0,0,0,0,0,null,0,0,0,0,0,0,0,0,0,0,0,null,0,0,0,0,0,0,0,0,0,0,0,null,0,{"$f":"IF(AC58<=0,0,IF($D58<=SUM($BK59:BK59),0,IF(AZ59+$D58-SUM($BK59:BK59)>AC58+AN59,AC58+AN59-AZ59,$D58-SUM($BK59:BK59))))","v":0},{"$f":"IF(AD58<=0,0,IF($D58<=SUM($BK59:BL59),0,IF(BA59+$D58-SUM($BK59:BL59)>AD58+AO59,AD58+AO59-BA59,$D58-SUM($BK59:BL59))))","v":0},{"$f":"IF(AE58<=0,0,IF($D58<=SUM($BK59:BM59),0,IF(BB59+$D58-SUM($BK59:BM59)>AE58+AP59,AE58+AP59-BB59,$D58-SUM($BK59:BM59))))","v":0},{"$f":"IF(AF58<=0,0,IF($D58<=SUM($BK59:BN59),0,IF(BC59+$D58-SUM($BK59:BN59)>AF58+AQ59,AF58+AQ59-BC59,$D58-SUM($BK59:BN59))))","v":0},{"$f":"IF(AG58<=0,0,IF($D58<=SUM($BK59:BO59),0,IF(BD59+$D58-SUM($BK59:BO59)>AG58+AR59,AG58+AR59-BD59,$D58-SUM($BK59:BO59))))","v":0},{"$f":"IF(AH58<=0,0,IF($D58<=SUM($BK59:BP59),0,IF(BE59+$D58-SUM($BK59:BP59)>AH58+AS59,AH58+AS59-BE59,$D58-SUM($BK59:BP59))))","v":0},{"$f":"IF(AI58<=0,0,IF($D58<=SUM($BK59:BQ59),0,IF(BF59+$D58-SUM($BK59:BQ59)>AI58+AT59,AI58+AT59-BF59,$D58-SUM($BK59:BQ59))))","v":0},{"$f":"IF(AJ58<=0,0,IF($D58<=SUM($BK59:BR59),0,IF(BG59+$D58-SUM($BK59:BR59)>AJ58+AU59,AJ58+AU59-BG59,$D58-SUM($BK59:BR59))))","v":0},{"$f":"IF(AK58<=0,0,IF($D58<=SUM($BK59:BS59),0,IF(BH59+$D58-SUM($BK59:BS59)>AK58+AV59,AK58+AV59-BH59,$D58-SUM($BK59:BS59))))","v":0}]
[null,"","1903-03-01",0,0,0,0,0,0,0,0,0,0,0,null,null,null,null,null,null,null,null,null,null,null,null,0,0,0,0,0,0,0,0,0,0,0,null,0,0,0,0,0,0,0,0,0,0,0,null,0,0,0,0,0,0,0,0,0,0,0,null,0,{"$f":"IF(AC59<=0,0,IF($D59<=SUM($BK60:BK60),0,IF(AZ60+$D59-SUM($BK60:BK60)>AC59+AN60,AC59+AN60-AZ60,$D59-SUM($BK60:BK60))))","v":0},{"$f":"IF(AD59<=0,0,IF($D59<=SUM($BK60:BL60),0,IF(BA60+$D59-SUM($BK60:BL60)>AD59+AO60,AD59+AO60-BA60,$D59-SUM($BK60:BL60))))","v":0},{"$f":"IF(AE59<=0,0,IF($D59<=SUM($BK60:BM60),0,IF(BB60+$D59-SUM($BK60:BM60)>AE59+AP60,AE59+AP60-BB60,$D59-SUM($BK60:BM60))))","v":0},{"$f":"IF(AF59<=0,0,IF($D59<=SUM($BK60:BN60),0,IF(BC60+$D59-SUM($BK60:BN60)>AF59+AQ60,AF59+AQ60-BC60,$D59-SUM($BK60:BN60))))","v":0},{"$f":"IF(AG59<=0,0,IF($D59<=SUM($BK60:BO60),0,IF(BD60+$D59-SUM($BK60:BO60)>AG59+AR60,AG59+AR60-BD60,$D59-SUM($BK60:BO60))))","v":0},{"$f":"IF(AH59<=0,0,IF($D59<=SUM($BK60:BP60),0,IF(BE60+$D59-SUM($BK60:BP60)>AH59+AS60,AH59+AS60-BE60,$D59-SUM($BK60:BP60))))","v":0},{"$f":"IF(AI59<=0,0,IF($D59<=SUM($BK60:BQ60),0,IF(BF60+$D59-SUM($BK60:BQ60)>AI59+AT60,AI59+AT60-BF60,$D59-SUM($BK60:BQ60))))","v":0},{"$f":"IF(AJ59<=0,0,IF($D59<=SUM($BK60:BR60),0,IF(BG60+$D59-SUM($BK60:BR60)>AJ59+AU60,AJ59+AU60-BG60,$D59-SUM($BK60:BR60))))","v":0},{"$f":"IF(AK59<=0,0,IF($D59<=SUM($BK60:BS60),0,IF(BH60+$D59-SUM($BK60:BS60)>AK59+AV60,AK59+AV60-BH60,$D59-SUM($BK60:BS60))))","v":0}]
[null,"","1903-04-01",0,0,0,0,0,0,0,0,0,0,0,null,null,null,null,null,null,null,null,null,null,null,null,0,0,0,0,0,0,0,0,0,0,0,null,0,0,0,0,0,0,0,0,0,0,0,null,0,0,0,0,0,0,0,0,0,0,0,null,0,{"$f":"IF(AC60<=0,0,IF($D60<=SUM($BK61:BK61),0,IF(AZ61+$D60-SUM($BK61:BK61)>AC60+AN61,AC60+AN61-AZ61,$D60-SUM($BK61:BK61))))","v":0},{"$f":"IF(AD60<=0,0,IF($D60<=SUM($BK61:BL61),0,IF(BA61+$D60-SUM($BK61:BL61)>AD60+AO61,AD60+AO61-BA61,$D60-SUM($BK61:BL61))))","v":0},{"$f":"IF(AE60<=0,0,IF($D60<=SUM($BK61:BM61),0,IF(BB61+$D60-SUM($BK61:BM61)>AE60+AP61,AE60+AP61-BB61,$D60-SUM($BK61:BM61))))","v":0},{"$f":"IF(AF60<=0,0,IF($D60<=SUM($BK61:BN61),0,IF(BC61+$D60-SUM($BK61:BN61)>AF60+AQ61,AF60+AQ61-BC61,$D60-SUM($BK61:BN61))))","v":0},{"$f":"IF(AG60<=0,0,IF($D60<=SUM($BK61:BO61),0,IF(BD61+$D60-SUM($BK61:BO61)>AG60+AR61,AG60+AR61-BD61,$D60-SUM($BK61:BO61))))","v":0},{"$f":"IF(AH60<=0,0,IF($D60<=SUM($BK61:BP61),0,IF(BE61+$D60-SUM($BK61:BP61)>AH60+AS61,AH60+AS61-BE61,$D60-SUM($BK61:BP61))))","v":0},{"$f":"IF(AI60<=0,0,IF($D60<=SUM($BK61:BQ61),0,IF(BF61+$D60-SUM($BK61:BQ61)>AI60+AT61,AI60+AT61-BF61,$D60-SUM($BK61:BQ61))))","v":0},{"$f":"IF(AJ60<=0,0,IF($D60<=SUM($BK61:BR61),0,IF(BG61+$D60-SUM($BK61:BR61)>AJ60+AU61,AJ60+AU61-BG61,$D60-SUM($BK61:BR61))))","v":0},{"$f":"IF(AK60<=0,0,IF($D60<=SUM($BK61:BS61),0,IF(BH61+$D60-SUM($BK61:BS61)>AK60+AV61,AK60+AV61-BH61,$D60-SUM($BK61:BS61))))","v":0}]
[null,"","1903-05-01",0,0,0,0,0,0,0,0,0,0,0,null,null,null,null,null,null,null,null,null,null,null,null,0,0,0,0,0,0,0,0,0,0,0,null,0,0,0,0,0,0,0,0,0,0,0,null,0,0,0,0,0,0,0,0,0,0,0,null,0,{"$f":"IF(AC61<=0,0,IF($D61<=SUM($BK62:BK62),0,IF(AZ62+$D61-SUM($BK62:BK62)>AC61+AN62,AC61+AN62-AZ62,$D61-SUM($BK62:BK62))))","v":0},{"$f":"IF(AD61<=0,0,IF($D61<=SUM($BK62:BL62),0,IF(BA62+$D61-SUM($BK62:BL62)>AD61+AO62,AD61+AO62-BA62,$D61-SUM($BK62:BL62))))","v":0},{"$f":"IF(AE61<=0,0,IF($D61<=SUM($BK62:BM62),0,IF(BB62+$D61-SUM($BK62:BM62)>AE61+AP62,AE61+AP62-BB62,$D61-SUM($BK62:BM62))))","v":0},{"$f":"IF(AF61<=0,0,IF($D61<=SUM($BK62:BN62),0,IF(BC62+$D61-SUM($BK62:BN62)>AF61+AQ62,AF61+AQ62-BC62,$D61-SUM($BK62:BN62))))","v":0},{"$f":"IF(AG61<=0,0,IF($D61<=SUM($BK62:BO62),0,IF(BD62+$D61-SUM($BK62:BO62)>AG61+AR62,AG61+AR62-BD62,$D61-SUM($BK62:BO62))))","v":0},{"$f":"IF(AH61<=0,0,IF($D61<=SUM($BK62:BP62),0,IF(BE62+$D61-SUM($BK62:BP62)>AH61+AS62,AH61+AS62-BE62,$D61-SUM($BK62:BP62))))","v":0},{"$f":"IF(AI61<=0,0,IF($D61<=SUM($BK62:BQ62),0,IF(BF62+$D61-SUM($BK62:BQ62)>AI61+AT62,AI61+AT62-BF62,$D61-SUM($BK62:BQ62))))","v":0},{"$f":"IF(AJ61<=0,0,IF($D61<=SUM($BK62:BR62),0,IF(BG62+$D61-SUM($BK62:BR62)>AJ61+AU62,AJ61+AU62-BG62,$D61-SUM($BK62:BR62))))","v":0},{"$f":"IF(AK61<=0,0,IF($D61<=SUM($BK62:BS62),0,IF(BH62+$D61-SUM($BK62:BS62)>AK61+AV62,AK61+AV62-BH62,$D61-SUM($BK62:BS62))))","v":0}]
[null,"","1903-06-01",0,0,0,0,0,0,0,0,0,0,0,null,null,null,null,null,null,null,null,null,null,null,null,0,0,0,0,0,0,0,0,0,0,0,null,0,0,0,0,0,0,0,0,0,0,0,null,0,0,0,0,0,0,0,0,0,0,0,null,0,{"$f":"IF(AC62<=0,0,IF($D62<=SUM($BK63:BK63),0,IF(AZ63+$D62-SUM($BK63:BK63)>AC62+AN63,AC62+AN63-AZ63,$D62-SUM($BK63:BK63))))","v":0},{"$f":"IF(AD62<=0,0,IF($D62<=SUM($BK63:BL63),0,IF(BA63+$D62-SUM($BK63:BL63)>AD62+AO63,AD62+AO63-BA63,$D62-SUM($BK63:BL63))))","v":0},{"$f":"IF(AE62<=0,0,IF($D62<=SUM($BK63:BM63),0,IF(BB63+$D62-SUM($BK63:BM63)>AE62+AP63,AE62+AP63-BB63,$D62-SUM($BK63:BM63))))","v":0},{"$f":"IF(AF62<=0,0,IF($D62<=SUM($BK63:BN63),0,IF(BC63+$D62-SUM($BK63:BN63)>AF62+AQ63,AF62+AQ63-BC63,$D62-SUM($BK63:BN63))))","v":0},{"$f":"IF(AG62<=0,0,IF($D62<=SUM($BK63:BO63),0,IF(BD63+$D62-SUM($BK63:BO63)>AG62+AR63,AG62+AR63-BD63,$D62-SUM($BK63:BO63))))","v":0},{"$f":"IF(AH62<=0,0,IF($D62<=SUM($BK63:BP63),0,IF(BE63+$D62-SUM($BK63:BP63)>AH62+AS63,AH62+AS63-BE63,$D62-SUM($BK63:BP63))))","v":0},{"$f":"IF(AI62<=0,0,IF($D62<=SUM($BK63:BQ63),0,IF(BF63+$D62-SUM($BK63:BQ63)>AI62+AT63,AI62+AT63-BF63,$D62-SUM($BK63:BQ63))))","v":0},{"$f":"IF(AJ62<=0,0,IF($D62<=SUM($BK63:BR63),0,IF(BG63+$D62-SUM($BK63:BR63)>AJ62+AU63,AJ62+AU63-BG63,$D62-SUM($BK63:BR63))))","v":0},{"$f":"IF(AK62<=0,0,IF($D62<=SUM($BK63:BS63),0,IF(BH63+$D62-SUM($BK63:BS63)>AK62+AV63,AK62+AV63-BH63,$D62-SUM($BK63:BS63))))","v":0}]
[null,"","1903-07-01",0,0,0,0,0,0,0,0,0,0,0,null,null,null,null,null,null,null,null,null,null,null,null,0,0,0,0,0,0,0,0,0,0,0,null,0,0,0,0,0,0,0,0,0,0,0,null,0,0,0,0,0,0,0,0,0,0,0,null,0,{"$f":"IF(AC63<=0,0,IF($D63<=SUM($BK64:BK64),0,IF(AZ64+$D63-SUM($BK64:BK64)>AC63+AN64,AC63+AN64-AZ64,$D63-SUM($BK64:BK64))))","v":0},{"$f":"IF(AD63<=0,0,IF($D63<=SUM($BK64:BL64),0,IF(BA64+$D63-SUM($BK64:BL64)>AD63+AO64,AD63+AO64-BA64,$D63-SUM($BK64:BL64))))","v":0},{"$f":"IF(AE63<=0,0,IF($D63<=SUM($BK64:BM64),0,IF(BB64+$D63-SUM($BK64:BM64)>AE63+AP64,AE63+AP64-BB64,$D63-SUM($BK64:BM64))))","v":0},{"$f":"IF(AF63<=0,0,IF($D63<=SUM($BK64:BN64),0,IF(BC64+$D63-SUM($BK64:BN64)>AF63+AQ64,AF63+AQ64-BC64,$D63-SUM($BK64:BN64))))","v":0},{"$f":"IF(AG63<=0,0,IF($D63<=SUM($BK64:BO64),0,IF(BD64+$D63-SUM($BK64:BO64)>AG63+AR64,AG63+AR64-BD64,$D63-SUM($BK64:BO64))))","v":0},{"$f":"IF(AH63<=0,0,IF($D63<=SUM($BK64:BP64),0,IF(BE64+$D63-SUM($BK64:BP64)>AH63+AS64,AH63+AS64-BE64,$D63-SUM($BK64:BP64))))","v":0},{"$f":"IF(AI63<=0,0,IF($D63<=SUM($BK64:BQ64),0,IF(BF64+$D63-SUM($BK64:BQ64)>AI63+AT64,AI63+AT64-BF64,$D63-SUM($BK64:BQ64))))","v":0},{"$f":"IF(AJ63<=0,0,IF($D63<=SUM($BK64:BR64),0,IF(BG64+$D63-SUM($BK64:BR64)>AJ63+AU64,AJ63+AU64-BG64,$D63-SUM($BK64:BR64))))","v":0},{"$f":"IF(AK63<=0,0,IF($D63<=SUM($BK64:BS64),0,IF(BH64+$D63-SUM($BK64:BS64)>AK63+AV64,AK63+AV64-BH64,$D63-SUM($BK64:BS64))))","v":0}]
[null,"","1903-08-01",0,0,0,0,0,0,0,0,0,0,0,null,null,null,null,null,null,null,null,null,null,null,null,0,0,0,0,0,0,0,0,0,0,0,null,0,0,0,0,0,0,0,0,0,0,0,null,0,0,0,0,0,0,0,0,0,0,0,null,0,{"$f":"IF(AC64<=0,0,IF($D64<=SUM($BK65:BK65),0,IF(AZ65+$D64-SUM($BK65:BK65)>AC64+AN65,AC64+AN65-AZ65,$D64-SUM($BK65:BK65))))","v":0},{"$f":"IF(AD64<=0,0,IF($D64<=SUM($BK65:BL65),0,IF(BA65+$D64-SUM($BK65:BL65)>AD64+AO65,AD64+AO65-BA65,$D64-SUM($BK65:BL65))))","v":0},{"$f":"IF(AE64<=0,0,IF($D64<=SUM($BK65:BM65),0,IF(BB65+$D64-SUM($BK65:BM65)>AE64+AP65,AE64+AP65-BB65,$D64-SUM($BK65:BM65))))","v":0},{"$f":"IF(AF64<=0,0,IF($D64<=SUM($BK65:BN65),0,IF(BC65+$D64-SUM($BK65:BN65)>AF64+AQ65,AF64+AQ65-BC65,$D64-SUM($BK65:BN65))))","v":0},{"$f":"IF(AG64<=0,0,IF($D64<=SUM($BK65:BO65),0,IF(BD65+$D64-SUM($BK65:BO65)>AG64+AR65,AG64+AR65-BD65,$D64-SUM($BK65:BO65))))","v":0},{"$f":"IF(AH64<=0,0,IF($D64<=SUM($BK65:BP65),0,IF(BE65+$D64-SUM($BK65:BP65)>AH64+AS65,AH64+AS65-BE65,$D64-SUM($BK65:BP65))))","v":0},{"$f":"IF(AI64<=0,0,IF($D64<=SUM($BK65:BQ65),0,IF(BF65+$D64-SUM($BK65:BQ65)>AI64+AT65,AI64+AT65-BF65,$D64-SUM($BK65:BQ65))))","v":0},{"$f":"IF(AJ64<=0,0,IF($D64<=SUM($BK65:BR65),0,IF(BG65+$D64-SUM($BK65:BR65)>AJ64+AU65,AJ64+AU65-BG65,$D64-SUM($BK65:BR65))))","v":0},{"$f":"IF(AK64<=0,0,IF($D64<=SUM($BK65:BS65),0,IF(BH65+$D64-SUM($BK65:BS65)>AK64+AV65,AK64+AV65-BH65,$D64-SUM($BK65:BS65))))","v":0}]
[null,"","1903-09-01",0,0,0,0,0,0,0,0,0,0,0,null,null,null,null,null,null,null,null,null,null,null,null,0,0,0,0,0,0,0,0,0,0,0,null,0,0,0,0,0,0,0,0,0,0,0,null,0,0,0,0,0,0,0,0,0,0,0,null,0,{"$f":"IF(AC65<=0,0,IF($D65<=SUM($BK66:BK66),0,IF(AZ66+$D65-SUM($BK66:BK66)>AC65+AN66,AC65+AN66-AZ66,$D65-SUM($BK66:BK66))))","v":0},{"$f":"IF(AD65<=0,0,IF($D65<=SUM($BK66:BL66),0,IF(BA66+$D65-SUM($BK66:BL66)>AD65+AO66,AD65+AO66-BA66,$D65-SUM($BK66:BL66))))","v":0},{"$f":"IF(AE65<=0,0,IF($D65<=SUM($BK66:BM66),0,IF(BB66+$D65-SUM($BK66:BM66)>AE65+AP66,AE65+AP66-BB66,$D65-SUM($BK66:BM66))))","v":0},{"$f":"IF(AF65<=0,0,IF($D65<=SUM($BK66:BN66),0,IF(BC66+$D65-SUM($BK66:BN66)>AF65+AQ66,AF65+AQ66-BC66,$D65-SUM($BK66:BN66))))","v":0},{"$f":"IF(AG65<=0,0,IF($D65<=SUM($BK66:BO66),0,IF(BD66+$D65-SUM($BK66:BO66)>AG65+AR66,AG65+AR66-BD66,$D65-SUM($BK66:BO66))))","v":0},{"$f":"IF(AH65<=0,0,IF($D65<=SUM($BK66:BP66),0,IF(BE66+$D65-SUM($BK66:BP66)>AH65+AS66,AH65+AS66-BE66,$D65-SUM($BK66:BP66))))","v":0},{"$f":"IF(AI65<=0,0,IF($D65<=SUM($BK66:BQ66),0,IF(BF66+$D65-SUM($BK66:BQ66)>AI65+AT66,AI65+AT66-BF66,$D65-SUM($BK66:BQ66))))","v":0},{"$f":"IF(AJ65<=0,0,IF($D65<=SUM($BK66:BR66),0,IF(BG66+$D65-SUM($BK66:BR66)>AJ65+AU66,AJ65+AU66-BG66,$D65-SUM($BK66:BR66))))","v":0},{"$f":"IF(AK65<=0,0,IF($D65<=SUM($BK66:BS66),0,IF(BH66+$D65-SUM($BK66:BS66)>AK65+AV66,AK65+AV66-BH66,$D65-SUM($BK66:BS66))))","v":0}]
[null,"","1903-10-01",0,0,0,0,0,0,0,0,0,0,0,null,null,null,null,null,null,null,null,null,null,null,null,0,0,0,0,0,0,0,0,0,0,0,null,0,0,0,0,0,0,0,0,0,0,0,null,0,0,0,0,0,0,0,0,0,0,0,null,0,{"$f":"IF(AC66<=0,0,IF($D66<=SUM($BK67:BK67),0,IF(AZ67+$D66-SUM($BK67:BK67)>AC66+AN67,AC66+AN67-AZ67,$D66-SUM($BK67:BK67))))","v":0},{"$f":"IF(AD66<=0,0,IF($D66<=SUM($BK67:BL67),0,IF(BA67+$D66-SUM($BK67:BL67)>AD66+AO67,AD66+AO67-BA67,$D66-SUM($BK67:BL67))))","v":0},{"$f":"IF(AE66<=0,0,IF($D66<=SUM($BK67:BM67),0,IF(BB67+$D66-SUM($BK67:BM67)>AE66+AP67,AE66+AP67-BB67,$D66-SUM($BK67:BM67))))","v":0},{"$f":"IF(AF66<=0,0,IF($D66<=SUM($BK67:BN67),0,IF(BC67+$D66-SUM($BK67:BN67)>AF66+AQ67,AF66+AQ67-BC67,$D66-SUM($BK67:BN67))))","v":0},{"$f":"IF(AG66<=0,0,IF($D66<=SUM($BK67:BO67),0,IF(BD67+$D66-SUM($BK67:BO67)>AG66+AR67,AG66+AR67-BD67,$D66-SUM($BK67:BO67))))","v":0},{"$f":"IF(AH66<=0,0,IF($D66<=SUM($BK67:BP67),0,IF(BE67+$D66-SUM($BK67:BP67)>AH66+AS67,AH66+AS67-BE67,$D66-SUM($BK67:BP67))))","v":0},{"$f":"IF(AI66<=0,0,IF($D66<=SUM($BK67:BQ67),0,IF(BF67+$D66-SUM($BK67:BQ67)>AI66+AT67,AI66+AT67-BF67,$D66-SUM($BK67:BQ67))))","v":0},{"$f":"IF(AJ66<=0,0,IF($D66<=SUM($BK67:BR67),0,IF(BG67+$D66-SUM($BK67:BR67)>AJ66+AU67,AJ66+AU67-BG67,$D66-SUM($BK67:BR67))))","v":0},{"$f":"IF(AK66<=0,0,IF($D66<=SUM($BK67:BS67),0,IF(BH67+$D66-SUM($BK67:BS67)>AK66+AV67,AK66+AV67-BH67,$D66-SUM($BK67:BS67))))","v":0}]
[null,"","1903-11-01",0,0,0,0,0,0,0,0,0,0,0,null,null,null,null,null,null,null,null,null,null,null,null,0,0,0,0,0,0,0,0,0,0,0,null,0,0,0,0,0,0,0,0,0,0,0,null,0,0,0,0,0,0,0,0,0,0,0,null,0,{"$f":"IF(AC67<=0,0,IF($D67<=SUM($BK68:BK68),0,IF(AZ68+$D67-SUM($BK68:BK68)>AC67+AN68,AC67+AN68-AZ68,$D67-SUM($BK68:BK68))))","v":0},{"$f":"IF(AD67<=0,0,IF($D67<=SUM($BK68:BL68),0,IF(BA68+$D67-SUM($BK68:BL68)>AD67+AO68,AD67+AO68-BA68,$D67-SUM($BK68:BL68))))","v":0},{"$f":"IF(AE67<=0,0,IF($D67<=SUM($BK68:BM68),0,IF(BB68+$D67-SUM($BK68:BM68)>AE67+AP68,AE67+AP68-BB68,$D67-SUM($BK68:BM68))))","v":0},{"$f":"IF(AF67<=0,0,IF($D67<=SUM($BK68:BN68),0,IF(BC68+$D67-SUM($BK68:BN68)>AF67+AQ68,AF67+AQ68-BC68,$D67-SUM($BK68:BN68))))","v":0},{"$f":"IF(AG67<=0,0,IF($D67<=SUM($BK68:BO68),0,IF(BD68+$D67-SUM($BK68:BO68)>AG67+AR68,AG67+AR68-BD68,$D67-SUM($BK68:BO68))))","v":0},{"$f":"IF(AH67<=0,0,IF($D67<=SUM($BK68:BP68),0,IF(BE68+$D67-SUM($BK68:BP68)>AH67+AS68,AH67+AS68-BE68,$D67-SUM($BK68:BP68))))","v":0},{"$f":"IF(AI67<=0,0,IF($D67<=SUM($BK68:BQ68),0,IF(BF68+$D67-SUM($BK68:BQ68)>AI67+AT68,AI67+AT68-BF68,$D67-SUM($BK68:BQ68))))","v":0},{"$f":"IF(AJ67<=0,0,IF($D67<=SUM($BK68:BR68),0,IF(BG68+$D67-SUM($BK68:BR68)>AJ67+AU68,AJ67+AU68-BG68,$D67-SUM($BK68:BR68))))","v":0},{"$f":"IF(AK67<=0,0,IF($D67<=SUM($BK68:BS68),0,IF(BH68+$D67-SUM($BK68:BS68)>AK67+AV68,AK67+AV68-BH68,$D67-SUM($BK68:BS68))))","v":0}]
[null,"","1903-12-01",0,0,0,0,0,0,0,0,0,0,0,null,null,null,null,null,null,null,null,null,null,null,null,0,0,0,0,0,0,0,0,0,0,0,null,0,0,0,0,0,0,0,0,0,0,0,null,0,0,0,0,0,0,0,0,0,0,0,null,0,{"$f":"IF(AC68<=0,0,IF($D68<=SUM($BK69:BK69),0,IF(AZ69+$D68-SUM($BK69:BK69)>AC68+AN69,AC68+AN69-AZ69,$D68-SUM($BK69:BK69))))","v":0},{"$f":"IF(AD68<=0,0,IF($D68<=SUM($BK69:BL69),0,IF(BA69+$D68-SUM($BK69:BL69)>AD68+AO69,AD68+AO69-BA69,$D68-SUM($BK69:BL69))))","v":0},{"$f":"IF(AE68<=0,0,IF($D68<=SUM($BK69:BM69),0,IF(BB69+$D68-SUM($BK69:BM69)>AE68+AP69,AE68+AP69-BB69,$D68-SUM($BK69:BM69))))","v":0},{"$f":"IF(AF68<=0,0,IF($D68<=SUM($BK69:BN69),0,IF(BC69+$D68-SUM($BK69:BN69)>AF68+AQ69,AF68+AQ69-BC69,$D68-SUM($BK69:BN69))))","v":0},{"$f":"IF(AG68<=0,0,IF($D68<=SUM($BK69:BO69),0,IF(BD69+$D68-SUM($BK69:BO69)>AG68+AR69,AG68+AR69-BD69,$D68-SUM($BK69:BO69))))","v":0},{"$f":"IF(AH68<=0,0,IF($D68<=SUM($BK69:BP69),0,IF(BE69+$D68-SUM($BK69:BP69)>AH68+AS69,AH68+AS69-BE69,$D68-SUM($BK69:BP69))))","v":0},{"$f":"IF(AI68<=0,0,IF($D68<=SUM($BK69:BQ69),0,IF(BF69+$D68-SUM($BK69:BQ69)>AI68+AT69,AI68+AT69-BF69,$D68-SUM($BK69:BQ69))))","v":0},{"$f":"IF(AJ68<=0,0,IF($D68<=SUM($BK69:BR69),0,IF(BG69+$D68-SUM($BK69:BR69)>AJ68+AU69,AJ68+AU69-BG69,$D68-SUM($BK69:BR69))))","v":0},{"$f":"IF(AK68<=0,0,IF($D68<=SUM($BK69:BS69),0,IF(BH69+$D68-SUM($BK69:BS69)>AK68+AV69,AK68+AV69-BH69,$D68-SUM($BK69:BS69))))","v":0}]
[null,"","1904-01-01",0,0,0,0,0,0,0,0,0,0,0,null,null,null,null,null,null,null,null,null,null,null,null,0,0,0,0,0,0,0,0,0,0,0,null,0,0,0,0,0,0,0,0,0,0,0,null,0,0,0,0,0,0,0,0,0,0,0,null,0,{"$f":"IF(AC69<=0,0,IF($D69<=SUM($BK70:BK70),0,IF(AZ70+$D69-SUM($BK70:BK70)>AC69+AN70,AC69+AN70-AZ70,$D69-SUM($BK70:BK70))))","v":0},{"$f":"IF(AD69<=0,0,IF($D69<=SUM($BK70:BL70),0,IF(BA70+$D69-SUM($BK70:BL70)>AD69+AO70,AD69+AO70-BA70,$D69-SUM($BK70:BL70))))","v":0},{"$f":"IF(AE69<=0,0,IF($D69<=SUM($BK70:BM70),0,IF(BB70+$D69-SUM($BK70:BM70)>AE69+AP70,AE69+AP70-BB70,$D69-SUM($BK70:BM70))))","v":0},{"$f":"IF(AF69<=0,0,IF($D69<=SUM($BK70:BN70),0,IF(BC70+$D69-SUM($BK70:BN70)>AF69+AQ70,AF69+AQ70-BC70,$D69-SUM($BK70:BN70))))","v":0},{"$f":"IF(AG69<=0,0,IF($D69<=SUM($BK70:BO70),0,IF(BD70+$D69-SUM($BK70:BO70)>AG69+AR70,AG69+AR70-BD70,$D69-SUM($BK70:BO70))))","v":0},{"$f":"IF(AH69<=0,0,IF($D69<=SUM($BK70:BP70),0,IF(BE70+$D69-SUM($BK70:BP70)>AH69+AS70,AH69+AS70-BE70,$D69-SUM($BK70:BP70))))","v":0},{"$f":"IF(AI69<=0,0,IF($D69<=SUM($BK70:BQ70),0,IF(BF70+$D69-SUM($BK70:BQ70)>AI69+AT70,AI69+AT70-BF70,$D69-SUM($BK70:BQ70))))","v":0},{"$f":"IF(AJ69<=0,0,IF($D69<=SUM($BK70:BR70),0,IF(BG70+$D69-SUM($BK70:BR70)>AJ69+AU70,AJ69+AU70-BG70,$D69-SUM($BK70:BR70))))","v":0},{"$f":"IF(AK69<=0,0,IF($D69<=SUM($BK70:BS70),0,IF(BH70+$D69-SUM($BK70:BS70)>AK69+AV70,AK69+AV70-BH70,$D69-SUM($BK70:BS70))))","v":0}]
[null,"","1904-02-01",0,0,0,0,0,0,0,0,0,0,0,null,null,null,null,null,null,null,null,null,null,null,null,0,0,0,0,0,0,0,0,0,0,0,null,0,0,0,0,0,0,0,0,0,0,0,null,0,0,0,0,0,0,0,0,0,0,0,null,0,{"$f":"IF(AC70<=0,0,IF($D70<=SUM($BK71:BK71),0,IF(AZ71+$D70-SUM($BK71:BK71)>AC70+AN71,AC70+AN71-AZ71,$D70-SUM($BK71:BK71))))","v":0},{"$f":"IF(AD70<=0,0,IF($D70<=SUM($BK71:BL71),0,IF(BA71+$D70-SUM($BK71:BL71)>AD70+AO71,AD70+AO71-BA71,$D70-SUM($BK71:BL71))))","v":0},{"$f":"IF(AE70<=0,0,IF($D70<=SUM($BK71:BM71),0,IF(BB71+$D70-SUM($BK71:BM71)>AE70+AP71,AE70+AP71-BB71,$D70-SUM($BK71:BM71))))","v":0},{"$f":"IF(AF70<=0,0,IF($D70<=SUM($BK71:BN71),0,IF(BC71+$D70-SUM($BK71:BN71)>AF70+AQ71,AF70+AQ71-BC71,$D70-SUM($BK71:BN71))))","v":0},{"$f":"IF(AG70<=0,0,IF($D70<=SUM($BK71:BO71),0,IF(BD71+$D70-SUM($BK71:BO71)>AG70+AR71,AG70+AR71-BD71,$D70-SUM($BK71:BO71))))","v":0},{"$f":"IF(AH70<=0,0,IF($D70<=SUM($BK71:BP71),0,IF(BE71+$D70-SUM($BK71:BP71)>AH70+AS71,AH70+AS71-BE71,$D70-SUM($BK71:BP71))))","v":0},{"$f":"IF(AI70<=0,0,IF($D70<=SUM($BK71:BQ71),0,IF(BF71+$D70-SUM($BK71:BQ71)>AI70+AT71,AI70+AT71-BF71,$D70-SUM($BK71:BQ71))))","v":0},{"$f":"IF(AJ70<=0,0,IF($D70<=SUM($BK71:BR71),0,IF(BG71+$D70-SUM($BK71:BR71)>AJ70+AU71,AJ70+AU71-BG71,$D70-SUM($BK71:BR71))))","v":0},{"$f":"IF(AK70<=0,0,IF($D70<=SUM($BK71:BS71),0,IF(BH71+$D70-SUM($BK71:BS71)>AK70+AV71,AK70+AV71-BH71,$D70-SUM($BK71:BS71))))","v":0}]
[null,"","1904-03-01",0,0,0,0,0,0,0,0,0,0,0,null,null,null,null,null,null,null,null,null,null,null,null,0,0,0,0,0,0,0,0,0,0,0,null,0,0,0,0,0,0,0,0,0,0,0,null,0,0,0,0,0,0,0,0,0,0,0,null,0,{"$f":"IF(AC71<=0,0,IF($D71<=SUM($BK72:BK72),0,IF(AZ72+$D71-SUM($BK72:BK72)>AC71+AN72,AC71+AN72-AZ72,$D71-SUM($BK72:BK72))))","v":0},{"$f":"IF(AD71<=0,0,IF($D71<=SUM($BK72:BL72),0,IF(BA72+$D71-SUM($BK72:BL72)>AD71+AO72,AD71+AO72-BA72,$D71-SUM($BK72:BL72))))","v":0},{"$f":"IF(AE71<=0,0,IF($D71<=SUM($BK72:BM72),0,IF(BB72+$D71-SUM($BK72:BM72)>AE71+AP72,AE71+AP72-BB72,$D71-SUM($BK72:BM72))))","v":0},{"$f":"IF(AF71<=0,0,IF($D71<=SUM($BK72:BN72),0,IF(BC72+$D71-SUM($BK72:BN72)>AF71+AQ72,AF71+AQ72-BC72,$D71-SUM($BK72:BN72))))","v":0},{"$f":"IF(AG71<=0,0,IF($D71<=SUM($BK72:BO72),0,IF(BD72+$D71-SUM($BK72:BO72)>AG71+AR72,AG71+AR72-BD72,$D71-SUM($BK72:BO72))))","v":0},{"$f":"IF(AH71<=0,0,IF($D71<=SUM($BK72:BP72),0,IF(BE72+$D71-SUM($BK72:BP72)>AH71+AS72,AH71+AS72-BE72,$D71-SUM($BK72:BP72))))","v":0},{"$f":"IF(AI71<=0,0,IF($D71<=SUM($BK72:BQ72),0,IF(BF72+$D71-SUM($BK72:BQ72)>AI71+AT72,AI71+AT72-BF72,$D71-SUM($BK72:BQ72))))","v":0},{"$f":"IF(AJ71<=0,0,IF($D71<=SUM($BK72:BR72),0,IF(BG72+$D71-SUM($BK72:BR72)>AJ71+AU72,AJ71+AU72-BG72,$D71-SUM($BK72:BR72))))","v":0},{"$f":"IF(AK71<=0,0,IF($D71<=SUM($BK72:BS72),0,IF(BH72+$D71-SUM($BK72:BS72)>AK71+AV72,AK71+AV72-BH72,$D71-SUM($BK72:BS72))))","v":0}]
[null,"","1904-04-01",0,0,0,0,0,0,0,0,0,0,0,null,null,null,null,null,null,null,null,null,null,null,null,0,0,0,0,0,0,0,0,0,0,0,null,0,0,0,0,0,0,0,0,0,0,0,null,0,0,0,0,0,0,0,0,0,0,0,null,0,{"$f":"IF(AC72<=0,0,IF($D72<=SUM($BK73:BK73),0,IF(AZ73+$D72-SUM($BK73:BK73)>AC72+AN73,AC72+AN73-AZ73,$D72-SUM($BK73:BK73))))","v":0},{"$f":"IF(AD72<=0,0,IF($D72<=SUM($BK73:BL73),0,IF(BA73+$D72-SUM($BK73:BL73)>AD72+AO73,AD72+AO73-BA73,$D72-SUM($BK73:BL73))))","v":0},{"$f":"IF(AE72<=0,0,IF($D72<=SUM($BK73:BM73),0,IF(BB73+$D72-SUM($BK73:BM73)>AE72+AP73,AE72+AP73-BB73,$D72-SUM($BK73:BM73))))","v":0},{"$f":"IF(AF72<=0,0,IF($D72<=SUM($BK73:BN73),0,IF(BC73+$D72-SUM($BK73:BN73)>AF72+AQ73,AF72+AQ73-BC73,$D72-SUM($BK73:BN73))))","v":0},{"$f":"IF(AG72<=0,0,IF($D72<=SUM($BK73:BO73),0,IF(BD73+$D72-SUM($BK73:BO73)>AG72+AR73,AG72+AR73-BD73,$D72-SUM($BK73:BO73))))","v":0},{"$f":"IF(AH72<=0,0,IF($D72<=SUM($BK73:BP73),0,IF(BE73+$D72-SUM($BK73:BP73)>AH72+AS73,AH72+AS73-BE73,$D72-SUM($BK73:BP73))))","v":0},{"$f":"IF(AI72<=0,0,IF($D72<=SUM($BK73:BQ73),0,IF(BF73+$D72-SUM($BK73:BQ73)>AI72+AT73,AI72+AT73-BF73,$D72-SUM($BK73:BQ73))))","v":0},{"$f":"IF(AJ72<=0,0,IF($D72<=SUM($BK73:BR73),0,IF(BG73+$D72-SUM($BK73:BR73)>AJ72+AU73,AJ72+AU73-BG73,$D72-SUM($BK73:BR73))))","v":0},{"$f":"IF(AK72<=0,0,IF($D72<=SUM($BK73:BS73),0,IF(BH73+$D72-SUM($BK73:BS73)>AK72+AV73,AK72+AV73-BH73,$D72-SUM($BK73:BS73))))","v":0}]
[null,"","1904-05-01",0,0,0,0,0,0,0,0,0,0,0,null,null,null,null,null,null,null,null,null,null,null,null,0,0,0,0,0,0,0,0,0,0,0,null,0,0,0,0,0,0,0,0,0,0,0,null,0,0,0,0,0,0,0,0,0,0,0,null,0,{"$f":"IF(AC73<=0,0,IF($D73<=SUM($BK74:BK74),0,IF(AZ74+$D73-SUM($BK74:BK74)>AC73+AN74,AC73+AN74-AZ74,$D73-SUM($BK74:BK74))))","v":0},{"$f":"IF(AD73<=0,0,IF($D73<=SUM($BK74:BL74),0,IF(BA74+$D73-SUM($BK74:BL74)>AD73+AO74,AD73+AO74-BA74,$D73-SUM($BK74:BL74))))","v":0},{"$f":"IF(AE73<=0,0,IF($D73<=SUM($BK74:BM74),0,IF(BB74+$D73-SUM($BK74:BM74)>AE73+AP74,AE73+AP74-BB74,$D73-SUM($BK74:BM74))))","v":0},{"$f":"IF(AF73<=0,0,IF($D73<=SUM($BK74:BN74),0,IF(BC74+$D73-SUM($BK74:BN74)>AF73+AQ74,AF73+AQ74-BC74,$D73-SUM($BK74:BN74))))","v":0},{"$f":"IF(AG73<=0,0,IF($D73<=SUM($BK74:BO74),0,IF(BD74+$D73-SUM($BK74:BO74)>AG73+AR74,AG73+AR74-BD74,$D73-SUM($BK74:BO74))))","v":0},{"$f":"IF(AH73<=0,0,IF($D73<=SUM($BK74:BP74),0,IF(BE74+$D73-SUM($BK74:BP74)>AH73+AS74,AH73+AS74-BE74,$D73-SUM($BK74:BP74))))","v":0},{"$f":"IF(AI73<=0,0,IF($D73<=SUM($BK74:BQ74),0,IF(BF74+$D73-SUM($BK74:BQ74)>AI73+AT74,AI73+AT74-BF74,$D73-SUM($BK74:BQ74))))","v":0},{"$f":"IF(AJ73<=0,0,IF($D73<=SUM($BK74:BR74),0,IF(BG74+$D73-SUM($BK74:BR74)>AJ73+AU74,AJ73+AU74-BG74,$D73-SUM($BK74:BR74))))","v":0},{"$f":"IF(AK73<=0,0,IF($D73<=SUM($BK74:BS74),0,IF(BH74+$D73-SUM($BK74:BS74)>AK73+AV74,AK73+AV74-BH74,$D73-SUM($BK74:BS74))))","v":0}]
[null,"","1904-06-01",0,0,0,0,0,0,0,0,0,0,0,null,null,null,null,null,null,null,null,null,null,null,null,0,0,0,0,0,0,0,0,0,0,0,null,0,0,0,0,0,0,0,0,0,0,0,null,0,0,0,0,0,0,0,0,0,0,0,null,0,{"$f":"IF(AC74<=0,0,IF($D74<=SUM($BK75:BK75),0,IF(AZ75+$D74-SUM($BK75:BK75)>AC74+AN75,AC74+AN75-AZ75,$D74-SUM($BK75:BK75))))","v":0},{"$f":"IF(AD74<=0,0,IF($D74<=SUM($BK75:BL75),0,IF(BA75+$D74-SUM($BK75:BL75)>AD74+AO75,AD74+AO75-BA75,$D74-SUM($BK75:BL75))))","v":0},{"$f":"IF(AE74<=0,0,IF($D74<=SUM($BK75:BM75),0,IF(BB75+$D74-SUM($BK75:BM75)>AE74+AP75,AE74+AP75-BB75,$D74-SUM($BK75:BM75))))","v":0},{"$f":"IF(AF74<=0,0,IF($D74<=SUM($BK75:BN75),0,IF(BC75+$D74-SUM($BK75:BN75)>AF74+AQ75,AF74+AQ75-BC75,$D74-SUM($BK75:BN75))))","v":0},{"$f":"IF(AG74<=0,0,IF($D74<=SUM($BK75:BO75),0,IF(BD75+$D74-SUM($BK75:BO75)>AG74+AR75,AG74+AR75-BD75,$D74-SUM($BK75:BO75))))","v":0},{"$f":"IF(AH74<=0,0,IF($D74<=SUM($BK75:BP75),0,IF(BE75+$D74-SUM($BK75:BP75)>AH74+AS75,AH74+AS75-BE75,$D74-SUM($BK75:BP75))))","v":0},{"$f":"IF(AI74<=0,0,IF($D74<=SUM($BK75:BQ75),0,IF(BF75+$D74-SUM($BK75:BQ75)>AI74+AT75,AI74+AT75-BF75,$D74-SUM($BK75:BQ75))))","v":0},{"$f":"IF(AJ74<=0,0,IF($D74<=SUM($BK75:BR75),0,IF(BG75+$D74-SUM($BK75:BR75)>AJ74+AU75,AJ74+AU75-BG75,$D74-SUM($BK75:BR75))))","v":0},{"$f":"IF(AK74<=0,0,IF($D74<=SUM($BK75:BS75),0,IF(BH75+$D74-SUM($BK75:BS75)>AK74+AV75,AK74+AV75-BH75,$D74-SUM($BK75:BS75))))","v":0}]
[null,"","1904-07-01",0,0,0,0,0,0,0,0,0,0,0,null,null,null,null,null,null,null,null,null,null,null,null,0,0,0,0,0,0,0,0,0,0,0,null,0,0,0,0,0,0,0,0,0,0,0,null,0,0,0,0,0,0,0,0,0,0,0,null,0,{"$f":"IF(AC75<=0,0,IF($D75<=SUM($BK76:BK76),0,IF(AZ76+$D75-SUM($BK76:BK76)>AC75+AN76,AC75+AN76-AZ76,$D75-SUM($BK76:BK76))))","v":0},{"$f":"IF(AD75<=0,0,IF($D75<=SUM($BK76:BL76),0,IF(BA76+$D75-SUM($BK76:BL76)>AD75+AO76,AD75+AO76-BA76,$D75-SUM($BK76:BL76))))","v":0},{"$f":"IF(AE75<=0,0,IF($D75<=SUM($BK76:BM76),0,IF(BB76+$D75-SUM($BK76:BM76)>AE75+AP76,AE75+AP76-BB76,$D75-SUM($BK76:BM76))))","v":0},{"$f":"IF(AF75<=0,0,IF($D75<=SUM($BK76:BN76),0,IF(BC76+$D75-SUM($BK76:BN76)>AF75+AQ76,AF75+AQ76-BC76,$D75-SUM($BK76:BN76))))","v":0},{"$f":"IF(AG75<=0,0,IF($D75<=SUM($BK76:BO76),0,IF(BD76+$D75-SUM($BK76:BO76)>AG75+AR76,AG75+AR76-BD76,$D75-SUM($BK76:BO76))))","v":0},{"$f":"IF(AH75<=0,0,IF($D75<=SUM($BK76:BP76),0,IF(BE76+$D75-SUM($BK76:BP76)>AH75+AS76,AH75+AS76-BE76,$D75-SUM($BK76:BP76))))","v":0},{"$f":"IF(AI75<=0,0,IF($D75<=SUM($BK76:BQ76),0,IF(BF76+$D75-SUM($BK76:BQ76)>AI75+AT76,AI75+AT76-BF76,$D75-SUM($BK76:BQ76))))","v":0},{"$f":"IF(AJ75<=0,0,IF($D75<=SUM($BK76:BR76),0,IF(BG76+$D75-SUM($BK76:BR76)>AJ75+AU76,AJ75+AU76-BG76,$D75-SUM($BK76:BR76))))","v":0},{"$f":"IF(AK75<=0,0,IF($D75<=SUM($BK76:BS76),0,IF(BH76+$D75-SUM($BK76:BS76)>AK75+AV76,AK75+AV76-BH76,$D75-SUM($BK76:BS76))))","v":0}]
[null,"","1904-08-01",0,0,0,0,0,0,0,0,0,0,0,null,null,null,null,null,null,null,null,null,null,null,null,0,0,0,0,0,0,0,0,0,0,0,null,0,0,0,0,0,0,0,0,0,0,0,null,0,0,0,0,0,0,0,0,0,0,0,null,0,{"$f":"IF(AC76<=0,0,IF($D76<=SUM($BK77:BK77),0,IF(AZ77+$D76-SUM($BK77:BK77)>AC76+AN77,AC76+AN77-AZ77,$D76-SUM($BK77:BK77))))","v":0},{"$f":"IF(AD76<=0,0,IF($D76<=SUM($BK77:BL77),0,IF(BA77+$D76-SUM($BK77:BL77)>AD76+AO77,AD76+AO77-BA77,$D76-SUM($BK77:BL77))))","v":0},{"$f":"IF(AE76<=0,0,IF($D76<=SUM($BK77:BM77),0,IF(BB77+$D76-SUM($BK77:BM77)>AE76+AP77,AE76+AP77-BB77,$D76-SUM($BK77:BM77))))","v":0},{"$f":"IF(AF76<=0,0,IF($D76<=SUM($BK77:BN77),0,IF(BC77+$D76-SUM($BK77:BN77)>AF76+AQ77,AF76+AQ77-BC77,$D76-SUM($BK77:BN77))))","v":0},{"$f":"IF(AG76<=0,0,IF($D76<=SUM($BK77:BO77),0,IF(BD77+$D76-SUM($BK77:BO77)>AG76+AR77,AG76+AR77-BD77,$D76-SUM($BK77:BO77))))","v":0},{"$f":"IF(AH76<=0,0,IF($D76<=SUM($BK77:BP77),0,IF(BE77+$D76-SUM($BK77:BP77)>AH76+AS77,AH76+AS77-BE77,$D76-SUM($BK77:BP77))))","v":0},{"$f":"IF(AI76<=0,0,IF($D76<=SUM($BK77:BQ77),0,IF(BF77+$D76-SUM($BK77:BQ77)>AI76+AT77,AI76+AT77-BF77,$D76-SUM($BK77:BQ77))))","v":0},{"$f":"IF(AJ76<=0,0,IF($D76<=SUM($BK77:BR77),0,IF(BG77+$D76-SUM($BK77:BR77)>AJ76+AU77,AJ76+AU77-BG77,$D76-SUM($BK77:BR77))))","v":0},{"$f":"IF(AK76<=0,0,IF($D76<=SUM($BK77:BS77),0,IF(BH77+$D76-SUM($BK77:BS77)>AK76+AV77,AK76+AV77-BH77,$D76-SUM($BK77:BS77))))","v":0}]
[null,"","1904-09-01",0,0,0,0,0,0,0,0,0,0,0,null,null,null,null,null,null,null,null,null,null,null,null,0,0,0,0,0,0,0,0,0,0,0,null,0,0,0,0,0,0,0,0,0,0,0,null,0,0,0,0,0,0,0,0,0,0,0,null,0,{"$f":"IF(AC77<=0,0,IF($D77<=SUM($BK78:BK78),0,IF(AZ78+$D77-SUM($BK78:BK78)>AC77+AN78,AC77+AN78-AZ78,$D77-SUM($BK78:BK78))))","v":0},{"$f":"IF(AD77<=0,0,IF($D77<=SUM($BK78:BL78),0,IF(BA78+$D77-SUM($BK78:BL78)>AD77+AO78,AD77+AO78-BA78,$D77-SUM($BK78:BL78))))","v":0},{"$f":"IF(AE77<=0,0,IF($D77<=SUM($BK78:BM78),0,IF(BB78+$D77-SUM($BK78:BM78)>AE77+AP78,AE77+AP78-BB78,$D77-SUM($BK78:BM78))))","v":0},{"$f":"IF(AF77<=0,0,IF($D77<=SUM($BK78:BN78),0,IF(BC78+$D77-SUM($BK78:BN78)>AF77+AQ78,AF77+AQ78-BC78,$D77-SUM($BK78:BN78))))","v":0},{"$f":"IF(AG77<=0,0,IF($D77<=SUM($BK78:BO78),0,IF(BD78+$D77-SUM($BK78:BO78)>AG77+AR78,AG77+AR78-BD78,$D77-SUM($BK78:BO78))))","v":0},{"$f":"IF(AH77<=0,0,IF($D77<=SUM($BK78:BP78),0,IF(BE78+$D77-SUM($BK78:BP78)>AH77+AS78,AH77+AS78-BE78,$D77-SUM($BK78:BP78))))","v":0},{"$f":"IF(AI77<=0,0,IF($D77<=SUM($BK78:BQ78),0,IF(BF78+$D77-SUM($BK78:BQ78)>AI77+AT78,AI77+AT78-BF78,$D77-SUM($BK78:BQ78))))","v":0},{"$f":"IF(AJ77<=0,0,IF($D77<=SUM($BK78:BR78),0,IF(BG78+$D77-SUM($BK78:BR78)>AJ77+AU78,AJ77+AU78-BG78,$D77-SUM($BK78:BR78))))","v":0},{"$f":"IF(AK77<=0,0,IF($D77<=SUM($BK78:BS78),0,IF(BH78+$D77-SUM($BK78:BS78)>AK77+AV78,AK77+AV78-BH78,$D77-SUM($BK78:BS78))))","v":0}]
[null,"","1904-10-01",0,0,0,0,0,0,0,0,0,0,0,null,null,null,null,null,null,null,null,null,null,null,null,0,0,0,0,0,0,0,0,0,0,0,null,0,0,0,0,0,0,0,0,0,0,0,null,0,0,0,0,0,0,0,0,0,0,0,null,0,{"$f":"IF(AC78<=0,0,IF($D78<=SUM($BK79:BK79),0,IF(AZ79+$D78-SUM($BK79:BK79)>AC78+AN79,AC78+AN79-AZ79,$D78-SUM($BK79:BK79))))","v":0},{"$f":"IF(AD78<=0,0,IF($D78<=SUM($BK79:BL79),0,IF(BA79+$D78-SUM($BK79:BL79)>AD78+AO79,AD78+AO79-BA79,$D78-SUM($BK79:BL79))))","v":0},{"$f":"IF(AE78<=0,0,IF($D78<=SUM($BK79:BM79),0,IF(BB79+$D78-SUM($BK79:BM79)>AE78+AP79,AE78+AP79-BB79,$D78-SUM($BK79:BM79))))","v":0},{"$f":"IF(AF78<=0,0,IF($D78<=SUM($BK79:BN79),0,IF(BC79+$D78-SUM($BK79:BN79)>AF78+AQ79,AF78+AQ79-BC79,$D78-SUM($BK79:BN79))))","v":0},{"$f":"IF(AG78<=0,0,IF($D78<=SUM($BK79:BO79),0,IF(BD79+$D78-SUM($BK79:BO79)>AG78+AR79,AG78+AR79-BD79,$D78-SUM($BK79:BO79))))","v":0},{"$f":"IF(AH78<=0,0,IF($D78<=SUM($BK79:BP79),0,IF(BE79+$D78-SUM($BK79:BP79)>AH78+AS79,AH78+AS79-BE79,$D78-SUM($BK79:BP79))))","v":0},{"$f":"IF(AI78<=0,0,IF($D78<=SUM($BK79:BQ79),0,IF(BF79+$D78-SUM($BK79:BQ79)>AI78+AT79,AI78+AT79-BF79,$D78-SUM($BK79:BQ79))))","v":0},{"$f":"IF(AJ78<=0,0,IF($D78<=SUM($BK79:BR79),0,IF(BG79+$D78-SUM($BK79:BR79)>AJ78+AU79,AJ78+AU79-BG79,$D78-SUM($BK79:BR79))))","v":0},{"$f":"IF(AK78<=0,0,IF($D78<=SUM($BK79:BS79),0,IF(BH79+$D78-SUM($BK79:BS79)>AK78+AV79,AK78+AV79-BH79,$D78-SUM($BK79:BS79))))","v":0}]
[null,"","1904-11-01",0,0,0,0,0,0,0,0,0,0,0,null,null,null,null,null,null,null,null,null,null,null,null,0,0,0,0,0,0,0,0,0,0,0,null,0,0,0,0,0,0,0,0,0,0,0,null,0,0,0,0,0,0,0,0,0,0,0,null,0,{"$f":"IF(AC79<=0,0,IF($D79<=SUM($BK80:BK80),0,IF(AZ80+$D79-SUM($BK80:BK80)>AC79+AN80,AC79+AN80-AZ80,$D79-SUM($BK80:BK80))))","v":0},{"$f":"IF(AD79<=0,0,IF($D79<=SUM($BK80:BL80),0,IF(BA80+$D79-SUM($BK80:BL80)>AD79+AO80,AD79+AO80-BA80,$D79-SUM($BK80:BL80))))","v":0},{"$f":"IF(AE79<=0,0,IF($D79<=SUM($BK80:BM80),0,IF(BB80+$D79-SUM($BK80:BM80)>AE79+AP80,AE79+AP80-BB80,$D79-SUM($BK80:BM80))))","v":0},{"$f":"IF(AF79<=0,0,IF($D79<=SUM($BK80:BN80),0,IF(BC80+$D79-SUM($BK80:BN80)>AF79+AQ80,AF79+AQ80-BC80,$D79-SUM($BK80:BN80))))","v":0},{"$f":"IF(AG79<=0,0,IF($D79<=SUM($BK80:BO80),0,IF(BD80+$D79-SUM($BK80:BO80)>AG79+AR80,AG79+AR80-BD80,$D79-SUM($BK80:BO80))))","v":0},{"$f":"IF(AH79<=0,0,IF($D79<=SUM($BK80:BP80),0,IF(BE80+$D79-SUM($BK80:BP80)>AH79+AS80,AH79+AS80-BE80,$D79-SUM($BK80:BP80))))","v":0},{"$f":"IF(AI79<=0,0,IF($D79<=SUM($BK80:BQ80),0,IF(BF80+$D79-SUM($BK80:BQ80)>AI79+AT80,AI79+AT80-BF80,$D79-SUM($BK80:BQ80))))","v":0},{"$f":"IF(AJ79<=0,0,IF($D79<=SUM($BK80:BR80),0,IF(BG80+$D79-SUM($BK80:BR80)>AJ79+AU80,AJ79+AU80-BG80,$D79-SUM($BK80:BR80))))","v":0},{"$f":"IF(AK79<=0,0,IF($D79<=SUM($BK80:BS80),0,IF(BH80+$D79-SUM($BK80:BS80)>AK79+AV80,AK79+AV80-BH80,$D79-SUM($BK80:BS80))))","v":0}]
[null,"","1904-12-01",0,0,0,0,0,0,0,0,0,0,0,null,null,null,null,null,null,null,null,null,null,null,null,0,0,0,0,0,0,0,0,0,0,0,null,0,0,0,0,0,0,0,0,0,0,0,null,0,0,0,0,0,0,0,0,0,0,0,null,0,{"$f":"IF(AC80<=0,0,IF($D80<=SUM($BK81:BK81),0,IF(AZ81+$D80-SUM($BK81:BK81)>AC80+AN81,AC80+AN81-AZ81,$D80-SUM($BK81:BK81))))","v":0},{"$f":"IF(AD80<=0,0,IF($D80<=SUM($BK81:BL81),0,IF(BA81+$D80-SUM($BK81:BL81)>AD80+AO81,AD80+AO81-BA81,$D80-SUM($BK81:BL81))))","v":0},{"$f":"IF(AE80<=0,0,IF($D80<=SUM($BK81:BM81),0,IF(BB81+$D80-SUM($BK81:BM81)>AE80+AP81,AE80+AP81-BB81,$D80-SUM($BK81:BM81))))","v":0},{"$f":"IF(AF80<=0,0,IF($D80<=SUM($BK81:BN81),0,IF(BC81+$D80-SUM($BK81:BN81)>AF80+AQ81,AF80+AQ81-BC81,$D80-SUM($BK81:BN81))))","v":0},{"$f":"IF(AG80<=0,0,IF($D80<=SUM($BK81:BO81),0,IF(BD81+$D80-SUM($BK81:BO81)>AG80+AR81,AG80+AR81-BD81,$D80-SUM($BK81:BO81))))","v":0},{"$f":"IF(AH80<=0,0,IF($D80<=SUM($BK81:BP81),0,IF(BE81+$D80-SUM($BK81:BP81)>AH80+AS81,AH80+AS81-BE81,$D80-SUM($BK81:BP81))))","v":0},{"$f":"IF(AI80<=0,0,IF($D80<=SUM($BK81:BQ81),0,IF(BF81+$D80-SUM($BK81:BQ81)>AI80+AT81,AI80+AT81-BF81,$D80-SUM($BK81:BQ81))))","v":0},{"$f":"IF(AJ80<=0,0,IF($D80<=SUM($BK81:BR81),0,IF(BG81+$D80-SUM($BK81:BR81)>AJ80+AU81,AJ80+AU81-BG81,$D80-SUM($BK81:BR81))))","v":0},{"$f":"IF(AK80<=0,0,IF($D80<=SUM($BK81:BS81),0,IF(BH81+$D80-SUM($BK81:BS81)>AK80+AV81,AK80+AV81-BH81,$D80-SUM($BK81:BS81))))","v":0}]
[null,"","1905-01-01",0,0,0,0,0,0,0,0,0,0,0,null,null,null,null,null,null,null,null,null,null,null,null,0,0,0,0,0,0,0,0,0,0,0,null,0,0,0,0,0,0,0,0,0,0,0,null,0,0,0,0,0,0,0,0,0,0,0,null,0,{"$f":"IF(AC81<=0,0,IF($D81<=SUM($BK82:BK82),0,IF(AZ82+$D81-SUM($BK82:BK82)>AC81+AN82,AC81+AN82-AZ82,$D81-SUM($BK82:BK82))))","v":0},{"$f":"IF(AD81<=0,0,IF($D81<=SUM($BK82:BL82),0,IF(BA82+$D81-SUM($BK82:BL82)>AD81+AO82,AD81+AO82-BA82,$D81-SUM($BK82:BL82))))","v":0},{"$f":"IF(AE81<=0,0,IF($D81<=SUM($BK82:BM82),0,IF(BB82+$D81-SUM($BK82:BM82)>AE81+AP82,AE81+AP82-BB82,$D81-SUM($BK82:BM82))))","v":0},{"$f":"IF(AF81<=0,0,IF($D81<=SUM($BK82:BN82),0,IF(BC82+$D81-SUM($BK82:BN82)>AF81+AQ82,AF81+AQ82-BC82,$D81-SUM($BK82:BN82))))","v":0},{"$f":"IF(AG81<=0,0,IF($D81<=SUM($BK82:BO82),0,IF(BD82+$D81-SUM($BK82:BO82)>AG81+AR82,AG81+AR82-BD82,$D81-SUM($BK82:BO82))))","v":0},{"$f":"IF(AH81<=0,0,IF($D81<=SUM($BK82:BP82),0,IF(BE82+$D81-SUM($BK82:BP82)>AH81+AS82,AH81+AS82-BE82,$D81-SUM($BK82:BP82))))","v":0},{"$f":"IF(AI81<=0,0,IF($D81<=SUM($BK82:BQ82),0,IF(BF82+$D81-SUM($BK82:BQ82)>AI81+AT82,AI81+AT82-BF82,$D81-SUM($BK82:BQ82))))","v":0},{"$f":"IF(AJ81<=0,0,IF($D81<=SUM($BK82:BR82),0,IF(BG82+$D81-SUM($BK82:BR82)>AJ81+AU82,AJ81+AU82-BG82,$D81-SUM($BK82:BR82))))","v":0},{"$f":"IF(AK81<=0,0,IF($D81<=SUM($BK82:BS82),0,IF(BH82+$D81-SUM($BK82:BS82)>AK81+AV82,AK81+AV82-BH82,$D81-SUM($BK82:BS82))))","v":0}]
[null,"","1905-02-01",0,0,0,0,0,0,0,0,0,0,0,null,null,null,null,null,null,null,null,null,null,null,null,0,0,0,0,0,0,0,0,0,0,0,null,0,0,0,0,0,0,0,0,0,0,0,null,0,0,0,0,0,0,0,0,0,0,0,null,0,{"$f":"IF(AC82<=0,0,IF($D82<=SUM($BK83:BK83),0,IF(AZ83+$D82-SUM($BK83:BK83)>AC82+AN83,AC82+AN83-AZ83,$D82-SUM($BK83:BK83))))","v":0},{"$f":"IF(AD82<=0,0,IF($D82<=SUM($BK83:BL83),0,IF(BA83+$D82-SUM($BK83:BL83)>AD82+AO83,AD82+AO83-BA83,$D82-SUM($BK83:BL83))))","v":0},{"$f":"IF(AE82<=0,0,IF($D82<=SUM($BK83:BM83),0,IF(BB83+$D82-SUM($BK83:BM83)>AE82+AP83,AE82+AP83-BB83,$D82-SUM($BK83:BM83))))","v":0},{"$f":"IF(AF82<=0,0,IF($D82<=SUM($BK83:BN83),0,IF(BC83+$D82-SUM($BK83:BN83)>AF82+AQ83,AF82+AQ83-BC83,$D82-SUM($BK83:BN83))))","v":0},{"$f":"IF(AG82<=0,0,IF($D82<=SUM($BK83:BO83),0,IF(BD83+$D82-SUM($BK83:BO83)>AG82+AR83,AG82+AR83-BD83,$D82-SUM($BK83:BO83))))","v":0},{"$f":"IF(AH82<=0,0,IF($D82<=SUM($BK83:BP83),0,IF(BE83+$D82-SUM($BK83:BP83)>AH82+AS83,AH82+AS83-BE83,$D82-SUM($BK83:BP83))))","v":0},{"$f":"IF(AI82<=0,0,IF($D82<=SUM($BK83:BQ83),0,IF(BF83+$D82-SUM($BK83:BQ83)>AI82+AT83,AI82+AT83-BF83,$D82-SUM($BK83:BQ83))))","v":0},{"$f":"IF(AJ82<=0,0,IF($D82<=SUM($BK83:BR83),0,IF(BG83+$D82-SUM($BK83:BR83)>AJ82+AU83,AJ82+AU83-BG83,$D82-SUM($BK83:BR83))))","v":0},{"$f":"IF(AK82<=0,0,IF($D82<=SUM($BK83:BS83),0,IF(BH83+$D82-SUM($BK83:BS83)>AK82+AV83,AK82+AV83-BH83,$D82-SUM($BK83:BS83))))","v":0}]
[null,"","1905-03-01",0,0,0,0,0,0,0,0,0,0,0,null,null,null,null,null,null,null,null,null,null,null,null,0,0,0,0,0,0,0,0,0,0,0,null,0,0,0,0,0,0,0,0,0,0,0,null,0,0,0,0,0,0,0,0,0,0,0,null,0,{"$f":"IF(AC83<=0,0,IF($D83<=SUM($BK84:BK84),0,IF(AZ84+$D83-SUM($BK84:BK84)>AC83+AN84,AC83+AN84-AZ84,$D83-SUM($BK84:BK84))))","v":0},{"$f":"IF(AD83<=0,0,IF($D83<=SUM($BK84:BL84),0,IF(BA84+$D83-SUM($BK84:BL84)>AD83+AO84,AD83+AO84-BA84,$D83-SUM($BK84:BL84))))","v":0},{"$f":"IF(AE83<=0,0,IF($D83<=SUM($BK84:BM84),0,IF(BB84+$D83-SUM($BK84:BM84)>AE83+AP84,AE83+AP84-BB84,$D83-SUM($BK84:BM84))))","v":0},{"$f":"IF(AF83<=0,0,IF($D83<=SUM($BK84:BN84),0,IF(BC84+$D83-SUM($BK84:BN84)>AF83+AQ84,AF83+AQ84-BC84,$D83-SUM($BK84:BN84))))","v":0},{"$f":"IF(AG83<=0,0,IF($D83<=SUM($BK84:BO84),0,IF(BD84+$D83-SUM($BK84:BO84)>AG83+AR84,AG83+AR84-BD84,$D83-SUM($BK84:BO84))))","v":0},{"$f":"IF(AH83<=0,0,IF($D83<=SUM($BK84:BP84),0,IF(BE84+$D83-SUM($BK84:BP84)>AH83+AS84,AH83+AS84-BE84,$D83-SUM($BK84:BP84))))","v":0},{"$f":"IF(AI83<=0,0,IF($D83<=SUM($BK84:BQ84),0,IF(BF84+$D83-SUM($BK84:BQ84)>AI83+AT84,AI83+AT84-BF84,$D83-SUM($BK84:BQ84))))","v":0},{"$f":"IF(AJ83<=0,0,IF($D83<=SUM($BK84:BR84),0,IF(BG84+$D83-SUM($BK84:BR84)>AJ83+AU84,AJ83+AU84-BG84,$D83-SUM($BK84:BR84))))","v":0},{"$f":"IF(AK83<=0,0,IF($D83<=SUM($BK84:BS84),0,IF(BH84+$D83-SUM($BK84:BS84)>AK83+AV84,AK83+AV84-BH84,$D83-SUM($BK84:BS84))))","v":0}]
[null,"","1905-04-01",0,0,0,0,0,0,0,0,0,0,0,null,null,null,null,null,null,null,null,null,null,null,null,0,0,0,0,0,0,0,0,0,0,0,null,0,0,0,0,0,0,0,0,0,0,0,null,0,0,0,0,0,0,0,0,0,0,0,null,0,{"$f":"IF(AC84<=0,0,IF($D84<=SUM($BK85:BK85),0,IF(AZ85+$D84-SUM($BK85:BK85)>AC84+AN85,AC84+AN85-AZ85,$D84-SUM($BK85:BK85))))","v":0},{"$f":"IF(AD84<=0,0,IF($D84<=SUM($BK85:BL85),0,IF(BA85+$D84-SUM($BK85:BL85)>AD84+AO85,AD84+AO85-BA85,$D84-SUM($BK85:BL85))))","v":0},{"$f":"IF(AE84<=0,0,IF($D84<=SUM($BK85:BM85),0,IF(BB85+$D84-SUM($BK85:BM85)>AE84+AP85,AE84+AP85-BB85,$D84-SUM($BK85:BM85))))","v":0},{"$f":"IF(AF84<=0,0,IF($D84<=SUM($BK85:BN85),0,IF(BC85+$D84-SUM($BK85:BN85)>AF84+AQ85,AF84+AQ85-BC85,$D84-SUM($BK85:BN85))))","v":0},{"$f":"IF(AG84<=0,0,IF($D84<=SUM($BK85:BO85),0,IF(BD85+$D84-SUM($BK85:BO85)>AG84+AR85,AG84+AR85-BD85,$D84-SUM($BK85:BO85))))","v":0},{"$f":"IF(AH84<=0,0,IF($D84<=SUM($BK85:BP85),0,IF(BE85+$D84-SUM($BK85:BP85)>AH84+AS85,AH84+AS85-BE85,$D84-SUM($BK85:BP85))))","v":0},{"$f":"IF(AI84<=0,0,IF($D84<=SUM($BK85:BQ85),0,IF(BF85+$D84-SUM($BK85:BQ85)>AI84+AT85,AI84+AT85-BF85,$D84-SUM($BK85:BQ85))))","v":0},{"$f":"IF(AJ84<=0,0,IF($D84<=SUM($BK85:BR85),0,IF(BG85+$D84-SUM($BK85:BR85)>AJ84+AU85,AJ84+AU85-BG85,$D84-SUM($BK85:BR85))))","v":0},{"$f":"IF(AK84<=0,0,IF($D84<=SUM($BK85:BS85),0,IF(BH85+$D84-SUM($BK85:BS85)>AK84+AV85,AK84+AV85-BH85,$D84-SUM($BK85:BS85))))","v":0}]
[null,"","1905-05-01",0,0,0,0,0,0,0,0,0,0,0,null,null,null,null,null,null,null,null,null,null,null,null,0,0,0,0,0,0,0,0,0,0,0,null,0,0,0,0,0,0,0,0,0,0,0,null,0,0,0,0,0,0,0,0,0,0,0,null,0,{"$f":"IF(AC85<=0,0,IF($D85<=SUM($BK86:BK86),0,IF(AZ86+$D85-SUM($BK86:BK86)>AC85+AN86,AC85+AN86-AZ86,$D85-SUM($BK86:BK86))))","v":0},{"$f":"IF(AD85<=0,0,IF($D85<=SUM($BK86:BL86),0,IF(BA86+$D85-SUM($BK86:BL86)>AD85+AO86,AD85+AO86-BA86,$D85-SUM($BK86:BL86))))","v":0},{"$f":"IF(AE85<=0,0,IF($D85<=SUM($BK86:BM86),0,IF(BB86+$D85-SUM($BK86:BM86)>AE85+AP86,AE85+AP86-BB86,$D85-SUM($BK86:BM86))))","v":0},{"$f":"IF(AF85<=0,0,IF($D85<=SUM($BK86:BN86),0,IF(BC86+$D85-SUM($BK86:BN86)>AF85+AQ86,AF85+AQ86-BC86,$D85-SUM($BK86:BN86))))","v":0},{"$f":"IF(AG85<=0,0,IF($D85<=SUM($BK86:BO86),0,IF(BD86+$D85-SUM($BK86:BO86)>AG85+AR86,AG85+AR86-BD86,$D85-SUM($BK86:BO86))))","v":0},{"$f":"IF(AH85<=0,0,IF($D85<=SUM($BK86:BP86),0,IF(BE86+$D85-SUM($BK86:BP86)>AH85+AS86,AH85+AS86-BE86,$D85-SUM($BK86:BP86))))","v":0},{"$f":"IF(AI85<=0,0,IF($D85<=SUM($BK86:BQ86),0,IF(BF86+$D85-SUM($BK86:BQ86)>AI85+AT86,AI85+AT86-BF86,$D85-SUM($BK86:BQ86))))","v":0},{"$f":"IF(AJ85<=0,0,IF($D85<=SUM($BK86:BR86),0,IF(BG86+$D85-SUM($BK86:BR86)>AJ85+AU86,AJ85+AU86-BG86,$D85-SUM($BK86:BR86))))","v":0},{"$f":"IF(AK85<=0,0,IF($D85<=SUM($BK86:BS86),0,IF(BH86+$D85-SUM($BK86:BS86)>AK85+AV86,AK85+AV86-BH86,$D85-SUM($BK86:BS86))))","v":0}]
[null,{"$f":"IF(SUM(AB87:AK87)<=0,\"\",B86+1)","v":""},"1905-06-01",{"$f":"IF(($F$4-BI88<0),$F$4,$F$4-BI88)","v":0},0,0,0,0,0,0,0,0,0,0,null,null,null,null,null,null,null,null,null,null,null,null,0,0,0,0,0,0,0,0,0,0,0,null,0,0,0,0,0,0,0,0,0,0,0,null,0,0,0,0,0,0,0,0,0,0,0,null,0,{"$f":"IF(AC86<=0,0,IF($D86<=SUM($BK87:BK87),0,IF(AZ87+$D86-SUM($BK87:BK87)>AC86+AN87,AC86+AN87-AZ87,$D86-SUM($BK87:BK87))))","v":0},{"$f":"IF(AD86<=0,0,IF($D86<=SUM($BK87:BL87),0,IF(BA87+$D86-SUM($BK87:BL87)>AD86+AO87,AD86+AO87-BA87,$D86-SUM($BK87:BL87))))","v":0},{"$f":"IF(AE86<=0,0,IF($D86<=SUM($BK87:BM87),0,IF(BB87+$D86-SUM($BK87:BM87)>AE86+AP87,AE86+AP87-BB87,$D86-SUM($BK87:BM87))))","v":0},{"$f":"IF(AF86<=0,0,IF($D86<=SUM($BK87:BN87),0,IF(BC87+$D86-SUM($BK87:BN87)>AF86+AQ87,AF86+AQ87-BC87,$D86-SUM($BK87:BN87))))","v":0},{"$f":"IF(AG86<=0,0,IF($D86<=SUM($BK87:BO87),0,IF(BD87+$D86-SUM($BK87:BO87)>AG86+AR87,AG86+AR87-BD87,$D86-SUM($BK87:BO87))))","v":0},{"$f":"IF(AH86<=0,0,IF($D86<=SUM($BK87:BP87),0,IF(BE87+$D86-SUM($BK87:BP87)>AH86+AS87,AH86+AS87-BE87,$D86-SUM($BK87:BP87))))","v":0},{"$f":"IF(AI86<=0,0,IF($D86<=SUM($BK87:BQ87),0,IF(BF87+$D86-SUM($BK87:BQ87)>AI86+AT87,AI86+AT87-BF87,$D86-SUM($BK87:BQ87))))","v":0},{"$f":"IF(AJ86<=0,0,IF($D86<=SUM($BK87:BR87),0,IF(BG87+$D86-SUM($BK87:BR87)>AJ86+AU87,AJ86+AU87-BG87,$D86-SUM($BK87:BR87))))","v":0},{"$f":"IF(AK86<=0,0,IF($D86<=SUM($BK87:BS87),0,IF(BH87+$D86-SUM($BK87:BS87)>AK86+AV87,AK86+AV87-BH87,$D86-SUM($BK87:BS87))))","v":0}]
[null,"","1905-07-01",0,0,0,0,0,0,0,0,0,0,0,null,null,null,null,null,null,null,null,null,null,null,null,0,{"$f":"IF(E$7=0,0,ROUND(AB87-(E87-AM88),2))","v":0},{"$f":"IF(F$7=0,0,ROUND(AC87-(F87-AN88),2))","v":0},{"$f":"IF(G$7=0,0,ROUND(AD87-(G87-AO88),2))","v":0},{"$f":"IF(H$7=0,0,ROUND(AE87-(H87-AP88),2))","v":0},{"$f":"IF(I$7=0,0,ROUND(AF87-(I87-AQ88),2))","v":0},{"$f":"IF(J$7=0,0,ROUND(AG87-(J87-AR88),2))","v":0},{"$f":"IF(K$7=0,0,ROUND(AH87-(K87-AS88),2))","v":0},{"$f":"IF(L$7=0,0,ROUND(AI87-(L87-AT88),2))","v":0},{"$f":"IF(M$7=0,0,ROUND(AJ87-(M87-AU88),2))","v":0},{"$f":"IF(N$7=0,0,ROUND(AK87-(N87-AV88),2))","v":0},null,{"$f":"IF((AB87=\"-\"),0,ROUND(AB87*E$8/12,2))","v":0},{"$f":"IF((AC87=\"-\"),0,ROUND(AC87*F$8/12,2))","v":0},{"$f":"IF((AD87=\"-\"),0,ROUND(AD87*G$8/12,2))","v":0},{"$f":"IF((AE87=\"-\"),0,ROUND(AE87*H$8/12,2))","v":0},{"$f":"IF((AF87=\"-\"),0,ROUND(AF87*I$8/12,2))","v":0},{"$f":"IF((AG87=\"-\"),0,ROUND(AG87*J$8/12,2))","v":0},{"$f":"IF((AH87=\"-\"),0,ROUND(AH87*K$8/12,2))","v":0},{"$f":"IF((AI87=\"-\"),0,ROUND(AI87*L$8/12,2))","v":0},{"$f":"IF((AJ87=\"-\"),0,ROUND(AJ87*M$8/12,2))","v":0},{"$f":"IF((AK87=\"-\"),0,ROUND(AK87*N$8/12,2))","v":0},0,null,0,0,0,0,0,0,0,0,0,0,0,null,0,{"$f":"IF(AC87<=0,0,IF($D87<=SUM($BK88:BK88),0,IF(AZ88+$D87-SUM($BK88:BK88)>AC87+AN88,AC87+AN88-AZ88,$D87-SUM($BK88:BK88))))","v":0},{"$f":"IF(AD87<=0,0,IF($D87<=SUM($BK88:BL88),0,IF(BA88+$D87-SUM($BK88:BL88)>AD87+AO88,AD87+AO88-BA88,$D87-SUM($BK88:BL88))))","v":0},{"$f":"IF(AE87<=0,0,IF($D87<=SUM($BK88:BM88),0,IF(BB88+$D87-SUM($BK88:BM88)>AE87+AP88,AE87+AP88-BB88,$D87-SUM($BK88:BM88))))","v":0},{"$f":"IF(AF87<=0,0,IF($D87<=SUM($BK88:BN88),0,IF(BC88+$D87-SUM($BK88:BN88)>AF87+AQ88,AF87+AQ88-BC88,$D87-SUM($BK88:BN88))))","v":0},{"$f":"IF(AG87<=0,0,IF($D87<=SUM($BK88:BO88),0,IF(BD88+$D87-SUM($BK88:BO88)>AG87+AR88,AG87+AR88-BD88,$D87-SUM($BK88:BO88))))","v":0},{"$f":"IF(AH87<=0,0,IF($D87<=SUM($BK88:BP88),0,IF(BE88+$D87-SUM($BK88:BP88)>AH87+AS88,AH87+AS88-BE88,$D87-SUM($BK88:BP88))))","v":0},{"$f":"IF(AI87<=0,0,IF($D87<=SUM($BK88:BQ88),0,IF(BF88+$D87-SUM($BK88:BQ88)>AI87+AT88,AI87+AT88-BF88,$D87-SUM($BK88:BQ88))))","v":0},{"$f":"IF(AJ87<=0,0,IF($D87<=SUM($BK88:BR88),0,IF(BG88+$D87-SUM($BK88:BR88)>AJ87+AU88,AJ87+AU88-BG88,$D87-SUM($BK88:BR88))))","v":0},{"$f":"IF(AK87<=0,0,IF($D87<=SUM($BK88:BS88),0,IF(BH88+$D87-SUM($BK88:BS88)>AK87+AV88,AK87+AV88-BH88,$D87-SUM($BK88:BS88))))","v":0}]
[null,"",{"$f":"IF(C88=\"\",NA(),DATE(YEAR(C88),MONTH(C88)+1,1))","v":"1905-08-01"},0,{"$f":"+AY90+BK90","v":0},0,0,0,0,0,0,0,0,0,null,null,null,null,null,null,null,null,null,null,null,null,{"$f":"SUM(AB89:AK89)","v":0},0,0,0,0,0,0,0,0,0,0,null,0,0,0,0,0,0,0,0,0,0,{"$f":"SUM(AM89:AV89)","v":0},null,{"$f":"IF(AB88>0,IF((AB88+AM89)<E$9,AB88+AM89,E$9),0)","v":0},{"$f":"IF(AC88>0,IF((AC88+AN89)<F$9,AC88+AN89,F$9),0)","v":0},{"$f":"IF(AD88>0,IF((AD88+AO89)<G$9,AD88+AO89,G$9),0)","v":0},{"$f":"IF(AE88>0,IF((AE88+AP89)<H$9,AE88+AP89,H$9),0)","v":0},{"$f":"IF(AF88>0,IF((AF88+AQ89)<I$9,AF88+AQ89,I$9),0)","v":0},{"$f":"IF(AG88>0,IF((AG88+AR89)<J$9,AG88+AR89,J$9),0)","v":0},{"$f":"IF(AH88>0,IF((AH88+AS89)<K$9,AH88+AS89,K$9),0)","v":0},{"$f":"IF(AI88>0,IF((AI88+AT89)<L$9,AI88+AT89,L$9),0)","v":0},{"$f":"IF(AJ88>0,IF((AJ88+AU89)<M$9,AJ88+AU89,M$9),0)","v":0},{"$f":"IF(AK88>0,IF((AK88+AV89)<N$9,AK88+AV89,N$9),0)","v":0},{"$f":"SUM(AY89:BH89)","v":0},null,0,{"$f":"IF(AC88<=0,0,IF($D88<=SUM($BK89:BK89),0,IF(AZ89+$D88-SUM($BK89:BK89)>AC88+AN89,AC88+AN89-AZ89,$D88-SUM($BK89:BK89))))","v":0},{"$f":"IF(AD88<=0,0,IF($D88<=SUM($BK89:BL89),0,IF(BA89+$D88-SUM($BK89:BL89)>AD88+AO89,AD88+AO89-BA89,$D88-SUM($BK89:BL89))))","v":0},{"$f":"IF(AE88<=0,0,IF($D88<=SUM($BK89:BM89),0,IF(BB89+$D88-SUM($BK89:BM89)>AE88+AP89,AE88+AP89-BB89,$D88-SUM($BK89:BM89))))","v":0},{"$f":"IF(AF88<=0,0,IF($D88<=SUM($BK89:BN89),0,IF(BC89+$D88-SUM($BK89:BN89)>AF88+AQ89,AF88+AQ89-BC89,$D88-SUM($BK89:BN89))))","v":0},{"$f":"IF(AG88<=0,0,IF($D88<=SUM($BK89:BO89),0,IF(BD89+$D88-SUM($BK89:BO89)>AG88+AR89,AG88+AR89-BD89,$D88-SUM($BK89:BO89))))","v":0},{"$f":"IF(AH88<=0,0,IF($D88<=SUM($BK89:BP89),0,IF(BE89+$D88-SUM($BK89:BP89)>AH88+AS89,AH88+AS89-BE89,$D88-SUM($BK89:BP89))))","v":0},{"$f":"IF(AI88<=0,0,IF($D88<=SUM($BK89:BQ89),0,IF(BF89+$D88-SUM($BK89:BQ89)>AI88+AT89,AI88+AT89-BF89,$D88-SUM($BK89:BQ89))))","v":0},{"$f":"IF(AJ88<=0,0,IF($D88<=SUM($BK89:BR89),0,IF(BG89+$D88-SUM($BK89:BR89)>AJ88+AU89,AJ88+AU89-BG89,$D88-SUM($BK89:BR89))))","v":0},{"$f":"IF(AK88<=0,0,IF($D88<=SUM($BK89:BS89),0,IF(BH89+$D88-SUM($BK89:BS89)>AK88+AV89,AK88+AV89-BH89,$D88-SUM($BK89:BS89))))","v":0}]
[null,"","1905-09-01",0,0,0,0,0,0,0,0,0,0,0,null,null,null,null,null,null,null,null,null,null,null,null,0,0,0,0,0,0,0,0,0,0,0,null,0,0,0,0,0,0,0,0,0,0,0,null,0,0,0,0,0,0,0,0,0,0,0,null,{"$f":"IF(AB89<=0,0,IF(AY90+$D89>AB89+AM90,AB89+AM90-AY90,$D89))","v":0},{"$f":"IF(AC89<=0,0,IF($D89<=SUM($BK90:BK90),0,IF(AZ90+$D89-SUM($BK90:BK90)>AC89+AN90,AC89+AN90-AZ90,$D89-SUM($BK90:BK90))))","v":0},{"$f":"IF(AD89<=0,0,IF($D89<=SUM($BK90:BL90),0,IF(BA90+$D89-SUM($BK90:BL90)>AD89+AO90,AD89+AO90-BA90,$D89-SUM($BK90:BL90))))","v":0},{"$f":"IF(AE89<=0,0,IF($D89<=SUM($BK90:BM90),0,IF(BB90+$D89-SUM($BK90:BM90)>AE89+AP90,AE89+AP90-BB90,$D89-SUM($BK90:BM90))))","v":0},{"$f":"IF(AF89<=0,0,IF($D89<=SUM($BK90:BN90),0,IF(BC90+$D89-SUM($BK90:BN90)>AF89+AQ90,AF89+AQ90-BC90,$D89-SUM($BK90:BN90))))","v":0},{"$f":"IF(AG89<=0,0,IF($D89<=SUM($BK90:BO90),0,IF(BD90+$D89-SUM($BK90:BO90)>AG89+AR90,AG89+AR90-BD90,$D89-SUM($BK90:BO90))))","v":0},{"$f":"IF(AH89<=0,0,IF($D89<=SUM($BK90:BP90),0,IF(BE90+$D89-SUM($BK90:BP90)>AH89+AS90,AH89+AS90-BE90,$D89-SUM($BK90:BP90))))","v":0},{"$f":"IF(AI89<=0,0,IF($D89<=SUM($BK90:BQ90),0,IF(BF90+$D89-SUM($BK90:BQ90)>AI89+AT90,AI89+AT90-BF90,$D89-SUM($BK90:BQ90))))","v":0},{"$f":"IF(AJ89<=0,0,IF($D89<=SUM($BK90:BR90),0,IF(BG90+$D89-SUM($BK90:BR90)>AJ89+AU90,AJ89+AU90-BG90,$D89-SUM($BK90:BR90))))","v":0},{"$f":"IF(AK89<=0,0,IF($D89<=SUM($BK90:BS90),0,IF(BH90+$D89-SUM($BK90:BS90)>AK89+AV90,AK89+AV90-BH90,$D89-SUM($BK90:BS90))))","v":0}]
[null,"","1905-10-01",0,0,0,0,0,0,0,0,0,0,0,null,null,null,null,null,null,null,null,null,null,null,null,0,0,0,0,0,0,0,0,0,0,0,null,0,0,0,0,0,0,0,0,0,0,0,null,0,0,0,0,0,0,0,0,0,0,0,null,0,{"$f":"IF(AC90<=0,0,IF($D90<=SUM($BK91:BK91),0,IF(AZ91+$D90-SUM($BK91:BK91)>AC90+AN91,AC90+AN91-AZ91,$D90-SUM($BK91:BK91))))","v":0},{"$f":"IF(AD90<=0,0,IF($D90<=SUM($BK91:BL91),0,IF(BA91+$D90-SUM($BK91:BL91)>AD90+AO91,AD90+AO91-BA91,$D90-SUM($BK91:BL91))))","v":0},{"$f":"IF(AE90<=0,0,IF($D90<=SUM($BK91:BM91),0,IF(BB91+$D90-SUM($BK91:BM91)>AE90+AP91,AE90+AP91-BB91,$D90-SUM($BK91:BM91))))","v":0},{"$f":"IF(AF90<=0,0,IF($D90<=SUM($BK91:BN91),0,IF(BC91+$D90-SUM($BK91:BN91)>AF90+AQ91,AF90+AQ91-BC91,$D90-SUM($BK91:BN91))))","v":0},{"$f":"IF(AG90<=0,0,IF($D90<=SUM($BK91:BO91),0,IF(BD91+$D90-SUM($BK91:BO91)>AG90+AR91,AG90+AR91-BD91,$D90-SUM($BK91:BO91))))","v":0},{"$f":"IF(AH90<=0,0,IF($D90<=SUM($BK91:BP91),0,IF(BE91+$D90-SUM($BK91:BP91)>AH90+AS91,AH90+AS91-BE91,$D90-SUM($BK91:BP91))))","v":0},{"$f":"IF(AI90<=0,0,IF($D90<=SUM($BK91:BQ91),0,IF(BF91+$D90-SUM($BK91:BQ91)>AI90+AT91,AI90+AT91-BF91,$D90-SUM($BK91:BQ91))))","v":0},{"$f":"IF(AJ90<=0,0,IF($D90<=SUM($BK91:BR91),0,IF(BG91+$D90-SUM($BK91:BR91)>AJ90+AU91,AJ90+AU91-BG91,$D90-SUM($BK91:BR91))))","v":0},{"$f":"IF(AK90<=0,0,IF($D90<=SUM($BK91:BS91),0,IF(BH91+$D90-SUM($BK91:BS91)>AK90+AV91,AK90+AV91-BH91,$D90-SUM($BK91:BS91))))","v":0}]
[null,"","1905-11-01",0,0,0,0,0,0,0,0,0,0,0,null,null,null,null,null,null,null,null,null,null,null,null,0,0,0,0,0,0,0,0,0,0,0,null,0,0,0,0,0,0,0,0,0,0,0,null,0,0,0,0,0,0,0,0,0,0,0,null,0,{"$f":"IF(AC91<=0,0,IF($D91<=SUM($BK92:BK92),0,IF(AZ92+$D91-SUM($BK92:BK92)>AC91+AN92,AC91+AN92-AZ92,$D91-SUM($BK92:BK92))))","v":0},{"$f":"IF(AD91<=0,0,IF($D91<=SUM($BK92:BL92),0,IF(BA92+$D91-SUM($BK92:BL92)>AD91+AO92,AD91+AO92-BA92,$D91-SUM($BK92:BL92))))","v":0},{"$f":"IF(AE91<=0,0,IF($D91<=SUM($BK92:BM92),0,IF(BB92+$D91-SUM($BK92:BM92)>AE91+AP92,AE91+AP92-BB92,$D91-SUM($BK92:BM92))))","v":0},{"$f":"IF(AF91<=0,0,IF($D91<=SUM($BK92:BN92),0,IF(BC92+$D91-SUM($BK92:BN92)>AF91+AQ92,AF91+AQ92-BC92,$D91-SUM($BK92:BN92))))","v":0},{"$f":"IF(AG91<=0,0,IF($D91<=SUM($BK92:BO92),0,IF(BD92+$D91-SUM($BK92:BO92)>AG91+AR92,AG91+AR92-BD92,$D91-SUM($BK92:BO92))))","v":0},{"$f":"IF(AH91<=0,0,IF($D91<=SUM($BK92:BP92),0,IF(BE92+$D91-SUM($BK92:BP92)>AH91+AS92,AH91+AS92-BE92,$D91-SUM($BK92:BP92))))","v":0},{"$f":"IF(AI91<=0,0,IF($D91<=SUM($BK92:BQ92),0,IF(BF92+$D91-SUM($BK92:BQ92)>AI91+AT92,AI91+AT92-BF92,$D91-SUM($BK92:BQ92))))","v":0},{"$f":"IF(AJ91<=0,0,IF($D91<=SUM($BK92:BR92),0,IF(BG92+$D91-SUM($BK92:BR92)>AJ91+AU92,AJ91+AU92-BG92,$D91-SUM($BK92:BR92))))","v":0},{"$f":"IF(AK91<=0,0,IF($D91<=SUM($BK92:BS92),0,IF(BH92+$D91-SUM($BK92:BS92)>AK91+AV92,AK91+AV92-BH92,$D91-SUM($BK92:BS92))))","v":0}]
[null,"","1905-12-01",0,0,0,0,0,0,0,0,0,0,0,null,null,null,null,null,null,null,null,null,null,null,null,0,0,0,0,0,0,0,0,0,0,0,null,0,0,0,0,0,0,0,0,0,0,0,null,0,0,0,0,0,0,0,0,0,0,0,null,0,{"$f":"IF(AC92<=0,0,IF($D92<=SUM($BK93:BK93),0,IF(AZ93+$D92-SUM($BK93:BK93)>AC92+AN93,AC92+AN93-AZ93,$D92-SUM($BK93:BK93))))","v":0},{"$f":"IF(AD92<=0,0,IF($D92<=SUM($BK93:BL93),0,IF(BA93+$D92-SUM($BK93:BL93)>AD92+AO93,AD92+AO93-BA93,$D92-SUM($BK93:BL93))))","v":0},{"$f":"IF(AE92<=0,0,IF($D92<=SUM($BK93:BM93),0,IF(BB93+$D92-SUM($BK93:BM93)>AE92+AP93,AE92+AP93-BB93,$D92-SUM($BK93:BM93))))","v":0},{"$f":"IF(AF92<=0,0,IF($D92<=SUM($BK93:BN93),0,IF(BC93+$D92-SUM($BK93:BN93)>AF92+AQ93,AF92+AQ93-BC93,$D92-SUM($BK93:BN93))))","v":0},{"$f":"IF(AG92<=0,0,IF($D92<=SUM($BK93:BO93),0,IF(BD93+$D92-SUM($BK93:BO93)>AG92+AR93,AG92+AR93-BD93,$D92-SUM($BK93:BO93))))","v":0},{"$f":"IF(AH92<=0,0,IF($D92<=SUM($BK93:BP93),0,IF(BE93+$D92-SUM($BK93:BP93)>AH92+AS93,AH92+AS93-BE93,$D92-SUM($BK93:BP93))))","v":0},{"$f":"IF(AI92<=0,0,IF($D92<=SUM($BK93:BQ93),0,IF(BF93+$D92-SUM($BK93:BQ93)>AI92+AT93,AI92+AT93-BF93,$D92-SUM($BK93:BQ93))))","v":0},{"$f":"IF(AJ92<=0,0,IF($D92<=SUM($BK93:BR93),0,IF(BG93+$D92-SUM($BK93:BR93)>AJ92+AU93,AJ92+AU93-BG93,$D92-SUM($BK93:BR93))))","v":0},{"$f":"IF(AK92<=0,0,IF($D92<=SUM($BK93:BS93),0,IF(BH93+$D92-SUM($BK93:BS93)>AK92+AV93,AK92+AV93-BH93,$D92-SUM($BK93:BS93))))","v":0}]
[null,"","1906-01-01",0,0,0,0,0,0,0,0,0,0,0,null,null,null,null,null,null,null,null,null,null,null,null,0,0,0,0,0,0,0,0,0,0,0,null,0,0,0,0,0,0,0,0,0,0,0,null,0,0,0,0,0,0,0,0,0,0,0,null,0,{"$f":"IF(AC93<=0,0,IF($D93<=SUM($BK94:BK94),0,IF(AZ94+$D93-SUM($BK94:BK94)>AC93+AN94,AC93+AN94-AZ94,$D93-SUM($BK94:BK94))))","v":0},{"$f":"IF(AD93<=0,0,IF($D93<=SUM($BK94:BL94),0,IF(BA94+$D93-SUM($BK94:BL94)>AD93+AO94,AD93+AO94-BA94,$D93-SUM($BK94:BL94))))","v":0},{"$f":"IF(AE93<=0,0,IF($D93<=SUM($BK94:BM94),0,IF(BB94+$D93-SUM($BK94:BM94)>AE93+AP94,AE93+AP94-BB94,$D93-SUM($BK94:BM94))))","v":0},{"$f":"IF(AF93<=0,0,IF($D93<=SUM($BK94:BN94),0,IF(BC94+$D93-SUM($BK94:BN94)>AF93+AQ94,AF93+AQ94-BC94,$D93-SUM($BK94:BN94))))","v":0},{"$f":"IF(AG93<=0,0,IF($D93<=SUM($BK94:BO94),0,IF(BD94+$D93-SUM($BK94:BO94)>AG93+AR94,AG93+AR94-BD94,$D93-SUM($BK94:BO94))))","v":0},{"$f":"IF(AH93<=0,0,IF($D93<=SUM($BK94:BP94),0,IF(BE94+$D93-SUM($BK94:BP94)>AH93+AS94,AH93+AS94-BE94,$D93-SUM($BK94:BP94))))","v":0},{"$f":"IF(AI93<=0,0,IF($D93<=SUM($BK94:BQ94),0,IF(BF94+$D93-SUM($BK94:BQ94)>AI93+AT94,AI93+AT94-BF94,$D93-SUM($BK94:BQ94))))","v":0},{"$f":"IF(AJ93<=0,0,IF($D93<=SUM($BK94:BR94),0,IF(BG94+$D93-SUM($BK94:BR94)>AJ93+AU94,AJ93+AU94-BG94,$D93-SUM($BK94:BR94))))","v":0},{"$f":"IF(AK93<=0,0,IF($D93<=SUM($BK94:BS94),0,IF(BH94+$D93-SUM($BK94:BS94)>AK93+AV94,AK93+AV94-BH94,$D93-SUM($BK94:BS94))))","v":0}]
[null,"","1906-02-01",0,0,0,0,0,0,0,0,0,0,0,null,null,null,null,null,null,null,null,null,null,null,null,0,0,0,0,0,0,0,0,0,0,0,null,0,0,0,0,0,0,0,0,0,0,0,null,0,0,0,0,0,0,0,0,0,0,0,null,0,{"$f":"IF(AC94<=0,0,IF($D94<=SUM($BK95:BK95),0,IF(AZ95+$D94-SUM($BK95:BK95)>AC94+AN95,AC94+AN95-AZ95,$D94-SUM($BK95:BK95))))","v":0},{"$f":"IF(AD94<=0,0,IF($D94<=SUM($BK95:BL95),0,IF(BA95+$D94-SUM($BK95:BL95)>AD94+AO95,AD94+AO95-BA95,$D94-SUM($BK95:BL95))))","v":0},{"$f":"IF(AE94<=0,0,IF($D94<=SUM($BK95:BM95),0,IF(BB95+$D94-SUM($BK95:BM95)>AE94+AP95,AE94+AP95-BB95,$D94-SUM($BK95:BM95))))","v":0},{"$f":"IF(AF94<=0,0,IF($D94<=SUM($BK95:BN95),0,IF(BC95+$D94-SUM($BK95:BN95)>AF94+AQ95,AF94+AQ95-BC95,$D94-SUM($BK95:BN95))))","v":0},{"$f":"IF(AG94<=0,0,IF($D94<=SUM($BK95:BO95),0,IF(BD95+$D94-SUM($BK95:BO95)>AG94+AR95,AG94+AR95-BD95,$D94-SUM($BK95:BO95))))","v":0},{"$f":"IF(AH94<=0,0,IF($D94<=SUM($BK95:BP95),0,IF(BE95+$D94-SUM($BK95:BP95)>AH94+AS95,AH94+AS95-BE95,$D94-SUM($BK95:BP95))))","v":0},{"$f":"IF(AI94<=0,0,IF($D94<=SUM($BK95:BQ95),0,IF(BF95+$D94-SUM($BK95:BQ95)>AI94+AT95,AI94+AT95-BF95,$D94-SUM($BK95:BQ95))))","v":0},{"$f":"IF(AJ94<=0,0,IF($D94<=SUM($BK95:BR95),0,IF(BG95+$D94-SUM($BK95:BR95)>AJ94+AU95,AJ94+AU95-BG95,$D94-SUM($BK95:BR95))))","v":0},{"$f":"IF(AK94<=0,0,IF($D94<=SUM($BK95:BS95),0,IF(BH95+$D94-SUM($BK95:BS95)>AK94+AV95,AK94+AV95-BH95,$D94-SUM($BK95:BS95))))","v":0}]
[null,"","1906-03-01",0,0,0,0,0,0,0,0,0,0,0,null,null,null,null,null,null,null,null,null,null,null,null,0,0,0,0,0,0,0,0,0,0,0,null,0,0,0,0,0,0,0,0,0,0,0,null,0,0,0,0,0,0,0,0,0,0,0,null,0,{"$f":"IF(AC95<=0,0,IF($D95<=SUM($BK96:BK96),0,IF(AZ96+$D95-SUM($BK96:BK96)>AC95+AN96,AC95+AN96-AZ96,$D95-SUM($BK96:BK96))))","v":0},{"$f":"IF(AD95<=0,0,IF($D95<=SUM($BK96:BL96),0,IF(BA96+$D95-SUM($BK96:BL96)>AD95+AO96,AD95+AO96-BA96,$D95-SUM($BK96:BL96))))","v":0},{"$f":"IF(AE95<=0,0,IF($D95<=SUM($BK96:BM96),0,IF(BB96+$D95-SUM($BK96:BM96)>AE95+AP96,AE95+AP96-BB96,$D95-SUM($BK96:BM96))))","v":0},{"$f":"IF(AF95<=0,0,IF($D95<=SUM($BK96:BN96),0,IF(BC96+$D95-SUM($BK96:BN96)>AF95+AQ96,AF95+AQ96-BC96,$D95-SUM($BK96:BN96))))","v":0},{"$f":"IF(AG95<=0,0,IF($D95<=SUM($BK96:BO96),0,IF(BD96+$D95-SUM($BK96:BO96)>AG95+AR96,AG95+AR96-BD96,$D95-SUM($BK96:BO96))))","v":0},{"$f":"IF(AH95<=0,0,IF($D95<=SUM($BK96:BP96),0,IF(BE96+$D95-SUM($BK96:BP96)>AH95+AS96,AH95+AS96-BE96,$D95-SUM($BK96:BP96))))","v":0},{"$f":"IF(AI95<=0,0,IF($D95<=SUM($BK96:BQ96),0,IF(BF96+$D95-SUM($BK96:BQ96)>AI95+AT96,AI95+AT96-BF96,$D95-SUM($BK96:BQ96))))","v":0},{"$f":"IF(AJ95<=0,0,IF($D95<=SUM($BK96:BR96),0,IF(BG96+$D95-SUM($BK96:BR96)>AJ95+AU96,AJ95+AU96-BG96,$D95-SUM($BK96:BR96))))","v":0},{"$f":"IF(AK95<=0,0,IF($D95<=SUM($BK96:BS96),0,IF(BH96+$D95-SUM($BK96:BS96)>AK95+AV96,AK95+AV96-BH96,$D95-SUM($BK96:BS96))))","v":0}]
[null,"","1906-04-01",0,0,0,0,0,0,0,0,0,0,0,null,null,null,null,null,null,null,null,null,null,null,null,0,0,0,0,0,0,0,0,0,0,0,null,0,0,0,0,0,0,0,0,0,0,0,null,0,0,0,0,0,0,0,0,0,0,0,null,0,{"$f":"IF(AC96<=0,0,IF($D96<=SUM($BK97:BK97),0,IF(AZ97+$D96-SUM($BK97:BK97)>AC96+AN97,AC96+AN97-AZ97,$D96-SUM($BK97:BK97))))","v":0},{"$f":"IF(AD96<=0,0,IF($D96<=SUM($BK97:BL97),0,IF(BA97+$D96-SUM($BK97:BL97)>AD96+AO97,AD96+AO97-BA97,$D96-SUM($BK97:BL97))))","v":0},{"$f":"IF(AE96<=0,0,IF($D96<=SUM($BK97:BM97),0,IF(BB97+$D96-SUM($BK97:BM97)>AE96+AP97,AE96+AP97-BB97,$D96-SUM($BK97:BM97))))","v":0},{"$f":"IF(AF96<=0,0,IF($D96<=SUM($BK97:BN97),0,IF(BC97+$D96-SUM($BK97:BN97)>AF96+AQ97,AF96+AQ97-BC97,$D96-SUM($BK97:BN97))))","v":0},{"$f":"IF(AG96<=0,0,IF($D96<=SUM($BK97:BO97),0,IF(BD97+$D96-SUM($BK97:BO97)>AG96+AR97,AG96+AR97-BD97,$D96-SUM($BK97:BO97))))","v":0},{"$f":"IF(AH96<=0,0,IF($D96<=SUM($BK97:BP97),0,IF(BE97+$D96-SUM($BK97:BP97)>AH96+AS97,AH96+AS97-BE97,$D96-SUM($BK97:BP97))))","v":0},{"$f":"IF(AI96<=0,0,IF($D96<=SUM($BK97:BQ97),0,IF(BF97+$D96-SUM($BK97:BQ97)>AI96+AT97,AI96+AT97-BF97,$D96-SUM($BK97:BQ97))))","v":0},{"$f":"IF(AJ96<=0,0,IF($D96<=SUM($BK97:BR97),0,IF(BG97+$D96-SUM($BK97:BR97)>AJ96+AU97,AJ96+AU97-BG97,$D96-SUM($BK97:BR97))))","v":0},{"$f":"IF(AK96<=0,0,IF($D96<=SUM($BK97:BS97),0,IF(BH97+$D96-SUM($BK97:BS97)>AK96+AV97,AK96+AV97-BH97,$D96-SUM($BK97:BS97))))","v":0}]
[null,"","1906-05-01",0,0,0,0,0,0,0,0,0,0,0,null,null,null,null,null,null,null,null,null,null,null,null,0,0,0,0,0,0,0,0,0,0,0,null,0,0,0,0,0,0,0,0,0,0,0,null,0,0,0,0,0,0,0,0,0,0,0,null,0,{"$f":"IF(AC97<=0,0,IF($D97<=SUM($BK98:BK98),0,IF(AZ98+$D97-SUM($BK98:BK98)>AC97+AN98,AC97+AN98-AZ98,$D97-SUM($BK98:BK98))))","v":0},{"$f":"IF(AD97<=0,0,IF($D97<=SUM($BK98:BL98),0,IF(BA98+$D97-SUM($BK98:BL98)>AD97+AO98,AD97+AO98-BA98,$D97-SUM($BK98:BL98))))","v":0},{"$f":"IF(AE97<=0,0,IF($D97<=SUM($BK98:BM98),0,IF(BB98+$D97-SUM($BK98:BM98)>AE97+AP98,AE97+AP98-BB98,$D97-SUM($BK98:BM98))))","v":0},{"$f":"IF(AF97<=0,0,IF($D97<=SUM($BK98:BN98),0,IF(BC98+$D97-SUM($BK98:BN98)>AF97+AQ98,AF97+AQ98-BC98,$D97-SUM($BK98:BN98))))","v":0},{"$f":"IF(AG97<=0,0,IF($D97<=SUM($BK98:BO98),0,IF(BD98+$D97-SUM($BK98:BO98)>AG97+AR98,AG97+AR98-BD98,$D97-SUM($BK98:BO98))))","v":0},{"$f":"IF(AH97<=0,0,IF($D97<=SUM($BK98:BP98),0,IF(BE98+$D97-SUM($BK98:BP98)>AH97+AS98,AH97+AS98-BE98,$D97-SUM($BK98:BP98))))","v":0},{"$f":"IF(AI97<=0,0,IF($D97<=SUM($BK98:BQ98),0,IF(BF98+$D97-SUM($BK98:BQ98)>AI97+AT98,AI97+AT98-BF98,$D97-SUM($BK98:BQ98))))","v":0},{"$f":"IF(AJ97<=0,0,IF($D97<=SUM($BK98:BR98),0,IF(BG98+$D97-SUM($BK98:BR98)>AJ97+AU98,AJ97+AU98-BG98,$D97-SUM($BK98:BR98))))","v":0},{"$f":"IF(AK97<=0,0,IF($D97<=SUM($BK98:BS98),0,IF(BH98+$D97-SUM($BK98:BS98)>AK97+AV98,AK97+AV98-BH98,$D97-SUM($BK98:BS98))))","v":0}]
[null,"","1906-06-01",0,0,0,0,0,0,0,0,0,0,0,null,null,null,null,null,null,null,null,null,null,null,null,0,0,0,0,0,0,0,0,0,0,0,null,0,0,0,0,0,0,0,0,0,0,0,null,0,0,0,0,0,0,0,0,0,0,0,null,0,{"$f":"IF(AC98<=0,0,IF($D98<=SUM($BK99:BK99),0,IF(AZ99+$D98-SUM($BK99:BK99)>AC98+AN99,AC98+AN99-AZ99,$D98-SUM($BK99:BK99))))","v":0},{"$f":"IF(AD98<=0,0,IF($D98<=SUM($BK99:BL99),0,IF(BA99+$D98-SUM($BK99:BL99)>AD98+AO99,AD98+AO99-BA99,$D98-SUM($BK99:BL99))))","v":0},{"$f":"IF(AE98<=0,0,IF($D98<=SUM($BK99:BM99),0,IF(BB99+$D98-SUM($BK99:BM99)>AE98+AP99,AE98+AP99-BB99,$D98-SUM($BK99:BM99))))","v":0},{"$f":"IF(AF98<=0,0,IF($D98<=SUM($BK99:BN99),0,IF(BC99+$D98-SUM($BK99:BN99)>AF98+AQ99,AF98+AQ99-BC99,$D98-SUM($BK99:BN99))))","v":0},{"$f":"IF(AG98<=0,0,IF($D98<=SUM($BK99:BO99),0,IF(BD99+$D98-SUM($BK99:BO99)>AG98+AR99,AG98+AR99-BD99,$D98-SUM($BK99:BO99))))","v":0},{"$f":"IF(AH98<=0,0,IF($D98<=SUM($BK99:BP99),0,IF(BE99+$D98-SUM($BK99:BP99)>AH98+AS99,AH98+AS99-BE99,$D98-SUM($BK99:BP99))))","v":0},{"$f":"IF(AI98<=0,0,IF($D98<=SUM($BK99:BQ99),0,IF(BF99+$D98-SUM($BK99:BQ99)>AI98+AT99,AI98+AT99-BF99,$D98-SUM($BK99:BQ99))))","v":0},{"$f":"IF(AJ98<=0,0,IF($D98<=SUM($BK99:BR99),0,IF(BG99+$D98-SUM($BK99:BR99)>AJ98+AU99,AJ98+AU99-BG99,$D98-SUM($BK99:BR99))))","v":0},{"$f":"IF(AK98<=0,0,IF($D98<=SUM($BK99:BS99),0,IF(BH99+$D98-SUM($BK99:BS99)>AK98+AV99,AK98+AV99-BH99,$D98-SUM($BK99:BS99))))","v":0}]
[null,"","1906-07-01",0,0,0,0,0,0,0,0,0,0,0,null,null,null,null,null,null,null,null,null,null,null,null,0,0,0,0,0,0,0,0,0,0,0,null,0,0,0,0,0,0,0,0,0,0,0,null,0,0,0,0,0,0,0,0,0,0,0,null,0,{"$f":"IF(AC99<=0,0,IF($D99<=SUM($BK100:BK100),0,IF(AZ100+$D99-SUM($BK100:BK100)>AC99+AN100,AC99+AN100-AZ100,$D99-SUM($BK100:BK100))))","v":0},{"$f":"IF(AD99<=0,0,IF($D99<=SUM($BK100:BL100),0,IF(BA100+$D99-SUM($BK100:BL100)>AD99+AO100,AD99+AO100-BA100,$D99-SUM($BK100:BL100))))","v":0},{"$f":"IF(AE99<=0,0,IF($D99<=SUM($BK100:BM100),0,IF(BB100+$D99-SUM($BK100:BM100)>AE99+AP100,AE99+AP100-BB100,$D99-SUM($BK100:BM100))))","v":0},{"$f":"IF(AF99<=0,0,IF($D99<=SUM($BK100:BN100),0,IF(BC100+$D99-SUM($BK100:BN100)>AF99+AQ100,AF99+AQ100-BC100,$D99-SUM($BK100:BN100))))","v":0},{"$f":"IF(AG99<=0,0,IF($D99<=SUM($BK100:BO100),0,IF(BD100+$D99-SUM($BK100:BO100)>AG99+AR100,AG99+AR100-BD100,$D99-SUM($BK100:BO100))))","v":0},{"$f":"IF(AH99<=0,0,IF($D99<=SUM($BK100:BP100),0,IF(BE100+$D99-SUM($BK100:BP100)>AH99+AS100,AH99+AS100-BE100,$D99-SUM($BK100:BP100))))","v":0},{"$f":"IF(AI99<=0,0,IF($D99<=SUM($BK100:BQ100),0,IF(BF100+$D99-SUM($BK100:BQ100)>AI99+AT100,AI99+AT100-BF100,$D99-SUM($BK100:BQ100))))","v":0},{"$f":"IF(AJ99<=0,0,IF($D99<=SUM($BK100:BR100),0,IF(BG100+$D99-SUM($BK100:BR100)>AJ99+AU100,AJ99+AU100-BG100,$D99-SUM($BK100:BR100))))","v":0},{"$f":"IF(AK99<=0,0,IF($D99<=SUM($BK100:BS100),0,IF(BH100+$D99-SUM($BK100:BS100)>AK99+AV100,AK99+AV100-BH100,$D99-SUM($BK100:BS100))))","v":0}]
[null,"","1906-08-01",0,0,0,0,0,0,0,0,0,0,0,null,null,null,null,null,null,null,null,null,null,null,null,0,0,0,0,0,0,0,0,0,0,0,null,0,0,0,0,0,0,0,0,0,0,0,null,0,0,0,0,0,0,0,0,0,0,0,null,0,{"$f":"IF(AC100<=0,0,IF($D100<=SUM($BK101:BK101),0,IF(AZ101+$D100-SUM($BK101:BK101)>AC100+AN101,AC100+AN101-AZ101,$D100-SUM($BK101:BK101))))","v":0},{"$f":"IF(AD100<=0,0,IF($D100<=SUM($BK101:BL101),0,IF(BA101+$D100-SUM($BK101:BL101)>AD100+AO101,AD100+AO101-BA101,$D100-SUM($BK101:BL101))))","v":0},{"$f":"IF(AE100<=0,0,IF($D100<=SUM($BK101:BM101),0,IF(BB101+$D100-SUM($BK101:BM101)>AE100+AP101,AE100+AP101-BB101,$D100-SUM($BK101:BM101))))","v":0},{"$f":"IF(AF100<=0,0,IF($D100<=SUM($BK101:BN101),0,IF(BC101+$D100-SUM($BK101:BN101)>AF100+AQ101,AF100+AQ101-BC101,$D100-SUM($BK101:BN101))))","v":0},{"$f":"IF(AG100<=0,0,IF($D100<=SUM($BK101:BO101),0,IF(BD101+$D100-SUM($BK101:BO101)>AG100+AR101,AG100+AR101-BD101,$D100-SUM($BK101:BO101))))","v":0},{"$f":"IF(AH100<=0,0,IF($D100<=SUM($BK101:BP101),0,IF(BE101+$D100-SUM($BK101:BP101)>AH100+AS101,AH100+AS101-BE101,$D100-SUM($BK101:BP101))))","v":0},{"$f":"IF(AI100<=0,0,IF($D100<=SUM($BK101:BQ101),0,IF(BF101+$D100-SUM($BK101:BQ101)>AI100+AT101,AI100+AT101-BF101,$D100-SUM($BK101:BQ101))))","v":0},{"$f":"IF(AJ100<=0,0,IF($D100<=SUM($BK101:BR101),0,IF(BG101+$D100-SUM($BK101:BR101)>AJ100+AU101,AJ100+AU101-BG101,$D100-SUM($BK101:BR101))))","v":0},{"$f":"IF(AK100<=0,0,IF($D100<=SUM($BK101:BS101),0,IF(BH101+$D100-SUM($BK101:BS101)>AK100+AV101,AK100+AV101-BH101,$D100-SUM($BK101:BS101))))","v":0}]
[null,"","1906-09-01",0,0,0,0,0,0,0,0,0,0,0,null,null,null,null,null,null,null,null,null,null,null,null,0,0,0,0,0,0,0,0,0,0,0,null,0,0,0,0,0,0,0,0,0,0,0,null,0,0,0,0,0,0,0,0,0,0,0,null,0,{"$f":"IF(AC101<=0,0,IF($D101<=SUM($BK102:BK102),0,IF(AZ102+$D101-SUM($BK102:BK102)>AC101+AN102,AC101+AN102-AZ102,$D101-SUM($BK102:BK102))))","v":0},{"$f":"IF(AD101<=0,0,IF($D101<=SUM($BK102:BL102),0,IF(BA102+$D101-SUM($BK102:BL102)>AD101+AO102,AD101+AO102-BA102,$D101-SUM($BK102:BL102))))","v":0},{"$f":"IF(AE101<=0,0,IF($D101<=SUM($BK102:BM102),0,IF(BB102+$D101-SUM($BK102:BM102)>AE101+AP102,AE101+AP102-BB102,$D101-SUM($BK102:BM102))))","v":0},{"$f":"IF(AF101<=0,0,IF($D101<=SUM($BK102:BN102),0,IF(BC102+$D101-SUM($BK102:BN102)>AF101+AQ102,AF101+AQ102-BC102,$D101-SUM($BK102:BN102))))","v":0},{"$f":"IF(AG101<=0,0,IF($D101<=SUM($BK102:BO102),0,IF(BD102+$D101-SUM($BK102:BO102)>AG101+AR102,AG101+AR102-BD102,$D101-SUM($BK102:BO102))))","v":0},{"$f":"IF(AH101<=0,0,IF($D101<=SUM($BK102:BP102),0,IF(BE102+$D101-SUM($BK102:BP102)>AH101+AS102,AH101+AS102-BE102,$D101-SUM($BK102:BP102))))","v":0},{"$f":"IF(AI101<=0,0,IF($D101<=SUM($BK102:BQ102),0,IF(BF102+$D101-SUM($BK102:BQ102)>AI101+AT102,AI101+AT102-BF102,$D101-SUM($BK102:BQ102))))","v":0},{"$f":"IF(AJ101<=0,0,IF($D101<=SUM($BK102:BR102),0,IF(BG102+$D101-SUM($BK102:BR102)>AJ101+AU102,AJ101+AU102-BG102,$D101-SUM($BK102:BR102))))","v":0},{"$f":"IF(AK101<=0,0,IF($D101<=SUM($BK102:BS102),0,IF(BH102+$D101-SUM($BK102:BS102)>AK101+AV102,AK101+AV102-BH102,$D101-SUM($BK102:BS102))))","v":0}]
[null,"","1906-10-01",0,0,{"$f":"+AZ104+BL104","v":0},{"$f":"+BA104+BM104","v":0},{"$f":"+BB104+BN104","v":0},{"$f":"+BC104+BO104","v":0},{"$f":"+BD104+BP104","v":0},{"$f":"+BE104+BQ104","v":0},{"$f":"+BF104+BR104","v":0},{"$f":"+BG104+BS104","v":0},{"$f":"+BH104+BT104","v":0},null,null,null,null,null,null,null,null,null,null,null,null,0,0,0,0,0,0,0,0,0,0,0,null,0,0,0,0,0,0,0,0,0,0,0,null,0,0,0,0,0,0,0,0,0,0,0,null,0,{"$f":"IF(AC102<=0,0,IF($D102<=SUM($BK103:BK103),0,IF(AZ103+$D102-SUM($BK103:BK103)>AC102+AN103,AC102+AN103-AZ103,$D102-SUM($BK103:BK103))))","v":0},{"$f":"IF(AD102<=0,0,IF($D102<=SUM($BK103:BL103),0,IF(BA103+$D102-SUM($BK103:BL103)>AD102+AO103,AD102+AO103-BA103,$D102-SUM($BK103:BL103))))","v":0},{"$f":"IF(AE102<=0,0,IF($D102<=SUM($BK103:BM103),0,IF(BB103+$D102-SUM($BK103:BM103)>AE102+AP103,AE102+AP103-BB103,$D102-SUM($BK103:BM103))))","v":0},{"$f":"IF(AF102<=0,0,IF($D102<=SUM($BK103:BN103),0,IF(BC103+$D102-SUM($BK103:BN103)>AF102+AQ103,AF102+AQ103-BC103,$D102-SUM($BK103:BN103))))","v":0},{"$f":"IF(AG102<=0,0,IF($D102<=SUM($BK103:BO103),0,IF(BD103+$D102-SUM($BK103:BO103)>AG102+AR103,AG102+AR103-BD103,$D102-SUM($BK103:BO103))))","v":0},{"$f":"IF(AH102<=0,0,IF($D102<=SUM($BK103:BP103),0,IF(BE103+$D102-SUM($BK103:BP103)>AH102+AS103,AH102+AS103-BE103,$D102-SUM($BK103:BP103))))","v":0},{"$f":"IF(AI102<=0,0,IF($D102<=SUM($BK103:BQ103),0,IF(BF103+$D102-SUM($BK103:BQ103)>AI102+AT103,AI102+AT103-BF103,$D102-SUM($BK103:BQ103))))","v":0},{"$f":"IF(AJ102<=0,0,IF($D102<=SUM($BK103:BR103),0,IF(BG103+$D102-SUM($BK103:BR103)>AJ102+AU103,AJ102+AU103-BG103,$D102-SUM($BK103:BR103))))","v":0},{"$f":"IF(AK102<=0,0,IF($D102<=SUM($BK103:BS103),0,IF(BH103+$D102-SUM($BK103:BS103)>AK102+AV103,AK102+AV103-BH103,$D102-SUM($BK103:BS103))))","v":0}]
[null,"","1906-11-01",0,0,0,0,0,0,0,0,0,0,0,null,null,null,null,null,null,null,null,null,null,null,null,0,0,0,0,0,0,0,0,0,0,0,null,0,0,0,0,0,0,0,0,0,0,0,null,0,0,0,0,0,0,0,0,0,0,0,null,0,{"$f":"IF(AC103<=0,0,IF($D103<=SUM($BK104:BK104),0,IF(AZ104+$D103-SUM($BK104:BK104)>AC103+AN104,AC103+AN104-AZ104,$D103-SUM($BK104:BK104))))","v":0},{"$f":"IF(AD103<=0,0,IF($D103<=SUM($BK104:BL104),0,IF(BA104+$D103-SUM($BK104:BL104)>AD103+AO104,AD103+AO104-BA104,$D103-SUM($BK104:BL104))))","v":0},{"$f":"IF(AE103<=0,0,IF($D103<=SUM($BK104:BM104),0,IF(BB104+$D103-SUM($BK104:BM104)>AE103+AP104,AE103+AP104-BB104,$D103-SUM($BK104:BM104))))","v":0},{"$f":"IF(AF103<=0,0,IF($D103<=SUM($BK104:BN104),0,IF(BC104+$D103-SUM($BK104:BN104)>AF103+AQ104,AF103+AQ104-BC104,$D103-SUM($BK104:BN104))))","v":0},{"$f":"IF(AG103<=0,0,IF($D103<=SUM($BK104:BO104),0,IF(BD104+$D103-SUM($BK104:BO104)>AG103+AR104,AG103+AR104-BD104,$D103-SUM($BK104:BO104))))","v":0},{"$f":"IF(AH103<=0,0,IF($D103<=SUM($BK104:BP104),0,IF(BE104+$D103-SUM($BK104:BP104)>AH103+AS104,AH103+AS104-BE104,$D103-SUM($BK104:BP104))))","v":0},{"$f":"IF(AI103<=0,0,IF($D103<=SUM($BK104:BQ104),0,IF(BF104+$D103-SUM($BK104:BQ104)>AI103+AT104,AI103+AT104-BF104,$D103-SUM($BK104:BQ104))))","v":0},{"$f":"IF(AJ103<=0,0,IF($D103<=SUM($BK104:BR104),0,IF(BG104+$D103-SUM($BK104:BR104)>AJ103+AU104,AJ103+AU104-BG104,$D103-SUM($BK104:BR104))))","v":0},{"$f":"IF(AK103<=0,0,IF($D103<=SUM($BK104:BS104),0,IF(BH104+$D103-SUM($BK104:BS104)>AK103+AV104,AK103+AV104-BH104,$D103-SUM($BK104:BS104))))","v":0}]
[null,"","1906-12-01",0,0,0,0,0,0,0,0,0,0,0,null,null,null,null,null,null,null,null,null,null,null,null,0,0,0,0,0,0,0,0,0,0,0,null,0,0,0,0,0,0,0,0,0,0,0,null,0,0,0,0,0,0,0,0,0,0,0,null,0,{"$f":"IF(AC104<=0,0,IF($D104<=SUM($BK105:BK105),0,IF(AZ105+$D104-SUM($BK105:BK105)>AC104+AN105,AC104+AN105-AZ105,$D104-SUM($BK105:BK105))))","v":0},{"$f":"IF(AD104<=0,0,IF($D104<=SUM($BK105:BL105),0,IF(BA105+$D104-SUM($BK105:BL105)>AD104+AO105,AD104+AO105-BA105,$D104-SUM($BK105:BL105))))","v":0},{"$f":"IF(AE104<=0,0,IF($D104<=SUM($BK105:BM105),0,IF(BB105+$D104-SUM($BK105:BM105)>AE104+AP105,AE104+AP105-BB105,$D104-SUM($BK105:BM105))))","v":0},{"$f":"IF(AF104<=0,0,IF($D104<=SUM($BK105:BN105),0,IF(BC105+$D104-SUM($BK105:BN105)>AF104+AQ105,AF104+AQ105-BC105,$D104-SUM($BK105:BN105))))","v":0},{"$f":"IF(AG104<=0,0,IF($D104<=SUM($BK105:BO105),0,IF(BD105+$D104-SUM($BK105:BO105)>AG104+AR105,AG104+AR105-BD105,$D104-SUM($BK105:BO105))))","v":0},{"$f":"IF(AH104<=0,0,IF($D104<=SUM($BK105:BP105),0,IF(BE105+$D104-SUM($BK105:BP105)>AH104+AS105,AH104+AS105-BE105,$D104-SUM($BK105:BP105))))","v":0},{"$f":"IF(AI104<=0,0,IF($D104<=SUM($BK105:BQ105),0,IF(BF105+$D104-SUM($BK105:BQ105)>AI104+AT105,AI104+AT105-BF105,$D104-SUM($BK105:BQ105))))","v":0},{"$f":"IF(AJ104<=0,0,IF($D104<=SUM($BK105:BR105),0,IF(BG105+$D104-SUM($BK105:BR105)>AJ104+AU105,AJ104+AU105-BG105,$D104-SUM($BK105:BR105))))","v":0},{"$f":"IF(AK104<=0,0,IF($D104<=SUM($BK105:BS105),0,IF(BH105+$D104-SUM($BK105:BS105)>AK104+AV105,AK104+AV105-BH105,$D104-SUM($BK105:BS105))))","v":0}]
[null,"","1907-01-01",0,0,0,0,0,0,0,0,0,0,0,null,null,null,null,null,null,null,null,null,null,null,null,0,0,0,0,0,0,0,0,0,0,0,null,0,0,0,0,0,0,0,0,0,0,0,null,0,0,0,0,0,0,0,0,0,0,0,null,0,{"$f":"IF(AC105<=0,0,IF($D105<=SUM($BK106:BK106),0,IF(AZ106+$D105-SUM($BK106:BK106)>AC105+AN106,AC105+AN106-AZ106,$D105-SUM($BK106:BK106))))","v":0},{"$f":"IF(AD105<=0,0,IF($D105<=SUM($BK106:BL106),0,IF(BA106+$D105-SUM($BK106:BL106)>AD105+AO106,AD105+AO106-BA106,$D105-SUM($BK106:BL106))))","v":0},{"$f":"IF(AE105<=0,0,IF($D105<=SUM($BK106:BM106),0,IF(BB106+$D105-SUM($BK106:BM106)>AE105+AP106,AE105+AP106-BB106,$D105-SUM($BK106:BM106))))","v":0},{"$f":"IF(AF105<=0,0,IF($D105<=SUM($BK106:BN106),0,IF(BC106+$D105-SUM($BK106:BN106)>AF105+AQ106,AF105+AQ106-BC106,$D105-SUM($BK106:BN106))))","v":0},{"$f":"IF(AG105<=0,0,IF($D105<=SUM($BK106:BO106),0,IF(BD106+$D105-SUM($BK106:BO106)>AG105+AR106,AG105+AR106-BD106,$D105-SUM($BK106:BO106))))","v":0},{"$f":"IF(AH105<=0,0,IF($D105<=SUM($BK106:BP106),0,IF(BE106+$D105-SUM($BK106:BP106)>AH105+AS106,AH105+AS106-BE106,$D105-SUM($BK106:BP106))))","v":0},{"$f":"IF(AI105<=0,0,IF($D105<=SUM($BK106:BQ106),0,IF(BF106+$D105-SUM($BK106:BQ106)>AI105+AT106,AI105+AT106-BF106,$D105-SUM($BK106:BQ106))))","v":0},{"$f":"IF(AJ105<=0,0,IF($D105<=SUM($BK106:BR106),0,IF(BG106+$D105-SUM($BK106:BR106)>AJ105+AU106,AJ105+AU106-BG106,$D105-SUM($BK106:BR106))))","v":0},{"$f":"IF(AK105<=0,0,IF($D105<=SUM($BK106:BS106),0,IF(BH106+$D105-SUM($BK106:BS106)>AK105+AV106,AK105+AV106-BH106,$D105-SUM($BK106:BS106))))","v":0}]
[null,"","1907-02-01",0,0,0,0,0,0,0,0,0,0,0,null,null,null,null,null,null,null,null,null,null,null,null,0,0,0,0,0,0,0,0,0,0,0,null,0,0,0,0,0,0,0,0,0,0,0,null,0,0,0,0,0,0,0,0,0,0,0,null,0,{"$f":"IF(AC106<=0,0,IF($D106<=SUM($BK107:BK107),0,IF(AZ107+$D106-SUM($BK107:BK107)>AC106+AN107,AC106+AN107-AZ107,$D106-SUM($BK107:BK107))))","v":0},{"$f":"IF(AD106<=0,0,IF($D106<=SUM($BK107:BL107),0,IF(BA107+$D106-SUM($BK107:BL107)>AD106+AO107,AD106+AO107-BA107,$D106-SUM($BK107:BL107))))","v":0},{"$f":"IF(AE106<=0,0,IF($D106<=SUM($BK107:BM107),0,IF(BB107+$D106-SUM($BK107:BM107)>AE106+AP107,AE106+AP107-BB107,$D106-SUM($BK107:BM107))))","v":0},{"$f":"IF(AF106<=0,0,IF($D106<=SUM($BK107:BN107),0,IF(BC107+$D106-SUM($BK107:BN107)>AF106+AQ107,AF106+AQ107-BC107,$D106-SUM($BK107:BN107))))","v":0},{"$f":"IF(AG106<=0,0,IF($D106<=SUM($BK107:BO107),0,IF(BD107+$D106-SUM($BK107:BO107)>AG106+AR107,AG106+AR107-BD107,$D106-SUM($BK107:BO107))))","v":0},{"$f":"IF(AH106<=0,0,IF($D106<=SUM($BK107:BP107),0,IF(BE107+$D106-SUM($BK107:BP107)>AH106+AS107,AH106+AS107-BE107,$D106-SUM($BK107:BP107))))","v":0},{"$f":"IF(AI106<=0,0,IF($D106<=SUM($BK107:BQ107),0,IF(BF107+$D106-SUM($BK107:BQ107)>AI106+AT107,AI106+AT107-BF107,$D106-SUM($BK107:BQ107))))","v":0},{"$f":"IF(AJ106<=0,0,IF($D106<=SUM($BK107:BR107),0,IF(BG107+$D106-SUM($BK107:BR107)>AJ106+AU107,AJ106+AU107-BG107,$D106-SUM($BK107:BR107))))","v":0},{"$f":"IF(AK106<=0,0,IF($D106<=SUM($BK107:BS107),0,IF(BH107+$D106-SUM($BK107:BS107)>AK106+AV107,AK106+AV107-BH107,$D106-SUM($BK107:BS107))))","v":0}]
[null,"","1907-03-01",0,0,0,0,0,0,0,0,0,0,0,null,null,null,null,null,null,null,null,null,null,null,null,0,0,0,0,0,0,0,0,0,0,0,null,0,0,0,0,0,0,0,0,0,0,0,null,0,0,0,0,0,0,0,0,0,0,0,null,0,{"$f":"IF(AC107<=0,0,IF($D107<=SUM($BK108:BK108),0,IF(AZ108+$D107-SUM($BK108:BK108)>AC107+AN108,AC107+AN108-AZ108,$D107-SUM($BK108:BK108))))","v":0},{"$f":"IF(AD107<=0,0,IF($D107<=SUM($BK108:BL108),0,IF(BA108+$D107-SUM($BK108:BL108)>AD107+AO108,AD107+AO108-BA108,$D107-SUM($BK108:BL108))))","v":0},{"$f":"IF(AE107<=0,0,IF($D107<=SUM($BK108:BM108),0,IF(BB108+$D107-SUM($BK108:BM108)>AE107+AP108,AE107+AP108-BB108,$D107-SUM($BK108:BM108))))","v":0},{"$f":"IF(AF107<=0,0,IF($D107<=SUM($BK108:BN108),0,IF(BC108+$D107-SUM($BK108:BN108)>AF107+AQ108,AF107+AQ108-BC108,$D107-SUM($BK108:BN108))))","v":0},{"$f":"IF(AG107<=0,0,IF($D107<=SUM($BK108:BO108),0,IF(BD108+$D107-SUM($BK108:BO108)>AG107+AR108,AG107+AR108-BD108,$D107-SUM($BK108:BO108))))","v":0},{"$f":"IF(AH107<=0,0,IF($D107<=SUM($BK108:BP108),0,IF(BE108+$D107-SUM($BK108:BP108)>AH107+AS108,AH107+AS108-BE108,$D107-SUM($BK108:BP108))))","v":0},{"$f":"IF(AI107<=0,0,IF($D107<=SUM($BK108:BQ108),0,IF(BF108+$D107-SUM($BK108:BQ108)>AI107+AT108,AI107+AT108-BF108,$D107-SUM($BK108:BQ108))))","v":0},{"$f":"IF(AJ107<=0,0,IF($D107<=SUM($BK108:BR108),0,IF(BG108+$D107-SUM($BK108:BR108)>AJ107+AU108,AJ107+AU108-BG108,$D107-SUM($BK108:BR108))))","v":0},{"$f":"IF(AK107<=0,0,IF($D107<=SUM($BK108:BS108),0,IF(BH108+$D107-SUM($BK108:BS108)>AK107+AV108,AK107+AV108-BH108,$D107-SUM($BK108:BS108))))","v":0}]
[null,"","1907-04-01",0,0,0,0,0,0,0,0,0,0,0,null,null,null,null,null,null,null,null,null,null,null,null,0,0,0,0,0,0,0,0,0,0,0,null,0,0,0,0,0,0,0,0,0,0,0,null,0,0,0,0,0,0,0,0,0,0,0,null,0,{"$f":"IF(AC108<=0,0,IF($D108<=SUM($BK109:BK109),0,IF(AZ109+$D108-SUM($BK109:BK109)>AC108+AN109,AC108+AN109-AZ109,$D108-SUM($BK109:BK109))))","v":0},{"$f":"IF(AD108<=0,0,IF($D108<=SUM($BK109:BL109),0,IF(BA109+$D108-SUM($BK109:BL109)>AD108+AO109,AD108+AO109-BA109,$D108-SUM($BK109:BL109))))","v":0},{"$f":"IF(AE108<=0,0,IF($D108<=SUM($BK109:BM109),0,IF(BB109+$D108-SUM($BK109:BM109)>AE108+AP109,AE108+AP109-BB109,$D108-SUM($BK109:BM109))))","v":0},{"$f":"IF(AF108<=0,0,IF($D108<=SUM($BK109:BN109),0,IF(BC109+$D108-SUM($BK109:BN109)>AF108+AQ109,AF108+AQ109-BC109,$D108-SUM($BK109:BN109))))","v":0},{"$f":"IF(AG108<=0,0,IF($D108<=SUM($BK109:BO109),0,IF(BD109+$D108-SUM($BK109:BO109)>AG108+AR109,AG108+AR109-BD109,$D108-SUM($BK109:BO109))))","v":0},{"$f":"IF(AH108<=0,0,IF($D108<=SUM($BK109:BP109),0,IF(BE109+$D108-SUM($BK109:BP109)>AH108+AS109,AH108+AS109-BE109,$D108-SUM($BK109:BP109))))","v":0},{"$f":"IF(AI108<=0,0,IF($D108<=SUM($BK109:BQ109),0,IF(BF109+$D108-SUM($BK109:BQ109)>AI108+AT109,AI108+AT109-BF109,$D108-SUM($BK109:BQ109))))","v":0},{"$f":"IF(AJ108<=0,0,IF($D108<=SUM($BK109:BR109),0,IF(BG109+$D108-SUM($BK109:BR109)>AJ108+AU109,AJ108+AU109-BG109,$D108-SUM($BK109:BR109))))","v":0},{"$f":"IF(AK108<=0,0,IF($D108<=SUM($BK109:BS109),0,IF(BH109+$D108-SUM($BK109:BS109)>AK108+AV109,AK108+AV109-BH109,$D108-SUM($BK109:BS109))))","v":0}]
[null,"","1907-05-01",0,0,0,0,0,0,0,0,0,0,0,null,null,null,null,null,null,null,null,null,null,null,null,0,0,0,0,0,0,0,0,0,0,0,null,0,0,0,0,0,0,0,0,0,0,0,null,0,0,0,0,0,0,0,0,0,0,0,null,0,{"$f":"IF(AC109<=0,0,IF($D109<=SUM($BK110:BK110),0,IF(AZ110+$D109-SUM($BK110:BK110)>AC109+AN110,AC109+AN110-AZ110,$D109-SUM($BK110:BK110))))","v":0},{"$f":"IF(AD109<=0,0,IF($D109<=SUM($BK110:BL110),0,IF(BA110+$D109-SUM($BK110:BL110)>AD109+AO110,AD109+AO110-BA110,$D109-SUM($BK110:BL110))))","v":0},{"$f":"IF(AE109<=0,0,IF($D109<=SUM($BK110:BM110),0,IF(BB110+$D109-SUM($BK110:BM110)>AE109+AP110,AE109+AP110-BB110,$D109-SUM($BK110:BM110))))","v":0},{"$f":"IF(AF109<=0,0,IF($D109<=SUM($BK110:BN110),0,IF(BC110+$D109-SUM($BK110:BN110)>AF109+AQ110,AF109+AQ110-BC110,$D109-SUM($BK110:BN110))))","v":0},{"$f":"IF(AG109<=0,0,IF($D109<=SUM($BK110:BO110),0,IF(BD110+$D109-SUM($BK110:BO110)>AG109+AR110,AG109+AR110-BD110,$D109-SUM($BK110:BO110))))","v":0},{"$f":"IF(AH109<=0,0,IF($D109<=SUM($BK110:BP110),0,IF(BE110+$D109-SUM($BK110:BP110)>AH109+AS110,AH109+AS110-BE110,$D109-SUM($BK110:BP110))))","v":0},{"$f":"IF(AI109<=0,0,IF($D109<=SUM($BK110:BQ110),0,IF(BF110+$D109-SUM($BK110:BQ110)>AI109+AT110,AI109+AT110-BF110,$D109-SUM($BK110:BQ110))))","v":0},{"$f":"IF(AJ109<=0,0,IF($D109<=SUM($BK110:BR110),0,IF(BG110+$D109-SUM($BK110:BR110)>AJ109+AU110,AJ109+AU110-BG110,$D109-SUM($BK110:BR110))))","v":0},{"$f":"IF(AK109<=0,0,IF($D109<=SUM($BK110:BS110),0,IF(BH110+$D109-SUM($BK110:BS110)>AK109+AV110,AK109+AV110-BH110,$D109-SUM($BK110:BS110))))","v":0}]
[null,"","1907-06-01",0,0,0,0,0,0,0,0,0,0,0,null,null,null,null,null,null,null,null,null,null,null,null,0,0,0,0,0,0,0,0,0,0,0,null,0,0,0,0,0,0,0,0,0,0,0,null,0,0,0,0,0,0,0,0,0,0,0,null,0,{"$f":"IF(AC110<=0,0,IF($D110<=SUM($BK111:BK111),0,IF(AZ111+$D110-SUM($BK111:BK111)>AC110+AN111,AC110+AN111-AZ111,$D110-SUM($BK111:BK111))))","v":0},{"$f":"IF(AD110<=0,0,IF($D110<=SUM($BK111:BL111),0,IF(BA111+$D110-SUM($BK111:BL111)>AD110+AO111,AD110+AO111-BA111,$D110-SUM($BK111:BL111))))","v":0},{"$f":"IF(AE110<=0,0,IF($D110<=SUM($BK111:BM111),0,IF(BB111+$D110-SUM($BK111:BM111)>AE110+AP111,AE110+AP111-BB111,$D110-SUM($BK111:BM111))))","v":0},{"$f":"IF(AF110<=0,0,IF($D110<=SUM($BK111:BN111),0,IF(BC111+$D110-SUM($BK111:BN111)>AF110+AQ111,AF110+AQ111-BC111,$D110-SUM($BK111:BN111))))","v":0},{"$f":"IF(AG110<=0,0,IF($D110<=SUM($BK111:BO111),0,IF(BD111+$D110-SUM($BK111:BO111)>AG110+AR111,AG110+AR111-BD111,$D110-SUM($BK111:BO111))))","v":0},{"$f":"IF(AH110<=0,0,IF($D110<=SUM($BK111:BP111),0,IF(BE111+$D110-SUM($BK111:BP111)>AH110+AS111,AH110+AS111-BE111,$D110-SUM($BK111:BP111))))","v":0},{"$f":"IF(AI110<=0,0,IF($D110<=SUM($BK111:BQ111),0,IF(BF111+$D110-SUM($BK111:BQ111)>AI110+AT111,AI110+AT111-BF111,$D110-SUM($BK111:BQ111))))","v":0},{"$f":"IF(AJ110<=0,0,IF($D110<=SUM($BK111:BR111),0,IF(BG111+$D110-SUM($BK111:BR111)>AJ110+AU111,AJ110+AU111-BG111,$D110-SUM($BK111:BR111))))","v":0},{"$f":"IF(AK110<=0,0,IF($D110<=SUM($BK111:BS111),0,IF(BH111+$D110-SUM($BK111:BS111)>AK110+AV111,AK110+AV111-BH111,$D110-SUM($BK111:BS111))))","v":0}]
[null,"","1907-07-01",0,0,0,0,0,0,0,0,0,0,0,null,null,null,null,null,null,null,null,null,null,null,null,0,0,0,0,0,0,0,0,0,0,0,null,0,0,0,0,0,0,0,0,0,0,0,null,0,0,0,0,0,0,0,0,0,0,0,null,0,{"$f":"IF(AC111<=0,0,IF($D111<=SUM($BK112:BK112),0,IF(AZ112+$D111-SUM($BK112:BK112)>AC111+AN112,AC111+AN112-AZ112,$D111-SUM($BK112:BK112))))","v":0},{"$f":"IF(AD111<=0,0,IF($D111<=SUM($BK112:BL112),0,IF(BA112+$D111-SUM($BK112:BL112)>AD111+AO112,AD111+AO112-BA112,$D111-SUM($BK112:BL112))))","v":0},{"$f":"IF(AE111<=0,0,IF($D111<=SUM($BK112:BM112),0,IF(BB112+$D111-SUM($BK112:BM112)>AE111+AP112,AE111+AP112-BB112,$D111-SUM($BK112:BM112))))","v":0},{"$f":"IF(AF111<=0,0,IF($D111<=SUM($BK112:BN112),0,IF(BC112+$D111-SUM($BK112:BN112)>AF111+AQ112,AF111+AQ112-BC112,$D111-SUM($BK112:BN112))))","v":0},{"$f":"IF(AG111<=0,0,IF($D111<=SUM($BK112:BO112),0,IF(BD112+$D111-SUM($BK112:BO112)>AG111+AR112,AG111+AR112-BD112,$D111-SUM($BK112:BO112))))","v":0},{"$f":"IF(AH111<=0,0,IF($D111<=SUM($BK112:BP112),0,IF(BE112+$D111-SUM($BK112:BP112)>AH111+AS112,AH111+AS112-BE112,$D111-SUM($BK112:BP112))))","v":0},{"$f":"IF(AI111<=0,0,IF($D111<=SUM($BK112:BQ112),0,IF(BF112+$D111-SUM($BK112:BQ112)>AI111+AT112,AI111+AT112-BF112,$D111-SUM($BK112:BQ112))))","v":0},{"$f":"IF(AJ111<=0,0,IF($D111<=SUM($BK112:BR112),0,IF(BG112+$D111-SUM($BK112:BR112)>AJ111+AU112,AJ111+AU112-BG112,$D111-SUM($BK112:BR112))))","v":0},{"$f":"IF(AK111<=0,0,IF($D111<=SUM($BK112:BS112),0,IF(BH112+$D111-SUM($BK112:BS112)>AK111+AV112,AK111+AV112-BH112,$D111-SUM($BK112:BS112))))","v":0}]
[null,"","1907-08-01",0,0,0,0,0,0,0,0,0,0,0,null,null,null,null,null,null,null,null,null,null,null,null,0,0,0,0,0,0,0,0,0,0,0,null,0,0,0,0,0,0,0,0,0,0,0,null,0,0,0,0,0,0,0,0,0,0,0,null,0,{"$f":"IF(AC112<=0,0,IF($D112<=SUM($BK113:BK113),0,IF(AZ113+$D112-SUM($BK113:BK113)>AC112+AN113,AC112+AN113-AZ113,$D112-SUM($BK113:BK113))))","v":0},{"$f":"IF(AD112<=0,0,IF($D112<=SUM($BK113:BL113),0,IF(BA113+$D112-SUM($BK113:BL113)>AD112+AO113,AD112+AO113-BA113,$D112-SUM($BK113:BL113))))","v":0},{"$f":"IF(AE112<=0,0,IF($D112<=SUM($BK113:BM113),0,IF(BB113+$D112-SUM($BK113:BM113)>AE112+AP113,AE112+AP113-BB113,$D112-SUM($BK113:BM113))))","v":0},{"$f":"IF(AF112<=0,0,IF($D112<=SUM($BK113:BN113),0,IF(BC113+$D112-SUM($BK113:BN113)>AF112+AQ113,AF112+AQ113-BC113,$D112-SUM($BK113:BN113))))","v":0},{"$f":"IF(AG112<=0,0,IF($D112<=SUM($BK113:BO113),0,IF(BD113+$D112-SUM($BK113:BO113)>AG112+AR113,AG112+AR113-BD113,$D112-SUM($BK113:BO113))))","v":0},{"$f":"IF(AH112<=0,0,IF($D112<=SUM($BK113:BP113),0,IF(BE113+$D112-SUM($BK113:BP113)>AH112+AS113,AH112+AS113-BE113,$D112-SUM($BK113:BP113))))","v":0},{"$f":"IF(AI112<=0,0,IF($D112<=SUM($BK113:BQ113),0,IF(BF113+$D112-SUM($BK113:BQ113)>AI112+AT113,AI112+AT113-BF113,$D112-SUM($BK113:BQ113))))","v":0},{"$f":"IF(AJ112<=0,0,IF($D112<=SUM($BK113:BR113),0,IF(BG113+$D112-SUM($BK113:BR113)>AJ112+AU113,AJ112+AU113-BG113,$D112-SUM($BK113:BR113))))","v":0},{"$f":"IF(AK112<=0,0,IF($D112<=SUM($BK113:BS113),0,IF(BH113+$D112-SUM($BK113:BS113)>AK112+AV113,AK112+AV113-BH113,$D112-SUM($BK113:BS113))))","v":0}]
[null,"","1907-09-01",0,0,0,0,0,0,0,0,0,0,0,null,null,null,null,null,null,null,null,null,null,null,null,0,0,0,0,0,0,0,0,0,0,0,null,0,0,0,0,0,0,0,0,0,0,0,null,0,0,0,0,0,0,0,0,0,0,0,null,0,{"$f":"IF(AC113<=0,0,IF($D113<=SUM($BK114:BK114),0,IF(AZ114+$D113-SUM($BK114:BK114)>AC113+AN114,AC113+AN114-AZ114,$D113-SUM($BK114:BK114))))","v":0},{"$f":"IF(AD113<=0,0,IF($D113<=SUM($BK114:BL114),0,IF(BA114+$D113-SUM($BK114:BL114)>AD113+AO114,AD113+AO114-BA114,$D113-SUM($BK114:BL114))))","v":0},{"$f":"IF(AE113<=0,0,IF($D113<=SUM($BK114:BM114),0,IF(BB114+$D113-SUM($BK114:BM114)>AE113+AP114,AE113+AP114-BB114,$D113-SUM($BK114:BM114))))","v":0},{"$f":"IF(AF113<=0,0,IF($D113<=SUM($BK114:BN114),0,IF(BC114+$D113-SUM($BK114:BN114)>AF113+AQ114,AF113+AQ114-BC114,$D113-SUM($BK114:BN114))))","v":0},{"$f":"IF(AG113<=0,0,IF($D113<=SUM($BK114:BO114),0,IF(BD114+$D113-SUM($BK114:BO114)>AG113+AR114,AG113+AR114-BD114,$D113-SUM($BK114:BO114))))","v":0},{"$f":"IF(AH113<=0,0,IF($D113<=SUM($BK114:BP114),0,IF(BE114+$D113-SUM($BK114:BP114)>AH113+AS114,AH113+AS114-BE114,$D113-SUM($BK114:BP114))))","v":0},{"$f":"IF(AI113<=0,0,IF($D113<=SUM($BK114:BQ114),0,IF(BF114+$D113-SUM($BK114:BQ114)>AI113+AT114,AI113+AT114-BF114,$D113-SUM($BK114:BQ114))))","v":0},{"$f":"IF(AJ113<=0,0,IF($D113<=SUM($BK114:BR114),0,IF(BG114+$D113-SUM($BK114:BR114)>AJ113+AU114,AJ113+AU114-BG114,$D113-SUM($BK114:BR114))))","v":0},{"$f":"IF(AK113<=0,0,IF($D113<=SUM($BK114:BS114),0,IF(BH114+$D113-SUM($BK114:BS114)>AK113+AV114,AK113+AV114-BH114,$D113-SUM($BK114:BS114))))","v":0}]
[null,"","1907-10-01",0,0,0,0,0,0,0,0,0,0,0,null,null,null,null,null,null,null,null,null,null,null,null,0,0,0,0,0,0,0,0,0,0,0,null,0,0,0,0,0,0,0,0,0,0,0,null,0,0,0,0,0,0,0,0,0,0,0,null,0,{"$f":"IF(AC114<=0,0,IF($D114<=SUM($BK115:BK115),0,IF(AZ115+$D114-SUM($BK115:BK115)>AC114+AN115,AC114+AN115-AZ115,$D114-SUM($BK115:BK115))))","v":0},{"$f":"IF(AD114<=0,0,IF($D114<=SUM($BK115:BL115),0,IF(BA115+$D114-SUM($BK115:BL115)>AD114+AO115,AD114+AO115-BA115,$D114-SUM($BK115:BL115))))","v":0},{"$f":"IF(AE114<=0,0,IF($D114<=SUM($BK115:BM115),0,IF(BB115+$D114-SUM($BK115:BM115)>AE114+AP115,AE114+AP115-BB115,$D114-SUM($BK115:BM115))))","v":0},{"$f":"IF(AF114<=0,0,IF($D114<=SUM($BK115:BN115),0,IF(BC115+$D114-SUM($BK115:BN115)>AF114+AQ115,AF114+AQ115-BC115,$D114-SUM($BK115:BN115))))","v":0},{"$f":"IF(AG114<=0,0,IF($D114<=SUM($BK115:BO115),0,IF(BD115+$D114-SUM($BK115:BO115)>AG114+AR115,AG114+AR115-BD115,$D114-SUM($BK115:BO115))))","v":0},{"$f":"IF(AH114<=0,0,IF($D114<=SUM($BK115:BP115),0,IF(BE115+$D114-SUM($BK115:BP115)>AH114+AS115,AH114+AS115-BE115,$D114-SUM($BK115:BP115))))","v":0},{"$f":"IF(AI114<=0,0,IF($D114<=SUM($BK115:BQ115),0,IF(BF115+$D114-SUM($BK115:BQ115)>AI114+AT115,AI114+AT115-BF115,$D114-SUM($BK115:BQ115))))","v":0},{"$f":"IF(AJ114<=0,0,IF($D114<=SUM($BK115:BR115),0,IF(BG115+$D114-SUM($BK115:BR115)>AJ114+AU115,AJ114+AU115-BG115,$D114-SUM($BK115:BR115))))","v":0},{"$f":"IF(AK114<=0,0,IF($D114<=SUM($BK115:BS115),0,IF(BH115+$D114-SUM($BK115:BS115)>AK114+AV115,AK114+AV115-BH115,$D114-SUM($BK115:BS115))))","v":0}]
[null,"","1907-11-01",0,0,0,0,0,0,0,0,0,0,0,null,null,null,null,null,null,null,null,null,null,null,null,0,0,0,0,0,0,0,0,0,0,0,null,0,0,0,0,0,0,0,0,0,0,0,null,0,0,0,0,0,0,0,0,0,0,0,null,0,{"$f":"IF(AC115<=0,0,IF($D115<=SUM($BK116:BK116),0,IF(AZ116+$D115-SUM($BK116:BK116)>AC115+AN116,AC115+AN116-AZ116,$D115-SUM($BK116:BK116))))","v":0},{"$f":"IF(AD115<=0,0,IF($D115<=SUM($BK116:BL116),0,IF(BA116+$D115-SUM($BK116:BL116)>AD115+AO116,AD115+AO116-BA116,$D115-SUM($BK116:BL116))))","v":0},{"$f":"IF(AE115<=0,0,IF($D115<=SUM($BK116:BM116),0,IF(BB116+$D115-SUM($BK116:BM116)>AE115+AP116,AE115+AP116-BB116,$D115-SUM($BK116:BM116))))","v":0},{"$f":"IF(AF115<=0,0,IF($D115<=SUM($BK116:BN116),0,IF(BC116+$D115-SUM($BK116:BN116)>AF115+AQ116,AF115+AQ116-BC116,$D115-SUM($BK116:BN116))))","v":0},{"$f":"IF(AG115<=0,0,IF($D115<=SUM($BK116:BO116),0,IF(BD116+$D115-SUM($BK116:BO116)>AG115+AR116,AG115+AR116-BD116,$D115-SUM($BK116:BO116))))","v":0},{"$f":"IF(AH115<=0,0,IF($D115<=SUM($BK116:BP116),0,IF(BE116+$D115-SUM($BK116:BP116)>AH115+AS116,AH115+AS116-BE116,$D115-SUM($BK116:BP116))))","v":0},{"$f":"IF(AI115<=0,0,IF($D115<=SUM($BK116:BQ116),0,IF(BF116+$D115-SUM($BK116:BQ116)>AI115+AT116,AI115+AT116-BF116,$D115-SUM($BK116:BQ116))))","v":0},{"$f":"IF(AJ115<=0,0,IF($D115<=SUM($BK116:BR116),0,IF(BG116+$D115-SUM($BK116:BR116)>AJ115+AU116,AJ115+AU116-BG116,$D115-SUM($BK116:BR116))))","v":0},{"$f":"IF(AK115<=0,0,IF($D115<=SUM($BK116:BS116),0,IF(BH116+$D115-SUM($BK116:BS116)>AK115+AV116,AK115+AV116-BH116,$D115-SUM($BK116:BS116))))","v":0}]
[null,"","1907-12-01",0,0,0,0,0,0,0,0,0,0,0,null,null,null,null,null,null,null,null,null,null,null,null,0,0,0,0,0,0,0,0,0,0,0,null,0,0,0,0,0,0,0,0,0,0,0,null,0,0,0,0,0,0,0,0,0,0,0,null,0,{"$f":"IF(AC116<=0,0,IF($D116<=SUM($BK117:BK117),0,IF(AZ117+$D116-SUM($BK117:BK117)>AC116+AN117,AC116+AN117-AZ117,$D116-SUM($BK117:BK117))))","v":0},{"$f":"IF(AD116<=0,0,IF($D116<=SUM($BK117:BL117),0,IF(BA117+$D116-SUM($BK117:BL117)>AD116+AO117,AD116+AO117-BA117,$D116-SUM($BK117:BL117))))","v":0},{"$f":"IF(AE116<=0,0,IF($D116<=SUM($BK117:BM117),0,IF(BB117+$D116-SUM($BK117:BM117)>AE116+AP117,AE116+AP117-BB117,$D116-SUM($BK117:BM117))))","v":0},{"$f":"IF(AF116<=0,0,IF($D116<=SUM($BK117:BN117),0,IF(BC117+$D116-SUM($BK117:BN117)>AF116+AQ117,AF116+AQ117-BC117,$D116-SUM($BK117:BN117))))","v":0},{"$f":"IF(AG116<=0,0,IF($D116<=SUM($BK117:BO117),0,IF(BD117+$D116-SUM($BK117:BO117)>AG116+AR117,AG116+AR117-BD117,$D116-SUM($BK117:BO117))))","v":0},{"$f":"IF(AH116<=0,0,IF($D116<=SUM($BK117:BP117),0,IF(BE117+$D116-SUM($BK117:BP117)>AH116+AS117,AH116+AS117-BE117,$D116-SUM($BK117:BP117))))","v":0},{"$f":"IF(AI116<=0,0,IF($D116<=SUM($BK117:BQ117),0,IF(BF117+$D116-SUM($BK117:BQ117)>AI116+AT117,AI116+AT117-BF117,$D116-SUM($BK117:BQ117))))","v":0},{"$f":"IF(AJ116<=0,0,IF($D116<=SUM($BK117:BR117),0,IF(BG117+$D116-SUM($BK117:BR117)>AJ116+AU117,AJ116+AU117-BG117,$D116-SUM($BK117:BR117))))","v":0},{"$f":"IF(AK116<=0,0,IF($D116<=SUM($BK117:BS117),0,IF(BH117+$D116-SUM($BK117:BS117)>AK116+AV117,AK116+AV117-BH117,$D116-SUM($BK117:BS117))))","v":0}]
[null,"","1908-01-01",0,0,0,0,0,0,0,0,0,0,0,null,null,null,null,null,null,null,null,null,null,null,null,0,0,0,0,0,0,0,0,0,0,0,null,0,0,0,0,0,0,0,0,0,0,0,null,0,0,0,0,0,0,0,0,0,0,0,null,0,{"$f":"IF(AC117<=0,0,IF($D117<=SUM($BK118:BK118),0,IF(AZ118+$D117-SUM($BK118:BK118)>AC117+AN118,AC117+AN118-AZ118,$D117-SUM($BK118:BK118))))","v":0},{"$f":"IF(AD117<=0,0,IF($D117<=SUM($BK118:BL118),0,IF(BA118+$D117-SUM($BK118:BL118)>AD117+AO118,AD117+AO118-BA118,$D117-SUM($BK118:BL118))))","v":0},{"$f":"IF(AE117<=0,0,IF($D117<=SUM($BK118:BM118),0,IF(BB118+$D117-SUM($BK118:BM118)>AE117+AP118,AE117+AP118-BB118,$D117-SUM($BK118:BM118))))","v":0},{"$f":"IF(AF117<=0,0,IF($D117<=SUM($BK118:BN118),0,IF(BC118+$D117-SUM($BK118:BN118)>AF117+AQ118,AF117+AQ118-BC118,$D117-SUM($BK118:BN118))))","v":0},{"$f":"IF(AG117<=0,0,IF($D117<=SUM($BK118:BO118),0,IF(BD118+$D117-SUM($BK118:BO118)>AG117+AR118,AG117+AR118-BD118,$D117-SUM($BK118:BO118))))","v":0},{"$f":"IF(AH117<=0,0,IF($D117<=SUM($BK118:BP118),0,IF(BE118+$D117-SUM($BK118:BP118)>AH117+AS118,AH117+AS118-BE118,$D117-SUM($BK118:BP118))))","v":0},{"$f":"IF(AI117<=0,0,IF($D117<=SUM($BK118:BQ118),0,IF(BF118+$D117-SUM($BK118:BQ118)>AI117+AT118,AI117+AT118-BF118,$D117-SUM($BK118:BQ118))))","v":0},{"$f":"IF(AJ117<=0,0,IF($D117<=SUM($BK118:BR118),0,IF(BG118+$D117-SUM($BK118:BR118)>AJ117+AU118,AJ117+AU118-BG118,$D117-SUM($BK118:BR118))))","v":0},{"$f":"IF(AK117<=0,0,IF($D117<=SUM($BK118:BS118),0,IF(BH118+$D117-SUM($BK118:BS118)>AK117+AV118,AK117+AV118-BH118,$D117-SUM($BK118:BS118))))","v":0}]
[null,"","1908-02-01",0,0,0,0,0,0,0,0,0,0,0,null,null,null,null,null,null,null,null,null,null,null,null,0,0,0,0,0,0,0,0,0,0,0,null,0,0,0,0,0,0,0,0,0,0,0,null,0,0,0,0,0,0,0,0,0,0,0,null,0,{"$f":"IF(AC118<=0,0,IF($D118<=SUM($BK119:BK119),0,IF(AZ119+$D118-SUM($BK119:BK119)>AC118+AN119,AC118+AN119-AZ119,$D118-SUM($BK119:BK119))))","v":0},{"$f":"IF(AD118<=0,0,IF($D118<=SUM($BK119:BL119),0,IF(BA119+$D118-SUM($BK119:BL119)>AD118+AO119,AD118+AO119-BA119,$D118-SUM($BK119:BL119))))","v":0},{"$f":"IF(AE118<=0,0,IF($D118<=SUM($BK119:BM119),0,IF(BB119+$D118-SUM($BK119:BM119)>AE118+AP119,AE118+AP119-BB119,$D118-SUM($BK119:BM119))))","v":0},{"$f":"IF(AF118<=0,0,IF($D118<=SUM($BK119:BN119),0,IF(BC119+$D118-SUM($BK119:BN119)>AF118+AQ119,AF118+AQ119-BC119,$D118-SUM($BK119:BN119))))","v":0},{"$f":"IF(AG118<=0,0,IF($D118<=SUM($BK119:BO119),0,IF(BD119+$D118-SUM($BK119:BO119)>AG118+AR119,AG118+AR119-BD119,$D118-SUM($BK119:BO119))))","v":0},{"$f":"IF(AH118<=0,0,IF($D118<=SUM($BK119:BP119),0,IF(BE119+$D118-SUM($BK119:BP119)>AH118+AS119,AH118+AS119-BE119,$D118-SUM($BK119:BP119))))","v":0},{"$f":"IF(AI118<=0,0,IF($D118<=SUM($BK119:BQ119),0,IF(BF119+$D118-SUM($BK119:BQ119)>AI118+AT119,AI118+AT119-BF119,$D118-SUM($BK119:BQ119))))","v":0},{"$f":"IF(AJ118<=0,0,IF($D118<=SUM($BK119:BR119),0,IF(BG119+$D118-SUM($BK119:BR119)>AJ118+AU119,AJ118+AU119-BG119,$D118-SUM($BK119:BR119))))","v":0},{"$f":"IF(AK118<=0,0,IF($D118<=SUM($BK119:BS119),0,IF(BH119+$D118-SUM($BK119:BS119)>AK118+AV119,AK118+AV119-BH119,$D118-SUM($BK119:BS119))))","v":0}]
[null,"","1908-03-01",0,0,0,0,0,0,0,0,0,0,0,null,null,null,null,null,null,null,null,null,null,null,null,0,0,0,0,0,0,0,0,0,0,0,null,0,0,0,0,0,0,0,0,0,0,0,null,0,0,0,0,0,0,0,0,0,0,0,null,0,{"$f":"IF(AC119<=0,0,IF($D119<=SUM($BK120:BK120),0,IF(AZ120+$D119-SUM($BK120:BK120)>AC119+AN120,AC119+AN120-AZ120,$D119-SUM($BK120:BK120))))","v":0},{"$f":"IF(AD119<=0,0,IF($D119<=SUM($BK120:BL120),0,IF(BA120+$D119-SUM($BK120:BL120)>AD119+AO120,AD119+AO120-BA120,$D119-SUM($BK120:BL120))))","v":0},{"$f":"IF(AE119<=0,0,IF($D119<=SUM($BK120:BM120),0,IF(BB120+$D119-SUM($BK120:BM120)>AE119+AP120,AE119+AP120-BB120,$D119-SUM($BK120:BM120))))","v":0},{"$f":"IF(AF119<=0,0,IF($D119<=SUM($BK120:BN120),0,IF(BC120+$D119-SUM($BK120:BN120)>AF119+AQ120,AF119+AQ120-BC120,$D119-SUM($BK120:BN120))))","v":0},{"$f":"IF(AG119<=0,0,IF($D119<=SUM($BK120:BO120),0,IF(BD120+$D119-SUM($BK120:BO120)>AG119+AR120,AG119+AR120-BD120,$D119-SUM($BK120:BO120))))","v":0},{"$f":"IF(AH119<=0,0,IF($D119<=SUM($BK120:BP120),0,IF(BE120+$D119-SUM($BK120:BP120)>AH119+AS120,AH119+AS120-BE120,$D119-SUM($BK120:BP120))))","v":0},{"$f":"IF(AI119<=0,0,IF($D119<=SUM($BK120:BQ120),0,IF(BF120+$D119-SUM($BK120:BQ120)>AI119+AT120,AI119+AT120-BF120,$D119-SUM($BK120:BQ120))))","v":0},{"$f":"IF(AJ119<=0,0,IF($D119<=SUM($BK120:BR120),0,IF(BG120+$D119-SUM($BK120:BR120)>AJ119+AU120,AJ119+AU120-BG120,$D119-SUM($BK120:BR120))))","v":0},{"$f":"IF(AK119<=0,0,IF($D119<=SUM($BK120:BS120),0,IF(BH120+$D119-SUM($BK120:BS120)>AK119+AV120,AK119+AV120-BH120,$D119-SUM($BK120:BS120))))","v":0}]
[null,"","1908-04-01",0,0,0,0,0,0,0,0,0,0,0,null,null,null,null,null,null,null,null,null,null,null,null,0,0,0,0,0,0,0,0,0,0,0,null,0,0,0,0,0,0,0,0,0,0,0,null,0,0,0,0,0,0,0,0,0,0,0,null,0,{"$f":"IF(AC120<=0,0,IF($D120<=SUM($BK121:BK121),0,IF(AZ121+$D120-SUM($BK121:BK121)>AC120+AN121,AC120+AN121-AZ121,$D120-SUM($BK121:BK121))))","v":0},{"$f":"IF(AD120<=0,0,IF($D120<=SUM($BK121:BL121),0,IF(BA121+$D120-SUM($BK121:BL121)>AD120+AO121,AD120+AO121-BA121,$D120-SUM($BK121:BL121))))","v":0},{"$f":"IF(AE120<=0,0,IF($D120<=SUM($BK121:BM121),0,IF(BB121+$D120-SUM($BK121:BM121)>AE120+AP121,AE120+AP121-BB121,$D120-SUM($BK121:BM121))))","v":0},{"$f":"IF(AF120<=0,0,IF($D120<=SUM($BK121:BN121),0,IF(BC121+$D120-SUM($BK121:BN121)>AF120+AQ121,AF120+AQ121-BC121,$D120-SUM($BK121:BN121))))","v":0},{"$f":"IF(AG120<=0,0,IF($D120<=SUM($BK121:BO121),0,IF(BD121+$D120-SUM($BK121:BO121)>AG120+AR121,AG120+AR121-BD121,$D120-SUM($BK121:BO121))))","v":0},{"$f":"IF(AH120<=0,0,IF($D120<=SUM($BK121:BP121),0,IF(BE121+$D120-SUM($BK121:BP121)>AH120+AS121,AH120+AS121-BE121,$D120-SUM($BK121:BP121))))","v":0},{"$f":"IF(AI120<=0,0,IF($D120<=SUM($BK121:BQ121),0,IF(BF121+$D120-SUM($BK121:BQ121)>AI120+AT121,AI120+AT121-BF121,$D120-SUM($BK121:BQ121))))","v":0},{"$f":"IF(AJ120<=0,0,IF($D120<=SUM($BK121:BR121),0,IF(BG121+$D120-SUM($BK121:BR121)>AJ120+AU121,AJ120+AU121-BG121,$D120-SUM($BK121:BR121))))","v":0},{"$f":"IF(AK120<=0,0,IF($D120<=SUM($BK121:BS121),0,IF(BH121+$D120-SUM($BK121:BS121)>AK120+AV121,AK120+AV121-BH121,$D120-SUM($BK121:BS121))))","v":0}]
[null,"","1908-05-01",0,0,0,0,0,0,0,0,0,0,0,null,null,null,null,null,null,null,null,null,null,null,null,0,0,0,0,0,0,0,0,0,0,0,null,0,0,0,0,0,0,0,0,0,0,0,null,0,0,0,0,0,0,0,0,0,0,0,null,0,{"$f":"IF(AC121<=0,0,IF($D121<=SUM($BK122:BK122),0,IF(AZ122+$D121-SUM($BK122:BK122)>AC121+AN122,AC121+AN122-AZ122,$D121-SUM($BK122:BK122))))","v":0},{"$f":"IF(AD121<=0,0,IF($D121<=SUM($BK122:BL122),0,IF(BA122+$D121-SUM($BK122:BL122)>AD121+AO122,AD121+AO122-BA122,$D121-SUM($BK122:BL122))))","v":0},{"$f":"IF(AE121<=0,0,IF($D121<=SUM($BK122:BM122),0,IF(BB122+$D121-SUM($BK122:BM122)>AE121+AP122,AE121+AP122-BB122,$D121-SUM($BK122:BM122))))","v":0},{"$f":"IF(AF121<=0,0,IF($D121<=SUM($BK122:BN122),0,IF(BC122+$D121-SUM($BK122:BN122)>AF121+AQ122,AF121+AQ122-BC122,$D121-SUM($BK122:BN122))))","v":0},{"$f":"IF(AG121<=0,0,IF($D121<=SUM($BK122:BO122),0,IF(BD122+$D121-SUM($BK122:BO122)>AG121+AR122,AG121+AR122-BD122,$D121-SUM($BK122:BO122))))","v":0},{"$f":"IF(AH121<=0,0,IF($D121<=SUM($BK122:BP122),0,IF(BE122+$D121-SUM($BK122:BP122)>AH121+AS122,AH121+AS122-BE122,$D121-SUM($BK122:BP122))))","v":0},{"$f":"IF(AI121<=0,0,IF($D121<=SUM($BK122:BQ122),0,IF(BF122+$D121-SUM($BK122:BQ122)>AI121+AT122,AI121+AT122-BF122,$D121-SUM($BK122:BQ122))))","v":0},{"$f":"IF(AJ121<=0,0,IF($D121<=SUM($BK122:BR122),0,IF(BG122+$D121-SUM($BK122:BR122)>AJ121+AU122,AJ121+AU122-BG122,$D121-SUM($BK122:BR122))))","v":0},{"$f":"IF(AK121<=0,0,IF($D121<=SUM($BK122:BS122),0,IF(BH122+$D121-SUM($BK122:BS122)>AK121+AV122,AK121+AV122-BH122,$D121-SUM($BK122:BS122))))","v":0}]
[null,"","1908-06-01",0,0,0,0,0,0,0,0,0,0,0,null,null,null,null,null,null,null,null,null,null,null,null,0,0,0,0,0,0,0,0,0,0,0,null,0,0,0,0,0,0,0,0,0,0,0,null,0,0,0,0,0,0,0,0,0,0,0,null,0,{"$f":"IF(AC122<=0,0,IF($D122<=SUM($BK123:BK123),0,IF(AZ123+$D122-SUM($BK123:BK123)>AC122+AN123,AC122+AN123-AZ123,$D122-SUM($BK123:BK123))))","v":0},{"$f":"IF(AD122<=0,0,IF($D122<=SUM($BK123:BL123),0,IF(BA123+$D122-SUM($BK123:BL123)>AD122+AO123,AD122+AO123-BA123,$D122-SUM($BK123:BL123))))","v":0},{"$f":"IF(AE122<=0,0,IF($D122<=SUM($BK123:BM123),0,IF(BB123+$D122-SUM($BK123:BM123)>AE122+AP123,AE122+AP123-BB123,$D122-SUM($BK123:BM123))))","v":0},{"$f":"IF(AF122<=0,0,IF($D122<=SUM($BK123:BN123),0,IF(BC123+$D122-SUM($BK123:BN123)>AF122+AQ123,AF122+AQ123-BC123,$D122-SUM($BK123:BN123))))","v":0},{"$f":"IF(AG122<=0,0,IF($D122<=SUM($BK123:BO123),0,IF(BD123+$D122-SUM($BK123:BO123)>AG122+AR123,AG122+AR123-BD123,$D122-SUM($BK123:BO123))))","v":0},{"$f":"IF(AH122<=0,0,IF($D122<=SUM($BK123:BP123),0,IF(BE123+$D122-SUM($BK123:BP123)>AH122+AS123,AH122+AS123-BE123,$D122-SUM($BK123:BP123))))","v":0},{"$f":"IF(AI122<=0,0,IF($D122<=SUM($BK123:BQ123),0,IF(BF123+$D122-SUM($BK123:BQ123)>AI122+AT123,AI122+AT123-BF123,$D122-SUM($BK123:BQ123))))","v":0},{"$f":"IF(AJ122<=0,0,IF($D122<=SUM($BK123:BR123),0,IF(BG123+$D122-SUM($BK123:BR123)>AJ122+AU123,AJ122+AU123-BG123,$D122-SUM($BK123:BR123))))","v":0},{"$f":"IF(AK122<=0,0,IF($D122<=SUM($BK123:BS123),0,IF(BH123+$D122-SUM($BK123:BS123)>AK122+AV123,AK122+AV123-BH123,$D122-SUM($BK123:BS123))))","v":0}]
[null,"","1908-07-01",0,0,0,0,0,0,0,0,0,0,0,null,null,null,null,null,null,null,null,null,null,null,null,0,0,0,0,0,0,0,0,0,0,0,null,0,0,0,0,0,0,0,0,0,0,0,null,0,0,0,0,0,0,0,0,0,0,0,null,0,{"$f":"IF(AC123<=0,0,IF($D123<=SUM($BK124:BK124),0,IF(AZ124+$D123-SUM($BK124:BK124)>AC123+AN124,AC123+AN124-AZ124,$D123-SUM($BK124:BK124))))","v":0},{"$f":"IF(AD123<=0,0,IF($D123<=SUM($BK124:BL124),0,IF(BA124+$D123-SUM($BK124:BL124)>AD123+AO124,AD123+AO124-BA124,$D123-SUM($BK124:BL124))))","v":0},{"$f":"IF(AE123<=0,0,IF($D123<=SUM($BK124:BM124),0,IF(BB124+$D123-SUM($BK124:BM124)>AE123+AP124,AE123+AP124-BB124,$D123-SUM($BK124:BM124))))","v":0},{"$f":"IF(AF123<=0,0,IF($D123<=SUM($BK124:BN124),0,IF(BC124+$D123-SUM($BK124:BN124)>AF123+AQ124,AF123+AQ124-BC124,$D123-SUM($BK124:BN124))))","v":0},{"$f":"IF(AG123<=0,0,IF($D123<=SUM($BK124:BO124),0,IF(BD124+$D123-SUM($BK124:BO124)>AG123+AR124,AG123+AR124-BD124,$D123-SUM($BK124:BO124))))","v":0},{"$f":"IF(AH123<=0,0,IF($D123<=SUM($BK124:BP124),0,IF(BE124+$D123-SUM($BK124:BP124)>AH123+AS124,AH123+AS124-BE124,$D123-SUM($BK124:BP124))))","v":0},{"$f":"IF(AI123<=0,0,IF($D123<=SUM($BK124:BQ124),0,IF(BF124+$D123-SUM($BK124:BQ124)>AI123+AT124,AI123+AT124-BF124,$D123-SUM($BK124:BQ124))))","v":0},{"$f":"IF(AJ123<=0,0,IF($D123<=SUM($BK124:BR124),0,IF(BG124+$D123-SUM($BK124:BR124)>AJ123+AU124,AJ123+AU124-BG124,$D123-SUM($BK124:BR124))))","v":0},{"$f":"IF(AK123<=0,0,IF($D123<=SUM($BK124:BS124),0,IF(BH124+$D123-SUM($BK124:BS124)>AK123+AV124,AK123+AV124-BH124,$D123-SUM($BK124:BS124))))","v":0}]
[null,"","1908-08-01",0,0,0,0,0,0,0,0,0,0,0,null,null,null,null,null,null,null,null,null,null,null,null,0,0,0,0,0,0,0,0,0,0,0,null,0,0,0,0,0,0,0,0,0,0,0,null,0,0,0,0,0,0,0,0,0,0,0,null,0,{"$f":"IF(AC124<=0,0,IF($D124<=SUM($BK125:BK125),0,IF(AZ125+$D124-SUM($BK125:BK125)>AC124+AN125,AC124+AN125-AZ125,$D124-SUM($BK125:BK125))))","v":0},{"$f":"IF(AD124<=0,0,IF($D124<=SUM($BK125:BL125),0,IF(BA125+$D124-SUM($BK125:BL125)>AD124+AO125,AD124+AO125-BA125,$D124-SUM($BK125:BL125))))","v":0},{"$f":"IF(AE124<=0,0,IF($D124<=SUM($BK125:BM125),0,IF(BB125+$D124-SUM($BK125:BM125)>AE124+AP125,AE124+AP125-BB125,$D124-SUM($BK125:BM125))))","v":0},{"$f":"IF(AF124<=0,0,IF($D124<=SUM($BK125:BN125),0,IF(BC125+$D124-SUM($BK125:BN125)>AF124+AQ125,AF124+AQ125-BC125,$D124-SUM($BK125:BN125))))","v":0},{"$f":"IF(AG124<=0,0,IF($D124<=SUM($BK125:BO125),0,IF(BD125+$D124-SUM($BK125:BO125)>AG124+AR125,AG124+AR125-BD125,$D124-SUM($BK125:BO125))))","v":0},{"$f":"IF(AH124<=0,0,IF($D124<=SUM($BK125:BP125),0,IF(BE125+$D124-SUM($BK125:BP125)>AH124+AS125,AH124+AS125-BE125,$D124-SUM($BK125:BP125))))","v":0},{"$f":"IF(AI124<=0,0,IF($D124<=SUM($BK125:BQ125),0,IF(BF125+$D124-SUM($BK125:BQ125)>AI124+AT125,AI124+AT125-BF125,$D124-SUM($BK125:BQ125))))","v":0},{"$f":"IF(AJ124<=0,0,IF($D124<=SUM($BK125:BR125),0,IF(BG125+$D124-SUM($BK125:BR125)>AJ124+AU125,AJ124+AU125-BG125,$D124-SUM($BK125:BR125))))","v":0},{"$f":"IF(AK124<=0,0,IF($D124<=SUM($BK125:BS125),0,IF(BH125+$D124-SUM($BK125:BS125)>AK124+AV125,AK124+AV125-BH125,$D124-SUM($BK125:BS125))))","v":0}]
[null,"","1908-09-01",0,0,0,0,0,0,0,0,0,0,0,null,null,null,null,null,null,null,null,null,null,null,null,0,0,0,0,0,0,0,0,0,0,0,null,0,0,0,0,0,0,0,0,0,0,0,null,0,0,0,0,0,0,0,0,0,0,0,null,0,{"$f":"IF(AC125<=0,0,IF($D125<=SUM($BK126:BK126),0,IF(AZ126+$D125-SUM($BK126:BK126)>AC125+AN126,AC125+AN126-AZ126,$D125-SUM($BK126:BK126))))","v":0},{"$f":"IF(AD125<=0,0,IF($D125<=SUM($BK126:BL126),0,IF(BA126+$D125-SUM($BK126:BL126)>AD125+AO126,AD125+AO126-BA126,$D125-SUM($BK126:BL126))))","v":0},{"$f":"IF(AE125<=0,0,IF($D125<=SUM($BK126:BM126),0,IF(BB126+$D125-SUM($BK126:BM126)>AE125+AP126,AE125+AP126-BB126,$D125-SUM($BK126:BM126))))","v":0},{"$f":"IF(AF125<=0,0,IF($D125<=SUM($BK126:BN126),0,IF(BC126+$D125-SUM($BK126:BN126)>AF125+AQ126,AF125+AQ126-BC126,$D125-SUM($BK126:BN126))))","v":0},{"$f":"IF(AG125<=0,0,IF($D125<=SUM($BK126:BO126),0,IF(BD126+$D125-SUM($BK126:BO126)>AG125+AR126,AG125+AR126-BD126,$D125-SUM($BK126:BO126))))","v":0},{"$f":"IF(AH125<=0,0,IF($D125<=SUM($BK126:BP126),0,IF(BE126+$D125-SUM($BK126:BP126)>AH125+AS126,AH125+AS126-BE126,$D125-SUM($BK126:BP126))))","v":0},{"$f":"IF(AI125<=0,0,IF($D125<=SUM($BK126:BQ126),0,IF(BF126+$D125-SUM($BK126:BQ126)>AI125+AT126,AI125+AT126-BF126,$D125-SUM($BK126:BQ126))))","v":0},{"$f":"IF(AJ125<=0,0,IF($D125<=SUM($BK126:BR126),0,IF(BG126+$D125-SUM($BK126:BR126)>AJ125+AU126,AJ125+AU126-BG126,$D125-SUM($BK126:BR126))))","v":0},{"$f":"IF(AK125<=0,0,IF($D125<=SUM($BK126:BS126),0,IF(BH126+$D125-SUM($BK126:BS126)>AK125+AV126,AK125+AV126-BH126,$D125-SUM($BK126:BS126))))","v":0}]
[null,"","1908-10-01",0,0,0,0,0,0,0,0,0,0,0,null,null,null,null,null,null,null,null,null,null,null,null,0,0,0,0,0,0,0,0,0,0,0,null,0,0,0,0,0,0,0,0,0,0,0,null,0,0,0,0,0,0,0,0,0,0,0,null,0,{"$f":"IF(AC126<=0,0,IF($D126<=SUM($BK127:BK127),0,IF(AZ127+$D126-SUM($BK127:BK127)>AC126+AN127,AC126+AN127-AZ127,$D126-SUM($BK127:BK127))))","v":0},{"$f":"IF(AD126<=0,0,IF($D126<=SUM($BK127:BL127),0,IF(BA127+$D126-SUM($BK127:BL127)>AD126+AO127,AD126+AO127-BA127,$D126-SUM($BK127:BL127))))","v":0},{"$f":"IF(AE126<=0,0,IF($D126<=SUM($BK127:BM127),0,IF(BB127+$D126-SUM($BK127:BM127)>AE126+AP127,AE126+AP127-BB127,$D126-SUM($BK127:BM127))))","v":0},{"$f":"IF(AF126<=0,0,IF($D126<=SUM($BK127:BN127),0,IF(BC127+$D126-SUM($BK127:BN127)>AF126+AQ127,AF126+AQ127-BC127,$D126-SUM($BK127:BN127))))","v":0},{"$f":"IF(AG126<=0,0,IF($D126<=SUM($BK127:BO127),0,IF(BD127+$D126-SUM($BK127:BO127)>AG126+AR127,AG126+AR127-BD127,$D126-SUM($BK127:BO127))))","v":0},{"$f":"IF(AH126<=0,0,IF($D126<=SUM($BK127:BP127),0,IF(BE127+$D126-SUM($BK127:BP127)>AH126+AS127,AH126+AS127-BE127,$D126-SUM($BK127:BP127))))","v":0},{"$f":"IF(AI126<=0,0,IF($D126<=SUM($BK127:BQ127),0,IF(BF127+$D126-SUM($BK127:BQ127)>AI126+AT127,AI126+AT127-BF127,$D126-SUM($BK127:BQ127))))","v":0},{"$f":"IF(AJ126<=0,0,IF($D126<=SUM($BK127:BR127),0,IF(BG127+$D126-SUM($BK127:BR127)>AJ126+AU127,AJ126+AU127-BG127,$D126-SUM($BK127:BR127))))","v":0},{"$f":"IF(AK126<=0,0,IF($D126<=SUM($BK127:BS127),0,IF(BH127+$D126-SUM($BK127:BS127)>AK126+AV127,AK126+AV127-BH127,$D126-SUM($BK127:BS127))))","v":0}]
[null,"","1908-11-01",0,0,0,0,0,0,0,0,0,0,0,null,null,null,null,null,null,null,null,null,null,null,null,0,0,0,0,0,0,0,0,0,0,0,null,0,0,0,0,0,0,0,0,0,0,0,null,0,0,0,0,0,0,0,0,0,0,0,null,0,{"$f":"IF(AC127<=0,0,IF($D127<=SUM($BK128:BK128),0,IF(AZ128+$D127-SUM($BK128:BK128)>AC127+AN128,AC127+AN128-AZ128,$D127-SUM($BK128:BK128))))","v":0},{"$f":"IF(AD127<=0,0,IF($D127<=SUM($BK128:BL128),0,IF(BA128+$D127-SUM($BK128:BL128)>AD127+AO128,AD127+AO128-BA128,$D127-SUM($BK128:BL128))))","v":0},{"$f":"IF(AE127<=0,0,IF($D127<=SUM($BK128:BM128),0,IF(BB128+$D127-SUM($BK128:BM128)>AE127+AP128,AE127+AP128-BB128,$D127-SUM($BK128:BM128))))","v":0},{"$f":"IF(AF127<=0,0,IF($D127<=SUM($BK128:BN128),0,IF(BC128+$D127-SUM($BK128:BN128)>AF127+AQ128,AF127+AQ128-BC128,$D127-SUM($BK128:BN128))))","v":0},{"$f":"IF(AG127<=0,0,IF($D127<=SUM($BK128:BO128),0,IF(BD128+$D127-SUM($BK128:BO128)>AG127+AR128,AG127+AR128-BD128,$D127-SUM($BK128:BO128))))","v":0},{"$f":"IF(AH127<=0,0,IF($D127<=SUM($BK128:BP128),0,IF(BE128+$D127-SUM($BK128:BP128)>AH127+AS128,AH127+AS128-BE128,$D127-SUM($BK128:BP128))))","v":0},{"$f":"IF(AI127<=0,0,IF($D127<=SUM($BK128:BQ128),0,IF(BF128+$D127-SUM($BK128:BQ128)>AI127+AT128,AI127+AT128-BF128,$D127-SUM($BK128:BQ128))))","v":0},{"$f":"IF(AJ127<=0,0,IF($D127<=SUM($BK128:BR128),0,IF(BG128+$D127-SUM($BK128:BR128)>AJ127+AU128,AJ127+AU128-BG128,$D127-SUM($BK128:BR128))))","v":0},{"$f":"IF(AK127<=0,0,IF($D127<=SUM($BK128:BS128),0,IF(BH128+$D127-SUM($BK128:BS128)>AK127+AV128,AK127+AV128-BH128,$D127-SUM($BK128:BS128))))","v":0}]
[null,"","1908-12-01",0,0,0,0,0,0,0,0,0,0,0,null,null,null,null,null,null,null,null,null,null,null,null,0,0,0,0,0,0,0,0,0,0,0,null,0,0,0,0,0,0,0,0,0,0,0,null,0,0,0,0,0,0,0,0,0,0,0,null,0,{"$f":"IF(AC128<=0,0,IF($D128<=SUM($BK129:BK129),0,IF(AZ129+$D128-SUM($BK129:BK129)>AC128+AN129,AC128+AN129-AZ129,$D128-SUM($BK129:BK129))))","v":0},{"$f":"IF(AD128<=0,0,IF($D128<=SUM($BK129:BL129),0,IF(BA129+$D128-SUM($BK129:BL129)>AD128+AO129,AD128+AO129-BA129,$D128-SUM($BK129:BL129))))","v":0},{"$f":"IF(AE128<=0,0,IF($D128<=SUM($BK129:BM129),0,IF(BB129+$D128-SUM($BK129:BM129)>AE128+AP129,AE128+AP129-BB129,$D128-SUM($BK129:BM129))))","v":0},{"$f":"IF(AF128<=0,0,IF($D128<=SUM($BK129:BN129),0,IF(BC129+$D128-SUM($BK129:BN129)>AF128+AQ129,AF128+AQ129-BC129,$D128-SUM($BK129:BN129))))","v":0},{"$f":"IF(AG128<=0,0,IF($D128<=SUM($BK129:BO129),0,IF(BD129+$D128-SUM($BK129:BO129)>AG128+AR129,AG128+AR129-BD129,$D128-SUM($BK129:BO129))))","v":0},{"$f":"IF(AH128<=0,0,IF($D128<=SUM($BK129:BP129),0,IF(BE129+$D128-SUM($BK129:BP129)>AH128+AS129,AH128+AS129-BE129,$D128-SUM($BK129:BP129))))","v":0},{"$f":"IF(AI128<=0,0,IF($D128<=SUM($BK129:BQ129),0,IF(BF129+$D128-SUM($BK129:BQ129)>AI128+AT129,AI128+AT129-BF129,$D128-SUM($BK129:BQ129))))","v":0},{"$f":"IF(AJ128<=0,0,IF($D128<=SUM($BK129:BR129),0,IF(BG129+$D128-SUM($BK129:BR129)>AJ128+AU129,AJ128+AU129-BG129,$D128-SUM($BK129:BR129))))","v":0},{"$f":"IF(AK128<=0,0,IF($D128<=SUM($BK129:BS129),0,IF(BH129+$D128-SUM($BK129:BS129)>AK128+AV129,AK128+AV129-BH129,$D128-SUM($BK129:BS129))))","v":0}]
[null,"","1909-01-01",0,0,0,0,0,0,0,0,0,0,0,null,null,null,null,null,null,null,null,null,null,null,null,0,0,0,0,0,0,0,0,0,0,0,null,0,0,0,0,0,0,0,0,0,0,0,null,0,0,0,0,0,0,0,0,0,0,0,null,0,{"$f":"IF(AC129<=0,0,IF($D129<=SUM($BK130:BK130),0,IF(AZ130+$D129-SUM($BK130:BK130)>AC129+AN130,AC129+AN130-AZ130,$D129-SUM($BK130:BK130))))","v":0},{"$f":"IF(AD129<=0,0,IF($D129<=SUM($BK130:BL130),0,IF(BA130+$D129-SUM($BK130:BL130)>AD129+AO130,AD129+AO130-BA130,$D129-SUM($BK130:BL130))))","v":0},{"$f":"IF(AE129<=0,0,IF($D129<=SUM($BK130:BM130),0,IF(BB130+$D129-SUM($BK130:BM130)>AE129+AP130,AE129+AP130-BB130,$D129-SUM($BK130:BM130))))","v":0},{"$f":"IF(AF129<=0,0,IF($D129<=SUM($BK130:BN130),0,IF(BC130+$D129-SUM($BK130:BN130)>AF129+AQ130,AF129+AQ130-BC130,$D129-SUM($BK130:BN130))))","v":0},{"$f":"IF(AG129<=0,0,IF($D129<=SUM($BK130:BO130),0,IF(BD130+$D129-SUM($BK130:BO130)>AG129+AR130,AG129+AR130-BD130,$D129-SUM($BK130:BO130))))","v":0},{"$f":"IF(AH129<=0,0,IF($D129<=SUM($BK130:BP130),0,IF(BE130+$D129-SUM($BK130:BP130)>AH129+AS130,AH129+AS130-BE130,$D129-SUM($BK130:BP130))))","v":0},{"$f":"IF(AI129<=0,0,IF($D129<=SUM($BK130:BQ130),0,IF(BF130+$D129-SUM($BK130:BQ130)>AI129+AT130,AI129+AT130-BF130,$D129-SUM($BK130:BQ130))))","v":0},{"$f":"IF(AJ129<=0,0,IF($D129<=SUM($BK130:BR130),0,IF(BG130+$D129-SUM($BK130:BR130)>AJ129+AU130,AJ129+AU130-BG130,$D129-SUM($BK130:BR130))))","v":0},{"$f":"IF(AK129<=0,0,IF($D129<=SUM($BK130:BS130),0,IF(BH130+$D129-SUM($BK130:BS130)>AK129+AV130,AK129+AV130-BH130,$D129-SUM($BK130:BS130))))","v":0}]
[null,"","1909-02-01",0,0,0,0,0,0,0,0,0,0,0,null,null,null,null,null,null,null,null,null,null,null,null,0,0,0,0,0,0,0,0,0,0,0,null,0,0,0,0,0,0,0,0,0,0,0,null,0,0,0,0,0,0,0,0,0,0,0,null,0,{"$f":"IF(AC130<=0,0,IF($D130<=SUM($BK131:BK131),0,IF(AZ131+$D130-SUM($BK131:BK131)>AC130+AN131,AC130+AN131-AZ131,$D130-SUM($BK131:BK131))))","v":0},{"$f":"IF(AD130<=0,0,IF($D130<=SUM($BK131:BL131),0,IF(BA131+$D130-SUM($BK131:BL131)>AD130+AO131,AD130+AO131-BA131,$D130-SUM($BK131:BL131))))","v":0},{"$f":"IF(AE130<=0,0,IF($D130<=SUM($BK131:BM131),0,IF(BB131+$D130-SUM($BK131:BM131)>AE130+AP131,AE130+AP131-BB131,$D130-SUM($BK131:BM131))))","v":0},{"$f":"IF(AF130<=0,0,IF($D130<=SUM($BK131:BN131),0,IF(BC131+$D130-SUM($BK131:BN131)>AF130+AQ131,AF130+AQ131-BC131,$D130-SUM($BK131:BN131))))","v":0},{"$f":"IF(AG130<=0,0,IF($D130<=SUM($BK131:BO131),0,IF(BD131+$D130-SUM($BK131:BO131)>AG130+AR131,AG130+AR131-BD131,$D130-SUM($BK131:BO131))))","v":0},{"$f":"IF(AH130<=0,0,IF($D130<=SUM($BK131:BP131),0,IF(BE131+$D130-SUM($BK131:BP131)>AH130+AS131,AH130+AS131-BE131,$D130-SUM($BK131:BP131))))","v":0},{"$f":"IF(AI130<=0,0,IF($D130<=SUM($BK131:BQ131),0,IF(BF131+$D130-SUM($BK131:BQ131)>AI130+AT131,AI130+AT131-BF131,$D130-SUM($BK131:BQ131))))","v":0},{"$f":"IF(AJ130<=0,0,IF($D130<=SUM($BK131:BR131),0,IF(BG131+$D130-SUM($BK131:BR131)>AJ130+AU131,AJ130+AU131-BG131,$D130-SUM($BK131:BR131))))","v":0},{"$f":"IF(AK130<=0,0,IF($D130<=SUM($BK131:BS131),0,IF(BH131+$D130-SUM($BK131:BS131)>AK130+AV131,AK130+AV131-BH131,$D130-SUM($BK131:BS131))))","v":0}]
[null,"","1909-03-01",0,0,0,0,0,0,0,0,0,0,0,null,null,null,null,null,null,null,null,null,null,null,null,0,0,0,0,0,0,0,0,0,0,0,null,0,0,0,0,0,0,0,0,0,0,0,null,0,0,0,0,0,0,0,0,0,0,0,null,0,{"$f":"IF(AC131<=0,0,IF($D131<=SUM($BK132:BK132),0,IF(AZ132+$D131-SUM($BK132:BK132)>AC131+AN132,AC131+AN132-AZ132,$D131-SUM($BK132:BK132))))","v":0},{"$f":"IF(AD131<=0,0,IF($D131<=SUM($BK132:BL132),0,IF(BA132+$D131-SUM($BK132:BL132)>AD131+AO132,AD131+AO132-BA132,$D131-SUM($BK132:BL132))))","v":0},{"$f":"IF(AE131<=0,0,IF($D131<=SUM($BK132:BM132),0,IF(BB132+$D131-SUM($BK132:BM132)>AE131+AP132,AE131+AP132-BB132,$D131-SUM($BK132:BM132))))","v":0},{"$f":"IF(AF131<=0,0,IF($D131<=SUM($BK132:BN132),0,IF(BC132+$D131-SUM($BK132:BN132)>AF131+AQ132,AF131+AQ132-BC132,$D131-SUM($BK132:BN132))))","v":0},{"$f":"IF(AG131<=0,0,IF($D131<=SUM($BK132:BO132),0,IF(BD132+$D131-SUM($BK132:BO132)>AG131+AR132,AG131+AR132-BD132,$D131-SUM($BK132:BO132))))","v":0},{"$f":"IF(AH131<=0,0,IF($D131<=SUM($BK132:BP132),0,IF(BE132+$D131-SUM($BK132:BP132)>AH131+AS132,AH131+AS132-BE132,$D131-SUM($BK132:BP132))))","v":0},{"$f":"IF(AI131<=0,0,IF($D131<=SUM($BK132:BQ132),0,IF(BF132+$D131-SUM($BK132:BQ132)>AI131+AT132,AI131+AT132-BF132,$D131-SUM($BK132:BQ132))))","v":0},{"$f":"IF(AJ131<=0,0,IF($D131<=SUM($BK132:BR132),0,IF(BG132+$D131-SUM($BK132:BR132)>AJ131+AU132,AJ131+AU132-BG132,$D131-SUM($BK132:BR132))))","v":0},{"$f":"IF(AK131<=0,0,IF($D131<=SUM($BK132:BS132),0,IF(BH132+$D131-SUM($BK132:BS132)>AK131+AV132,AK131+AV132-BH132,$D131-SUM($BK132:BS132))))","v":0}]
[null,"","1909-04-01",0,0,0,0,0,0,0,0,0,0,0,null,null,null,null,null,null,null,null,null,null,null,null,0,0,0,0,0,0,0,0,0,0,0,null,0,0,0,0,0,0,0,0,0,0,0,null,0,0,0,0,0,0,0,0,0,0,0,null,0,{"$f":"IF(AC132<=0,0,IF($D132<=SUM($BK133:BK133),0,IF(AZ133+$D132-SUM($BK133:BK133)>AC132+AN133,AC132+AN133-AZ133,$D132-SUM($BK133:BK133))))","v":0},{"$f":"IF(AD132<=0,0,IF($D132<=SUM($BK133:BL133),0,IF(BA133+$D132-SUM($BK133:BL133)>AD132+AO133,AD132+AO133-BA133,$D132-SUM($BK133:BL133))))","v":0},{"$f":"IF(AE132<=0,0,IF($D132<=SUM($BK133:BM133),0,IF(BB133+$D132-SUM($BK133:BM133)>AE132+AP133,AE132+AP133-BB133,$D132-SUM($BK133:BM133))))","v":0},{"$f":"IF(AF132<=0,0,IF($D132<=SUM($BK133:BN133),0,IF(BC133+$D132-SUM($BK133:BN133)>AF132+AQ133,AF132+AQ133-BC133,$D132-SUM($BK133:BN133))))","v":0},{"$f":"IF(AG132<=0,0,IF($D132<=SUM($BK133:BO133),0,IF(BD133+$D132-SUM($BK133:BO133)>AG132+AR133,AG132+AR133-BD133,$D132-SUM($BK133:BO133))))","v":0},{"$f":"IF(AH132<=0,0,IF($D132<=SUM($BK133:BP133),0,IF(BE133+$D132-SUM($BK133:BP133)>AH132+AS133,AH132+AS133-BE133,$D132-SUM($BK133:BP133))))","v":0},{"$f":"IF(AI132<=0,0,IF($D132<=SUM($BK133:BQ133),0,IF(BF133+$D132-SUM($BK133:BQ133)>AI132+AT133,AI132+AT133-BF133,$D132-SUM($BK133:BQ133))))","v":0},{"$f":"IF(AJ132<=0,0,IF($D132<=SUM($BK133:BR133),0,IF(BG133+$D132-SUM($BK133:BR133)>AJ132+AU133,AJ132+AU133-BG133,$D132-SUM($BK133:BR133))))","v":0},{"$f":"IF(AK132<=0,0,IF($D132<=SUM($BK133:BS133),0,IF(BH133+$D132-SUM($BK133:BS133)>AK132+AV133,AK132+AV133-BH133,$D132-SUM($BK133:BS133))))","v":0}]
[null,"","1909-05-01",0,0,0,0,0,0,0,0,0,0,0,null,null,null,null,null,null,null,null,null,null,null,null,0,0,0,0,0,0,0,0,0,0,0,null,0,0,0,0,0,0,0,0,0,0,0,null,0,0,0,0,0,0,0,0,0,0,0,null,0,{"$f":"IF(AC133<=0,0,IF($D133<=SUM($BK134:BK134),0,IF(AZ134+$D133-SUM($BK134:BK134)>AC133+AN134,AC133+AN134-AZ134,$D133-SUM($BK134:BK134))))","v":0},{"$f":"IF(AD133<=0,0,IF($D133<=SUM($BK134:BL134),0,IF(BA134+$D133-SUM($BK134:BL134)>AD133+AO134,AD133+AO134-BA134,$D133-SUM($BK134:BL134))))","v":0},{"$f":"IF(AE133<=0,0,IF($D133<=SUM($BK134:BM134),0,IF(BB134+$D133-SUM($BK134:BM134)>AE133+AP134,AE133+AP134-BB134,$D133-SUM($BK134:BM134))))","v":0},{"$f":"IF(AF133<=0,0,IF($D133<=SUM($BK134:BN134),0,IF(BC134+$D133-SUM($BK134:BN134)>AF133+AQ134,AF133+AQ134-BC134,$D133-SUM($BK134:BN134))))","v":0},{"$f":"IF(AG133<=0,0,IF($D133<=SUM($BK134:BO134),0,IF(BD134+$D133-SUM($BK134:BO134)>AG133+AR134,AG133+AR134-BD134,$D133-SUM($BK134:BO134))))","v":0},{"$f":"IF(AH133<=0,0,IF($D133<=SUM($BK134:BP134),0,IF(BE134+$D133-SUM($BK134:BP134)>AH133+AS134,AH133+AS134-BE134,$D133-SUM($BK134:BP134))))","v":0},{"$f":"IF(AI133<=0,0,IF($D133<=SUM($BK134:BQ134),0,IF(BF134+$D133-SUM($BK134:BQ134)>AI133+AT134,AI133+AT134-BF134,$D133-SUM($BK134:BQ134))))","v":0},{"$f":"IF(AJ133<=0,0,IF($D133<=SUM($BK134:BR134),0,IF(BG134+$D133-SUM($BK134:BR134)>AJ133+AU134,AJ133+AU134-BG134,$D133-SUM($BK134:BR134))))","v":0},{"$f":"IF(AK133<=0,0,IF($D133<=SUM($BK134:BS134),0,IF(BH134+$D133-SUM($BK134:BS134)>AK133+AV134,AK133+AV134-BH134,$D133-SUM($BK134:BS134))))","v":0}]
[null,"","1909-06-01",0,0,0,0,0,0,0,0,0,0,0,null,null,null,null,null,null,null,null,null,null,null,null,0,0,0,0,0,0,0,0,0,0,0,null,0,0,0,0,0,0,0,0,0,0,0,null,0,0,0,0,0,0,0,0,0,0,0,null,0,{"$f":"IF(AC134<=0,0,IF($D134<=SUM($BK135:BK135),0,IF(AZ135+$D134-SUM($BK135:BK135)>AC134+AN135,AC134+AN135-AZ135,$D134-SUM($BK135:BK135))))","v":0},{"$f":"IF(AD134<=0,0,IF($D134<=SUM($BK135:BL135),0,IF(BA135+$D134-SUM($BK135:BL135)>AD134+AO135,AD134+AO135-BA135,$D134-SUM($BK135:BL135))))","v":0},{"$f":"IF(AE134<=0,0,IF($D134<=SUM($BK135:BM135),0,IF(BB135+$D134-SUM($BK135:BM135)>AE134+AP135,AE134+AP135-BB135,$D134-SUM($BK135:BM135))))","v":0},{"$f":"IF(AF134<=0,0,IF($D134<=SUM($BK135:BN135),0,IF(BC135+$D134-SUM($BK135:BN135)>AF134+AQ135,AF134+AQ135-BC135,$D134-SUM($BK135:BN135))))","v":0},{"$f":"IF(AG134<=0,0,IF($D134<=SUM($BK135:BO135),0,IF(BD135+$D134-SUM($BK135:BO135)>AG134+AR135,AG134+AR135-BD135,$D134-SUM($BK135:BO135))))","v":0},{"$f":"IF(AH134<=0,0,IF($D134<=SUM($BK135:BP135),0,IF(BE135+$D134-SUM($BK135:BP135)>AH134+AS135,AH134+AS135-BE135,$D134-SUM($BK135:BP135))))","v":0},{"$f":"IF(AI134<=0,0,IF($D134<=SUM($BK135:BQ135),0,IF(BF135+$D134-SUM($BK135:BQ135)>AI134+AT135,AI134+AT135-BF135,$D134-SUM($BK135:BQ135))))","v":0},{"$f":"IF(AJ134<=0,0,IF($D134<=SUM($BK135:BR135),0,IF(BG135+$D134-SUM($BK135:BR135)>AJ134+AU135,AJ134+AU135-BG135,$D134-SUM($BK135:BR135))))","v":0},{"$f":"IF(AK134<=0,0,IF($D134<=SUM($BK135:BS135),0,IF(BH135+$D134-SUM($BK135:BS135)>AK134+AV135,AK134+AV135-BH135,$D134-SUM($BK135:BS135))))","v":0}]
[null,"","1909-07-01",0,0,0,0,0,0,0,0,0,0,0,null,null,null,null,null,null,null,null,null,null,null,null,0,0,0,0,0,0,0,0,0,0,0,null,0,0,0,0,0,0,0,0,0,0,0,null,0,0,0,0,0,0,0,0,0,0,0,null,0,{"$f":"IF(AC135<=0,0,IF($D135<=SUM($BK136:BK136),0,IF(AZ136+$D135-SUM($BK136:BK136)>AC135+AN136,AC135+AN136-AZ136,$D135-SUM($BK136:BK136))))","v":0},{"$f":"IF(AD135<=0,0,IF($D135<=SUM($BK136:BL136),0,IF(BA136+$D135-SUM($BK136:BL136)>AD135+AO136,AD135+AO136-BA136,$D135-SUM($BK136:BL136))))","v":0},{"$f":"IF(AE135<=0,0,IF($D135<=SUM($BK136:BM136),0,IF(BB136+$D135-SUM($BK136:BM136)>AE135+AP136,AE135+AP136-BB136,$D135-SUM($BK136:BM136))))","v":0},{"$f":"IF(AF135<=0,0,IF($D135<=SUM($BK136:BN136),0,IF(BC136+$D135-SUM($BK136:BN136)>AF135+AQ136,AF135+AQ136-BC136,$D135-SUM($BK136:BN136))))","v":0},{"$f":"IF(AG135<=0,0,IF($D135<=SUM($BK136:BO136),0,IF(BD136+$D135-SUM($BK136:BO136)>AG135+AR136,AG135+AR136-BD136,$D135-SUM($BK136:BO136))))","v":0},{"$f":"IF(AH135<=0,0,IF($D135<=SUM($BK136:BP136),0,IF(BE136+$D135-SUM($BK136:BP136)>AH135+AS136,AH135+AS136-BE136,$D135-SUM($BK136:BP136))))","v":0},{"$f":"IF(AI135<=0,0,IF($D135<=SUM($BK136:BQ136),0,IF(BF136+$D135-SUM($BK136:BQ136)>AI135+AT136,AI135+AT136-BF136,$D135-SUM($BK136:BQ136))))","v":0},{"$f":"IF(AJ135<=0,0,IF($D135<=SUM($BK136:BR136),0,IF(BG136+$D135-SUM($BK136:BR136)>AJ135+AU136,AJ135+AU136-BG136,$D135-SUM($BK136:BR136))))","v":0},{"$f":"IF(AK135<=0,0,IF($D135<=SUM($BK136:BS136),0,IF(BH136+$D135-SUM($BK136:BS136)>AK135+AV136,AK135+AV136-BH136,$D135-SUM($BK136:BS136))))","v":0}]
[null,"","1909-08-01",0,0,0,0,0,0,0,0,0,0,0,null,null,null,null,null,null,null,null,null,null,null,null,0,0,0,0,0,0,0,0,0,0,0,null,0,0,0,0,0,0,0,0,0,0,0,null,0,0,0,0,0,0,0,0,0,0,0,null,0,{"$f":"IF(AC136<=0,0,IF($D136<=SUM($BK137:BK137),0,IF(AZ137+$D136-SUM($BK137:BK137)>AC136+AN137,AC136+AN137-AZ137,$D136-SUM($BK137:BK137))))","v":0},{"$f":"IF(AD136<=0,0,IF($D136<=SUM($BK137:BL137),0,IF(BA137+$D136-SUM($BK137:BL137)>AD136+AO137,AD136+AO137-BA137,$D136-SUM($BK137:BL137))))","v":0},{"$f":"IF(AE136<=0,0,IF($D136<=SUM($BK137:BM137),0,IF(BB137+$D136-SUM($BK137:BM137)>AE136+AP137,AE136+AP137-BB137,$D136-SUM($BK137:BM137))))","v":0},{"$f":"IF(AF136<=0,0,IF($D136<=SUM($BK137:BN137),0,IF(BC137+$D136-SUM($BK137:BN137)>AF136+AQ137,AF136+AQ137-BC137,$D136-SUM($BK137:BN137))))","v":0},{"$f":"IF(AG136<=0,0,IF($D136<=SUM($BK137:BO137),0,IF(BD137+$D136-SUM($BK137:BO137)>AG136+AR137,AG136+AR137-BD137,$D136-SUM($BK137:BO137))))","v":0},{"$f":"IF(AH136<=0,0,IF($D136<=SUM($BK137:BP137),0,IF(BE137+$D136-SUM($BK137:BP137)>AH136+AS137,AH136+AS137-BE137,$D136-SUM($BK137:BP137))))","v":0},{"$f":"IF(AI136<=0,0,IF($D136<=SUM($BK137:BQ137),0,IF(BF137+$D136-SUM($BK137:BQ137)>AI136+AT137,AI136+AT137-BF137,$D136-SUM($BK137:BQ137))))","v":0},{"$f":"IF(AJ136<=0,0,IF($D136<=SUM($BK137:BR137),0,IF(BG137+$D136-SUM($BK137:BR137)>AJ136+AU137,AJ136+AU137-BG137,$D136-SUM($BK137:BR137))))","v":0},{"$f":"IF(AK136<=0,0,IF($D136<=SUM($BK137:BS137),0,IF(BH137+$D136-SUM($BK137:BS137)>AK136+AV137,AK136+AV137-BH137,$D136-SUM($BK137:BS137))))","v":0}]
[null,"","1909-09-01",0,0,0,0,0,0,0,0,0,0,0,null,null,null,null,null,null,null,null,null,null,null,null,0,0,0,0,0,0,0,0,0,0,0,null,0,0,0,0,0,0,0,0,0,0,0,null,0,0,0,0,0,0,0,0,0,0,0,null,0,{"$f":"IF(AC137<=0,0,IF($D137<=SUM($BK138:BK138),0,IF(AZ138+$D137-SUM($BK138:BK138)>AC137+AN138,AC137+AN138-AZ138,$D137-SUM($BK138:BK138))))","v":0},{"$f":"IF(AD137<=0,0,IF($D137<=SUM($BK138:BL138),0,IF(BA138+$D137-SUM($BK138:BL138)>AD137+AO138,AD137+AO138-BA138,$D137-SUM($BK138:BL138))))","v":0},{"$f":"IF(AE137<=0,0,IF($D137<=SUM($BK138:BM138),0,IF(BB138+$D137-SUM($BK138:BM138)>AE137+AP138,AE137+AP138-BB138,$D137-SUM($BK138:BM138))))","v":0},{"$f":"IF(AF137<=0,0,IF($D137<=SUM($BK138:BN138),0,IF(BC138+$D137-SUM($BK138:BN138)>AF137+AQ138,AF137+AQ138-BC138,$D137-SUM($BK138:BN138))))","v":0},{"$f":"IF(AG137<=0,0,IF($D137<=SUM($BK138:BO138),0,IF(BD138+$D137-SUM($BK138:BO138)>AG137+AR138,AG137+AR138-BD138,$D137-SUM($BK138:BO138))))","v":0},{"$f":"IF(AH137<=0,0,IF($D137<=SUM($BK138:BP138),0,IF(BE138+$D137-SUM($BK138:BP138)>AH137+AS138,AH137+AS138-BE138,$D137-SUM($BK138:BP138))))","v":0},{"$f":"IF(AI137<=0,0,IF($D137<=SUM($BK138:BQ138),0,IF(BF138+$D137-SUM($BK138:BQ138)>AI137+AT138,AI137+AT138-BF138,$D137-SUM($BK138:BQ138))))","v":0},{"$f":"IF(AJ137<=0,0,IF($D137<=SUM($BK138:BR138),0,IF(BG138+$D137-SUM($BK138:BR138)>AJ137+AU138,AJ137+AU138-BG138,$D137-SUM($BK138:BR138))))","v":0},{"$f":"IF(AK137<=0,0,IF($D137<=SUM($BK138:BS138),0,IF(BH138+$D137-SUM($BK138:BS138)>AK137+AV138,AK137+AV138-BH138,$D137-SUM($BK138:BS138))))","v":0}]
[null,"","1909-10-01",0,0,0,0,0,0,0,0,0,0,0,null,null,null,null,null,null,null,null,null,null,null,null,0,0,0,0,0,0,0,0,0,0,0,null,0,0,0,0,0,0,0,0,0,0,0,null,0,0,0,0,0,0,0,0,0,0,0,null,0,{"$f":"IF(AC138<=0,0,IF($D138<=SUM($BK139:BK139),0,IF(AZ139+$D138-SUM($BK139:BK139)>AC138+AN139,AC138+AN139-AZ139,$D138-SUM($BK139:BK139))))","v":0},{"$f":"IF(AD138<=0,0,IF($D138<=SUM($BK139:BL139),0,IF(BA139+$D138-SUM($BK139:BL139)>AD138+AO139,AD138+AO139-BA139,$D138-SUM($BK139:BL139))))","v":0},{"$f":"IF(AE138<=0,0,IF($D138<=SUM($BK139:BM139),0,IF(BB139+$D138-SUM($BK139:BM139)>AE138+AP139,AE138+AP139-BB139,$D138-SUM($BK139:BM139))))","v":0},{"$f":"IF(AF138<=0,0,IF($D138<=SUM($BK139:BN139),0,IF(BC139+$D138-SUM($BK139:BN139)>AF138+AQ139,AF138+AQ139-BC139,$D138-SUM($BK139:BN139))))","v":0},{"$f":"IF(AG138<=0,0,IF($D138<=SUM($BK139:BO139),0,IF(BD139+$D138-SUM($BK139:BO139)>AG138+AR139,AG138+AR139-BD139,$D138-SUM($BK139:BO139))))","v":0},{"$f":"IF(AH138<=0,0,IF($D138<=SUM($BK139:BP139),0,IF(BE139+$D138-SUM($BK139:BP139)>AH138+AS139,AH138+AS139-BE139,$D138-SUM($BK139:BP139))))","v":0},{"$f":"IF(AI138<=0,0,IF($D138<=SUM($BK139:BQ139),0,IF(BF139+$D138-SUM($BK139:BQ139)>AI138+AT139,AI138+AT139-BF139,$D138-SUM($BK139:BQ139))))","v":0},{"$f":"IF(AJ138<=0,0,IF($D138<=SUM($BK139:BR139),0,IF(BG139+$D138-SUM($BK139:BR139)>AJ138+AU139,AJ138+AU139-BG139,$D138-SUM($BK139:BR139))))","v":0},{"$f":"IF(AK138<=0,0,IF($D138<=SUM($BK139:BS139),0,IF(BH139+$D138-SUM($BK139:BS139)>AK138+AV139,AK138+AV139-BH139,$D138-SUM($BK139:BS139))))","v":0}]
[null,"","1909-11-01",0,0,0,0,0,0,0,0,0,0,0,null,null,null,null,null,null,null,null,null,null,null,null,0,0,0,0,0,0,0,0,0,0,0,null,0,0,0,0,0,0,0,0,0,0,0,null,0,0,0,0,0,0,0,0,0,0,0,null,0,{"$f":"IF(AC139<=0,0,IF($D139<=SUM($BK140:BK140),0,IF(AZ140+$D139-SUM($BK140:BK140)>AC139+AN140,AC139+AN140-AZ140,$D139-SUM($BK140:BK140))))","v":0},{"$f":"IF(AD139<=0,0,IF($D139<=SUM($BK140:BL140),0,IF(BA140+$D139-SUM($BK140:BL140)>AD139+AO140,AD139+AO140-BA140,$D139-SUM($BK140:BL140))))","v":0},{"$f":"IF(AE139<=0,0,IF($D139<=SUM($BK140:BM140),0,IF(BB140+$D139-SUM($BK140:BM140)>AE139+AP140,AE139+AP140-BB140,$D139-SUM($BK140:BM140))))","v":0},{"$f":"IF(AF139<=0,0,IF($D139<=SUM($BK140:BN140),0,IF(BC140+$D139-SUM($BK140:BN140)>AF139+AQ140,AF139+AQ140-BC140,$D139-SUM($BK140:BN140))))","v":0},{"$f":"IF(AG139<=0,0,IF($D139<=SUM($BK140:BO140),0,IF(BD140+$D139-SUM($BK140:BO140)>AG139+AR140,AG139+AR140-BD140,$D139-SUM($BK140:BO140))))","v":0},{"$f":"IF(AH139<=0,0,IF($D139<=SUM($BK140:BP140),0,IF(BE140+$D139-SUM($BK140:BP140)>AH139+AS140,AH139+AS140-BE140,$D139-SUM($BK140:BP140))))","v":0},{"$f":"IF(AI139<=0,0,IF($D139<=SUM($BK140:BQ140),0,IF(BF140+$D139-SUM($BK140:BQ140)>AI139+AT140,AI139+AT140-BF140,$D139-SUM($BK140:BQ140))))","v":0},{"$f":"IF(AJ139<=0,0,IF($D139<=SUM($BK140:BR140),0,IF(BG140+$D139-SUM($BK140:BR140)>AJ139+AU140,AJ139+AU140-BG140,$D139-SUM($BK140:BR140))))","v":0},{"$f":"IF(AK139<=0,0,IF($D139<=SUM($BK140:BS140),0,IF(BH140+$D139-SUM($BK140:BS140)>AK139+AV140,AK139+AV140-BH140,$D139-SUM($BK140:BS140))))","v":0}]
[null,"","1909-12-01",0,0,0,0,0,0,0,0,0,0,0,null,null,null,null,null,null,null,null,null,null,null,null,0,0,0,0,0,0,0,0,0,0,0,null,0,0,0,0,0,0,0,0,0,0,0,null,0,0,0,0,0,0,0,0,0,0,0,null,0,{"$f":"IF(AC140<=0,0,IF($D140<=SUM($BK141:BK141),0,IF(AZ141+$D140-SUM($BK141:BK141)>AC140+AN141,AC140+AN141-AZ141,$D140-SUM($BK141:BK141))))","v":0},{"$f":"IF(AD140<=0,0,IF($D140<=SUM($BK141:BL141),0,IF(BA141+$D140-SUM($BK141:BL141)>AD140+AO141,AD140+AO141-BA141,$D140-SUM($BK141:BL141))))","v":0},{"$f":"IF(AE140<=0,0,IF($D140<=SUM($BK141:BM141),0,IF(BB141+$D140-SUM($BK141:BM141)>AE140+AP141,AE140+AP141-BB141,$D140-SUM($BK141:BM141))))","v":0},{"$f":"IF(AF140<=0,0,IF($D140<=SUM($BK141:BN141),0,IF(BC141+$D140-SUM($BK141:BN141)>AF140+AQ141,AF140+AQ141-BC141,$D140-SUM($BK141:BN141))))","v":0},{"$f":"IF(AG140<=0,0,IF($D140<=SUM($BK141:BO141),0,IF(BD141+$D140-SUM($BK141:BO141)>AG140+AR141,AG140+AR141-BD141,$D140-SUM($BK141:BO141))))","v":0},{"$f":"IF(AH140<=0,0,IF($D140<=SUM($BK141:BP141),0,IF(BE141+$D140-SUM($BK141:BP141)>AH140+AS141,AH140+AS141-BE141,$D140-SUM($BK141:BP141))))","v":0},{"$f":"IF(AI140<=0,0,IF($D140<=SUM($BK141:BQ141),0,IF(BF141+$D140-SUM($BK141:BQ141)>AI140+AT141,AI140+AT141-BF141,$D140-SUM($BK141:BQ141))))","v":0},{"$f":"IF(AJ140<=0,0,IF($D140<=SUM($BK141:BR141),0,IF(BG141+$D140-SUM($BK141:BR141)>AJ140+AU141,AJ140+AU141-BG141,$D140-SUM($BK141:BR141))))","v":0},{"$f":"IF(AK140<=0,0,IF($D140<=SUM($BK141:BS141),0,IF(BH141+$D140-SUM($BK141:BS141)>AK140+AV141,AK140+AV141-BH141,$D140-SUM($BK141:BS141))))","v":0}]
[null,"","1910-01-01",0,0,0,0,0,0,0,0,0,0,0,null,null,null,null,null,null,null,null,null,null,null,null,0,0,0,0,0,0,0,0,0,0,0,null,0,0,0,0,0,0,0,0,0,0,0,null,0,0,0,0,0,0,0,0,0,0,0,null,0,{"$f":"IF(AC141<=0,0,IF($D141<=SUM($BK142:BK142),0,IF(AZ142+$D141-SUM($BK142:BK142)>AC141+AN142,AC141+AN142-AZ142,$D141-SUM($BK142:BK142))))","v":0},{"$f":"IF(AD141<=0,0,IF($D141<=SUM($BK142:BL142),0,IF(BA142+$D141-SUM($BK142:BL142)>AD141+AO142,AD141+AO142-BA142,$D141-SUM($BK142:BL142))))","v":0},{"$f":"IF(AE141<=0,0,IF($D141<=SUM($BK142:BM142),0,IF(BB142+$D141-SUM($BK142:BM142)>AE141+AP142,AE141+AP142-BB142,$D141-SUM($BK142:BM142))))","v":0},{"$f":"IF(AF141<=0,0,IF($D141<=SUM($BK142:BN142),0,IF(BC142+$D141-SUM($BK142:BN142)>AF141+AQ142,AF141+AQ142-BC142,$D141-SUM($BK142:BN142))))","v":0},{"$f":"IF(AG141<=0,0,IF($D141<=SUM($BK142:BO142),0,IF(BD142+$D141-SUM($BK142:BO142)>AG141+AR142,AG141+AR142-BD142,$D141-SUM($BK142:BO142))))","v":0},{"$f":"IF(AH141<=0,0,IF($D141<=SUM($BK142:BP142),0,IF(BE142+$D141-SUM($BK142:BP142)>AH141+AS142,AH141+AS142-BE142,$D141-SUM($BK142:BP142))))","v":0},{"$f":"IF(AI141<=0,0,IF($D141<=SUM($BK142:BQ142),0,IF(BF142+$D141-SUM($BK142:BQ142)>AI141+AT142,AI141+AT142-BF142,$D141-SUM($BK142:BQ142))))","v":0},{"$f":"IF(AJ141<=0,0,IF($D141<=SUM($BK142:BR142),0,IF(BG142+$D141-SUM($BK142:BR142)>AJ141+AU142,AJ141+AU142-BG142,$D141-SUM($BK142:BR142))))","v":0},{"$f":"IF(AK141<=0,0,IF($D141<=SUM($BK142:BS142),0,IF(BH142+$D141-SUM($BK142:BS142)>AK141+AV142,AK141+AV142-BH142,$D141-SUM($BK142:BS142))))","v":0}]
[null,"","1910-02-01",0,0,0,0,0,0,0,0,0,0,0,null,null,null,null,null,null,null,null,null,null,null,null,0,0,0,0,0,0,0,0,0,0,0,null,0,0,0,0,0,0,0,0,0,0,0,null,0,0,0,0,0,0,0,0,0,0,0,null,0,{"$f":"IF(AC142<=0,0,IF($D142<=SUM($BK143:BK143),0,IF(AZ143+$D142-SUM($BK143:BK143)>AC142+AN143,AC142+AN143-AZ143,$D142-SUM($BK143:BK143))))","v":0},{"$f":"IF(AD142<=0,0,IF($D142<=SUM($BK143:BL143),0,IF(BA143+$D142-SUM($BK143:BL143)>AD142+AO143,AD142+AO143-BA143,$D142-SUM($BK143:BL143))))","v":0},{"$f":"IF(AE142<=0,0,IF($D142<=SUM($BK143:BM143),0,IF(BB143+$D142-SUM($BK143:BM143)>AE142+AP143,AE142+AP143-BB143,$D142-SUM($BK143:BM143))))","v":0},{"$f":"IF(AF142<=0,0,IF($D142<=SUM($BK143:BN143),0,IF(BC143+$D142-SUM($BK143:BN143)>AF142+AQ143,AF142+AQ143-BC143,$D142-SUM($BK143:BN143))))","v":0},{"$f":"IF(AG142<=0,0,IF($D142<=SUM($BK143:BO143),0,IF(BD143+$D142-SUM($BK143:BO143)>AG142+AR143,AG142+AR143-BD143,$D142-SUM($BK143:BO143))))","v":0},{"$f":"IF(AH142<=0,0,IF($D142<=SUM($BK143:BP143),0,IF(BE143+$D142-SUM($BK143:BP143)>AH142+AS143,AH142+AS143-BE143,$D142-SUM($BK143:BP143))))","v":0},{"$f":"IF(AI142<=0,0,IF($D142<=SUM($BK143:BQ143),0,IF(BF143+$D142-SUM($BK143:BQ143)>AI142+AT143,AI142+AT143-BF143,$D142-SUM($BK143:BQ143))))","v":0},{"$f":"IF(AJ142<=0,0,IF($D142<=SUM($BK143:BR143),0,IF(BG143+$D142-SUM($BK143:BR143)>AJ142+AU143,AJ142+AU143-BG143,$D142-SUM($BK143:BR143))))","v":0},{"$f":"IF(AK142<=0,0,IF($D142<=SUM($BK143:BS143),0,IF(BH143+$D142-SUM($BK143:BS143)>AK142+AV143,AK142+AV143-BH143,$D142-SUM($BK143:BS143))))","v":0}]
[null,"","1910-03-01",0,0,0,0,0,0,0,0,0,0,0,null,null,null,null,null,null,null,null,null,null,null,null,0,0,0,0,0,0,0,0,0,0,0,null,0,0,0,0,0,0,0,0,0,0,0,null,0,0,0,0,0,0,0,0,0,0,0,null,0,{"$f":"IF(AC143<=0,0,IF($D143<=SUM($BK144:BK144),0,IF(AZ144+$D143-SUM($BK144:BK144)>AC143+AN144,AC143+AN144-AZ144,$D143-SUM($BK144:BK144))))","v":0},{"$f":"IF(AD143<=0,0,IF($D143<=SUM($BK144:BL144),0,IF(BA144+$D143-SUM($BK144:BL144)>AD143+AO144,AD143+AO144-BA144,$D143-SUM($BK144:BL144))))","v":0},{"$f":"IF(AE143<=0,0,IF($D143<=SUM($BK144:BM144),0,IF(BB144+$D143-SUM($BK144:BM144)>AE143+AP144,AE143+AP144-BB144,$D143-SUM($BK144:BM144))))","v":0},{"$f":"IF(AF143<=0,0,IF($D143<=SUM($BK144:BN144),0,IF(BC144+$D143-SUM($BK144:BN144)>AF143+AQ144,AF143+AQ144-BC144,$D143-SUM($BK144:BN144))))","v":0},{"$f":"IF(AG143<=0,0,IF($D143<=SUM($BK144:BO144),0,IF(BD144+$D143-SUM($BK144:BO144)>AG143+AR144,AG143+AR144-BD144,$D143-SUM($BK144:BO144))))","v":0},{"$f":"IF(AH143<=0,0,IF($D143<=SUM($BK144:BP144),0,IF(BE144+$D143-SUM($BK144:BP144)>AH143+AS144,AH143+AS144-BE144,$D143-SUM($BK144:BP144))))","v":0},{"$f":"IF(AI143<=0,0,IF($D143<=SUM($BK144:BQ144),0,IF(BF144+$D143-SUM($BK144:BQ144)>AI143+AT144,AI143+AT144-BF144,$D143-SUM($BK144:BQ144))))","v":0},{"$f":"IF(AJ143<=0,0,IF($D143<=SUM($BK144:BR144),0,IF(BG144+$D143-SUM($BK144:BR144)>AJ143+AU144,AJ143+AU144-BG144,$D143-SUM($BK144:BR144))))","v":0},{"$f":"IF(AK143<=0,0,IF($D143<=SUM($BK144:BS144),0,IF(BH144+$D143-SUM($BK144:BS144)>AK143+AV144,AK143+AV144-BH144,$D143-SUM($BK144:BS144))))","v":0}]
[null,"","1910-04-01",0,0,0,0,0,0,0,0,0,0,0,null,null,null,null,null,null,null,null,null,null,null,null,0,0,0,0,0,0,0,0,0,0,0,null,0,0,0,0,0,0,0,0,0,0,0,null,0,0,0,0,0,0,0,0,0,0,0,null,0,{"$f":"IF(AC144<=0,0,IF($D144<=SUM($BK145:BK145),0,IF(AZ145+$D144-SUM($BK145:BK145)>AC144+AN145,AC144+AN145-AZ145,$D144-SUM($BK145:BK145))))","v":0},{"$f":"IF(AD144<=0,0,IF($D144<=SUM($BK145:BL145),0,IF(BA145+$D144-SUM($BK145:BL145)>AD144+AO145,AD144+AO145-BA145,$D144-SUM($BK145:BL145))))","v":0},{"$f":"IF(AE144<=0,0,IF($D144<=SUM($BK145:BM145),0,IF(BB145+$D144-SUM($BK145:BM145)>AE144+AP145,AE144+AP145-BB145,$D144-SUM($BK145:BM145))))","v":0},{"$f":"IF(AF144<=0,0,IF($D144<=SUM($BK145:BN145),0,IF(BC145+$D144-SUM($BK145:BN145)>AF144+AQ145,AF144+AQ145-BC145,$D144-SUM($BK145:BN145))))","v":0},{"$f":"IF(AG144<=0,0,IF($D144<=SUM($BK145:BO145),0,IF(BD145+$D144-SUM($BK145:BO145)>AG144+AR145,AG144+AR145-BD145,$D144-SUM($BK145:BO145))))","v":0},{"$f":"IF(AH144<=0,0,IF($D144<=SUM($BK145:BP145),0,IF(BE145+$D144-SUM($BK145:BP145)>AH144+AS145,AH144+AS145-BE145,$D144-SUM($BK145:BP145))))","v":0},{"$f":"IF(AI144<=0,0,IF($D144<=SUM($BK145:BQ145),0,IF(BF145+$D144-SUM($BK145:BQ145)>AI144+AT145,AI144+AT145-BF145,$D144-SUM($BK145:BQ145))))","v":0},{"$f":"IF(AJ144<=0,0,IF($D144<=SUM($BK145:BR145),0,IF(BG145+$D144-SUM($BK145:BR145)>AJ144+AU145,AJ144+AU145-BG145,$D144-SUM($BK145:BR145))))","v":0},{"$f":"IF(AK144<=0,0,IF($D144<=SUM($BK145:BS145),0,IF(BH145+$D144-SUM($BK145:BS145)>AK144+AV145,AK144+AV145-BH145,$D144-SUM($BK145:BS145))))","v":0}]
[null,"","1910-05-01",0,0,0,0,0,0,0,0,0,0,0,null,null,null,null,null,null,null,null,null,null,null,null,0,0,0,0,0,0,0,0,0,0,0,null,0,0,0,0,0,0,0,0,0,0,0,null,0,0,0,0,0,0,0,0,0,0,0,null,0,{"$f":"IF(AC145<=0,0,IF($D145<=SUM($BK146:BK146),0,IF(AZ146+$D145-SUM($BK146:BK146)>AC145+AN146,AC145+AN146-AZ146,$D145-SUM($BK146:BK146))))","v":0},{"$f":"IF(AD145<=0,0,IF($D145<=SUM($BK146:BL146),0,IF(BA146+$D145-SUM($BK146:BL146)>AD145+AO146,AD145+AO146-BA146,$D145-SUM($BK146:BL146))))","v":0},{"$f":"IF(AE145<=0,0,IF($D145<=SUM($BK146:BM146),0,IF(BB146+$D145-SUM($BK146:BM146)>AE145+AP146,AE145+AP146-BB146,$D145-SUM($BK146:BM146))))","v":0},{"$f":"IF(AF145<=0,0,IF($D145<=SUM($BK146:BN146),0,IF(BC146+$D145-SUM($BK146:BN146)>AF145+AQ146,AF145+AQ146-BC146,$D145-SUM($BK146:BN146))))","v":0},{"$f":"IF(AG145<=0,0,IF($D145<=SUM($BK146:BO146),0,IF(BD146+$D145-SUM($BK146:BO146)>AG145+AR146,AG145+AR146-BD146,$D145-SUM($BK146:BO146))))","v":0},{"$f":"IF(AH145<=0,0,IF($D145<=SUM($BK146:BP146),0,IF(BE146+$D145-SUM($BK146:BP146)>AH145+AS146,AH145+AS146-BE146,$D145-SUM($BK146:BP146))))","v":0},{"$f":"IF(AI145<=0,0,IF($D145<=SUM($BK146:BQ146),0,IF(BF146+$D145-SUM($BK146:BQ146)>AI145+AT146,AI145+AT146-BF146,$D145-SUM($BK146:BQ146))))","v":0},{"$f":"IF(AJ145<=0,0,IF($D145<=SUM($BK146:BR146),0,IF(BG146+$D145-SUM($BK146:BR146)>AJ145+AU146,AJ145+AU146-BG146,$D145-SUM($BK146:BR146))))","v":0},{"$f":"IF(AK145<=0,0,IF($D145<=SUM($BK146:BS146),0,IF(BH146+$D145-SUM($BK146:BS146)>AK145+AV146,AK145+AV146-BH146,$D145-SUM($BK146:BS146))))","v":0}]
[null,"","1910-06-01",0,0,0,0,0,0,0,0,0,0,0,null,null,null,null,null,null,null,null,null,null,null,null,0,0,0,0,0,0,0,0,0,0,0,null,0,0,0,0,0,0,0,0,0,0,0,null,0,0,0,0,0,0,0,0,0,0,0,null,0,{"$f":"IF(AC146<=0,0,IF($D146<=SUM($BK147:BK147),0,IF(AZ147+$D146-SUM($BK147:BK147)>AC146+AN147,AC146+AN147-AZ147,$D146-SUM($BK147:BK147))))","v":0},{"$f":"IF(AD146<=0,0,IF($D146<=SUM($BK147:BL147),0,IF(BA147+$D146-SUM($BK147:BL147)>AD146+AO147,AD146+AO147-BA147,$D146-SUM($BK147:BL147))))","v":0},{"$f":"IF(AE146<=0,0,IF($D146<=SUM($BK147:BM147),0,IF(BB147+$D146-SUM($BK147:BM147)>AE146+AP147,AE146+AP147-BB147,$D146-SUM($BK147:BM147))))","v":0},{"$f":"IF(AF146<=0,0,IF($D146<=SUM($BK147:BN147),0,IF(BC147+$D146-SUM($BK147:BN147)>AF146+AQ147,AF146+AQ147-BC147,$D146-SUM($BK147:BN147))))","v":0},{"$f":"IF(AG146<=0,0,IF($D146<=SUM($BK147:BO147),0,IF(BD147+$D146-SUM($BK147:BO147)>AG146+AR147,AG146+AR147-BD147,$D146-SUM($BK147:BO147))))","v":0},{"$f":"IF(AH146<=0,0,IF($D146<=SUM($BK147:BP147),0,IF(BE147+$D146-SUM($BK147:BP147)>AH146+AS147,AH146+AS147-BE147,$D146-SUM($BK147:BP147))))","v":0},{"$f":"IF(AI146<=0,0,IF($D146<=SUM($BK147:BQ147),0,IF(BF147+$D146-SUM($BK147:BQ147)>AI146+AT147,AI146+AT147-BF147,$D146-SUM($BK147:BQ147))))","v":0},{"$f":"IF(AJ146<=0,0,IF($D146<=SUM($BK147:BR147),0,IF(BG147+$D146-SUM($BK147:BR147)>AJ146+AU147,AJ146+AU147-BG147,$D146-SUM($BK147:BR147))))","v":0},{"$f":"IF(AK146<=0,0,IF($D146<=SUM($BK147:BS147),0,IF(BH147+$D146-SUM($BK147:BS147)>AK146+AV147,AK146+AV147-BH147,$D146-SUM($BK147:BS147))))","v":0}]
[null,"","1910-07-01",0,0,0,0,0,0,0,0,0,0,0,null,null,null,null,null,null,null,null,null,null,null,null,0,0,0,0,0,0,0,0,0,0,0,null,0,0,0,0,0,0,0,0,0,0,0,null,0,0,0,0,0,0,0,0,0,0,0,null,0,{"$f":"IF(AC147<=0,0,IF($D147<=SUM($BK148:BK148),0,IF(AZ148+$D147-SUM($BK148:BK148)>AC147+AN148,AC147+AN148-AZ148,$D147-SUM($BK148:BK148))))","v":0},{"$f":"IF(AD147<=0,0,IF($D147<=SUM($BK148:BL148),0,IF(BA148+$D147-SUM($BK148:BL148)>AD147+AO148,AD147+AO148-BA148,$D147-SUM($BK148:BL148))))","v":0},{"$f":"IF(AE147<=0,0,IF($D147<=SUM($BK148:BM148),0,IF(BB148+$D147-SUM($BK148:BM148)>AE147+AP148,AE147+AP148-BB148,$D147-SUM($BK148:BM148))))","v":0},{"$f":"IF(AF147<=0,0,IF($D147<=SUM($BK148:BN148),0,IF(BC148+$D147-SUM($BK148:BN148)>AF147+AQ148,AF147+AQ148-BC148,$D147-SUM($BK148:BN148))))","v":0},{"$f":"IF(AG147<=0,0,IF($D147<=SUM($BK148:BO148),0,IF(BD148+$D147-SUM($BK148:BO148)>AG147+AR148,AG147+AR148-BD148,$D147-SUM($BK148:BO148))))","v":0},{"$f":"IF(AH147<=0,0,IF($D147<=SUM($BK148:BP148),0,IF(BE148+$D147-SUM($BK148:BP148)>AH147+AS148,AH147+AS148-BE148,$D147-SUM($BK148:BP148))))","v":0},{"$f":"IF(AI147<=0,0,IF($D147<=SUM($BK148:BQ148),0,IF(BF148+$D147-SUM($BK148:BQ148)>AI147+AT148,AI147+AT148-BF148,$D147-SUM($BK148:BQ148))))","v":0},{"$f":"IF(AJ147<=0,0,IF($D147<=SUM($BK148:BR148),0,IF(BG148+$D147-SUM($BK148:BR148)>AJ147+AU148,AJ147+AU148-BG148,$D147-SUM($BK148:BR148))))","v":0},{"$f":"IF(AK147<=0,0,IF($D147<=SUM($BK148:BS148),0,IF(BH148+$D147-SUM($BK148:BS148)>AK147+AV148,AK147+AV148-BH148,$D147-SUM($BK148:BS148))))","v":0}]
[null,"","1910-08-01",0,0,0,0,0,0,0,0,0,0,0,null,null,null,null,null,null,null,null,null,null,null,null,0,0,0,0,0,0,0,0,0,0,0,null,0,0,0,0,0,0,0,0,0,0,0,null,0,0,0,0,0,0,0,0,0,0,0,null,0,{"$f":"IF(AC148<=0,0,IF($D148<=SUM($BK149:BK149),0,IF(AZ149+$D148-SUM($BK149:BK149)>AC148+AN149,AC148+AN149-AZ149,$D148-SUM($BK149:BK149))))","v":0},{"$f":"IF(AD148<=0,0,IF($D148<=SUM($BK149:BL149),0,IF(BA149+$D148-SUM($BK149:BL149)>AD148+AO149,AD148+AO149-BA149,$D148-SUM($BK149:BL149))))","v":0},{"$f":"IF(AE148<=0,0,IF($D148<=SUM($BK149:BM149),0,IF(BB149+$D148-SUM($BK149:BM149)>AE148+AP149,AE148+AP149-BB149,$D148-SUM($BK149:BM149))))","v":0},{"$f":"IF(AF148<=0,0,IF($D148<=SUM($BK149:BN149),0,IF(BC149+$D148-SUM($BK149:BN149)>AF148+AQ149,AF148+AQ149-BC149,$D148-SUM($BK149:BN149))))","v":0},{"$f":"IF(AG148<=0,0,IF($D148<=SUM($BK149:BO149),0,IF(BD149+$D148-SUM($BK149:BO149)>AG148+AR149,AG148+AR149-BD149,$D148-SUM($BK149:BO149))))","v":0},{"$f":"IF(AH148<=0,0,IF($D148<=SUM($BK149:BP149),0,IF(BE149+$D148-SUM($BK149:BP149)>AH148+AS149,AH148+AS149-BE149,$D148-SUM($BK149:BP149))))","v":0},{"$f":"IF(AI148<=0,0,IF($D148<=SUM($BK149:BQ149),0,IF(BF149+$D148-SUM($BK149:BQ149)>AI148+AT149,AI148+AT149-BF149,$D148-SUM($BK149:BQ149))))","v":0},{"$f":"IF(AJ148<=0,0,IF($D148<=SUM($BK149:BR149),0,IF(BG149+$D148-SUM($BK149:BR149)>AJ148+AU149,AJ148+AU149-BG149,$D148-SUM($BK149:BR149))))","v":0},{"$f":"IF(AK148<=0,0,IF($D148<=SUM($BK149:BS149),0,IF(BH149+$D148-SUM($BK149:BS149)>AK148+AV149,AK148+AV149-BH149,$D148-SUM($BK149:BS149))))","v":0}]
[null,"","1910-09-01",0,0,0,0,0,0,0,0,0,0,0,null,null,null,null,null,null,null,null,null,null,null,null,0,0,0,0,0,0,0,0,0,0,0,null,0,0,0,0,0,0,0,0,0,0,0,null,0,0,0,0,0,0,0,0,0,0,0,null,0,{"$f":"IF(AC149<=0,0,IF($D149<=SUM($BK150:BK150),0,IF(AZ150+$D149-SUM($BK150:BK150)>AC149+AN150,AC149+AN150-AZ150,$D149-SUM($BK150:BK150))))","v":0},{"$f":"IF(AD149<=0,0,IF($D149<=SUM($BK150:BL150),0,IF(BA150+$D149-SUM($BK150:BL150)>AD149+AO150,AD149+AO150-BA150,$D149-SUM($BK150:BL150))))","v":0},{"$f":"IF(AE149<=0,0,IF($D149<=SUM($BK150:BM150),0,IF(BB150+$D149-SUM($BK150:BM150)>AE149+AP150,AE149+AP150-BB150,$D149-SUM($BK150:BM150))))","v":0},{"$f":"IF(AF149<=0,0,IF($D149<=SUM($BK150:BN150),0,IF(BC150+$D149-SUM($BK150:BN150)>AF149+AQ150,AF149+AQ150-BC150,$D149-SUM($BK150:BN150))))","v":0},{"$f":"IF(AG149<=0,0,IF($D149<=SUM($BK150:BO150),0,IF(BD150+$D149-SUM($BK150:BO150)>AG149+AR150,AG149+AR150-BD150,$D149-SUM($BK150:BO150))))","v":0},{"$f":"IF(AH149<=0,0,IF($D149<=SUM($BK150:BP150),0,IF(BE150+$D149-SUM($BK150:BP150)>AH149+AS150,AH149+AS150-BE150,$D149-SUM($BK150:BP150))))","v":0},{"$f":"IF(AI149<=0,0,IF($D149<=SUM($BK150:BQ150),0,IF(BF150+$D149-SUM($BK150:BQ150)>AI149+AT150,AI149+AT150-BF150,$D149-SUM($BK150:BQ150))))","v":0},{"$f":"IF(AJ149<=0,0,IF($D149<=SUM($BK150:BR150),0,IF(BG150+$D149-SUM($BK150:BR150)>AJ149+AU150,AJ149+AU150-BG150,$D149-SUM($BK150:BR150))))","v":0},{"$f":"IF(AK149<=0,0,IF($D149<=SUM($BK150:BS150),0,IF(BH150+$D149-SUM($BK150:BS150)>AK149+AV150,AK149+AV150-BH150,$D149-SUM($BK150:BS150))))","v":0}]
[null,{"$f":"IF(SUM(AB151:AK151)<=0,\"\",B150+1)","v":""},"1910-10-01",{"$f":"IF(($F$4-BI152<0),$F$4,$F$4-BI152)","v":0},0,0,0,0,0,0,0,0,0,0,null,null,null,null,null,null,null,null,null,null,null,null,0,0,0,0,0,0,0,0,0,0,0,null,0,0,0,0,0,0,0,0,0,0,0,null,0,0,0,0,0,0,0,0,0,0,0,null,0,{"$f":"IF(AC150<=0,0,IF($D150<=SUM($BK151:BK151),0,IF(AZ151+$D150-SUM($BK151:BK151)>AC150+AN151,AC150+AN151-AZ151,$D150-SUM($BK151:BK151))))","v":0},{"$f":"IF(AD150<=0,0,IF($D150<=SUM($BK151:BL151),0,IF(BA151+$D150-SUM($BK151:BL151)>AD150+AO151,AD150+AO151-BA151,$D150-SUM($BK151:BL151))))","v":0},{"$f":"IF(AE150<=0,0,IF($D150<=SUM($BK151:BM151),0,IF(BB151+$D150-SUM($BK151:BM151)>AE150+AP151,AE150+AP151-BB151,$D150-SUM($BK151:BM151))))","v":0},{"$f":"IF(AF150<=0,0,IF($D150<=SUM($BK151:BN151),0,IF(BC151+$D150-SUM($BK151:BN151)>AF150+AQ151,AF150+AQ151-BC151,$D150-SUM($BK151:BN151))))","v":0},{"$f":"IF(AG150<=0,0,IF($D150<=SUM($BK151:BO151),0,IF(BD151+$D150-SUM($BK151:BO151)>AG150+AR151,AG150+AR151-BD151,$D150-SUM($BK151:BO151))))","v":0},{"$f":"IF(AH150<=0,0,IF($D150<=SUM($BK151:BP151),0,IF(BE151+$D150-SUM($BK151:BP151)>AH150+AS151,AH150+AS151-BE151,$D150-SUM($BK151:BP151))))","v":0},{"$f":"IF(AI150<=0,0,IF($D150<=SUM($BK151:BQ151),0,IF(BF151+$D150-SUM($BK151:BQ151)>AI150+AT151,AI150+AT151-BF151,$D150-SUM($BK151:BQ151))))","v":0},{"$f":"IF(AJ150<=0,0,IF($D150<=SUM($BK151:BR151),0,IF(BG151+$D150-SUM($BK151:BR151)>AJ150+AU151,AJ150+AU151-BG151,$D150-SUM($BK151:BR151))))","v":0},{"$f":"IF(AK150<=0,0,IF($D150<=SUM($BK151:BS151),0,IF(BH151+$D150-SUM($BK151:BS151)>AK150+AV151,AK150+AV151-BH151,$D150-SUM($BK151:BS151))))","v":0}]
[null,"","1910-11-01",0,0,0,0,0,0,0,0,0,0,0,null,null,null,null,null,null,null,null,null,null,null,null,0,{"$f":"IF(E$7=0,0,ROUND(AB151-(E151-AM152),2))","v":0},{"$f":"IF(F$7=0,0,ROUND(AC151-(F151-AN152),2))","v":0},{"$f":"IF(G$7=0,0,ROUND(AD151-(G151-AO152),2))","v":0},{"$f":"IF(H$7=0,0,ROUND(AE151-(H151-AP152),2))","v":0},{"$f":"IF(I$7=0,0,ROUND(AF151-(I151-AQ152),2))","v":0},{"$f":"IF(J$7=0,0,ROUND(AG151-(J151-AR152),2))","v":0},{"$f":"IF(K$7=0,0,ROUND(AH151-(K151-AS152),2))","v":0},{"$f":"IF(L$7=0,0,ROUND(AI151-(L151-AT152),2))","v":0},{"$f":"IF(M$7=0,0,ROUND(AJ151-(M151-AU152),2))","v":0},{"$f":"IF(N$7=0,0,ROUND(AK151-(N151-AV152),2))","v":0},null,{"$f":"IF((AB151=\"-\"),0,ROUND(AB151*E$8/12,2))","v":0},{"$f":"IF((AC151=\"-\"),0,ROUND(AC151*F$8/12,2))","v":0},{"$f":"IF((AD151=\"-\"),0,ROUND(AD151*G$8/12,2))","v":0},{"$f":"IF((AE151=\"-\"),0,ROUND(AE151*H$8/12,2))","v":0},{"$f":"IF((AF151=\"-\"),0,ROUND(AF151*I$8/12,2))","v":0},{"$f":"IF((AG151=\"-\"),0,ROUND(AG151*J$8/12,2))","v":0},{"$f":"IF((AH151=\"-\"),0,ROUND(AH151*K$8/12,2))","v":0},{"$f":"IF((AI151=\"-\"),0,ROUND(AI151*L$8/12,2))","v":0},{"$f":"IF((AJ151=\"-\"),0,ROUND(AJ151*M$8/12,2))","v":0},{"$f":"IF((AK151=\"-\"),0,ROUND(AK151*N$8/12,2))","v":0},0,null,0,0,0,0,0,0,0,0,0,0,0,null,0,{"$f":"IF(AC151<=0,0,IF($D151<=SUM($BK152:BK152),0,IF(AZ152+$D151-SUM($BK152:BK152)>AC151+AN152,AC151+AN152-AZ152,$D151-SUM($BK152:BK152))))","v":0},{"$f":"IF(AD151<=0,0,IF($D151<=SUM($BK152:BL152),0,IF(BA152+$D151-SUM($BK152:BL152)>AD151+AO152,AD151+AO152-BA152,$D151-SUM($BK152:BL152))))","v":0},{"$f":"IF(AE151<=0,0,IF($D151<=SUM($BK152:BM152),0,IF(BB152+$D151-SUM($BK152:BM152)>AE151+AP152,AE151+AP152-BB152,$D151-SUM($BK152:BM152))))","v":0},{"$f":"IF(AF151<=0,0,IF($D151<=SUM($BK152:BN152),0,IF(BC152+$D151-SUM($BK152:BN152)>AF151+AQ152,AF151+AQ152-BC152,$D151-SUM($BK152:BN152))))","v":0},{"$f":"IF(AG151<=0,0,IF($D151<=SUM($BK152:BO152),0,IF(BD152+$D151-SUM($BK152:BO152)>AG151+AR152,AG151+AR152-BD152,$D151-SUM($BK152:BO152))))","v":0},{"$f":"IF(AH151<=0,0,IF($D151<=SUM($BK152:BP152),0,IF(BE152+$D151-SUM($BK152:BP152)>AH151+AS152,AH151+AS152-BE152,$D151-SUM($BK152:BP152))))","v":0},{"$f":"IF(AI151<=0,0,IF($D151<=SUM($BK152:BQ152),0,IF(BF152+$D151-SUM($BK152:BQ152)>AI151+AT152,AI151+AT152-BF152,$D151-SUM($BK152:BQ152))))","v":0},{"$f":"IF(AJ151<=0,0,IF($D151<=SUM($BK152:BR152),0,IF(BG152+$D151-SUM($BK152:BR152)>AJ151+AU152,AJ151+AU152-BG152,$D151-SUM($BK152:BR152))))","v":0},{"$f":"IF(AK151<=0,0,IF($D151<=SUM($BK152:BS152),0,IF(BH152+$D151-SUM($BK152:BS152)>AK151+AV152,AK151+AV152-BH152,$D151-SUM($BK152:BS152))))","v":0}]
[null,"",{"$f":"IF(C152=\"\",NA(),DATE(YEAR(C152),MONTH(C152)+1,1))","v":"1910-12-01"},0,{"$f":"+AY154+BK154","v":0},0,0,0,0,0,0,0,0,0,null,null,null,null,null,null,null,null,null,null,null,null,{"$f":"SUM(AB153:AK153)","v":0},0,0,0,0,0,0,0,0,0,0,null,0,0,0,0,0,0,0,0,0,0,{"$f":"SUM(AM153:AV153)","v":0},null,{"$f":"IF(AB152>0,IF((AB152+AM153)<E$9,AB152+AM153,E$9),0)","v":0},{"$f":"IF(AC152>0,IF((AC152+AN153)<F$9,AC152+AN153,F$9),0)","v":0},{"$f":"IF(AD152>0,IF((AD152+AO153)<G$9,AD152+AO153,G$9),0)","v":0},{"$f":"IF(AE152>0,IF((AE152+AP153)<H$9,AE152+AP153,H$9),0)","v":0},{"$f":"IF(AF152>0,IF((AF152+AQ153)<I$9,AF152+AQ153,I$9),0)","v":0},{"$f":"IF(AG152>0,IF((AG152+AR153)<J$9,AG152+AR153,J$9),0)","v":0},{"$f":"IF(AH152>0,IF((AH152+AS153)<K$9,AH152+AS153,K$9),0)","v":0},{"$f":"IF(AI152>0,IF((AI152+AT153)<L$9,AI152+AT153,L$9),0)","v":0},{"$f":"IF(AJ152>0,IF((AJ152+AU153)<M$9,AJ152+AU153,M$9),0)","v":0},{"$f":"IF(AK152>0,IF((AK152+AV153)<N$9,AK152+AV153,N$9),0)","v":0},{"$f":"SUM(AY153:BH153)","v":0},null,0,{"$f":"IF(AC152<=0,0,IF($D152<=SUM($BK153:BK153),0,IF(AZ153+$D152-SUM($BK153:BK153)>AC152+AN153,AC152+AN153-AZ153,$D152-SUM($BK153:BK153))))","v":0},{"$f":"IF(AD152<=0,0,IF($D152<=SUM($BK153:BL153),0,IF(BA153+$D152-SUM($BK153:BL153)>AD152+AO153,AD152+AO153-BA153,$D152-SUM($BK153:BL153))))","v":0},{"$f":"IF(AE152<=0,0,IF($D152<=SUM($BK153:BM153),0,IF(BB153+$D152-SUM($BK153:BM153)>AE152+AP153,AE152+AP153-BB153,$D152-SUM($BK153:BM153))))","v":0},{"$f":"IF(AF152<=0,0,IF($D152<=SUM($BK153:BN153),0,IF(BC153+$D152-SUM($BK153:BN153)>AF152+AQ153,AF152+AQ153-BC153,$D152-SUM($BK153:BN153))))","v":0},{"$f":"IF(AG152<=0,0,IF($D152<=SUM($BK153:BO153),0,IF(BD153+$D152-SUM($BK153:BO153)>AG152+AR153,AG152+AR153-BD153,$D152-SUM($BK153:BO153))))","v":0},{"$f":"IF(AH152<=0,0,IF($D152<=SUM($BK153:BP153),0,IF(BE153+$D152-SUM($BK153:BP153)>AH152+AS153,AH152+AS153-BE153,$D152-SUM($BK153:BP153))))","v":0},{"$f":"IF(AI152<=0,0,IF($D152<=SUM($BK153:BQ153),0,IF(BF153+$D152-SUM($BK153:BQ153)>AI152+AT153,AI152+AT153-BF153,$D152-SUM($BK153:BQ153))))","v":0},{"$f":"IF(AJ152<=0,0,IF($D152<=SUM($BK153:BR153),0,IF(BG153+$D152-SUM($BK153:BR153)>AJ152+AU153,AJ152+AU153-BG153,$D152-SUM($BK153:BR153))))","v":0},{"$f":"IF(AK152<=0,0,IF($D152<=SUM($BK153:BS153),0,IF(BH153+$D152-SUM($BK153:BS153)>AK152+AV153,AK152+AV153-BH153,$D152-SUM($BK153:BS153))))","v":0}]
[null,"","1911-01-01",0,0,0,0,0,0,0,0,0,0,0,null,null,null,null,null,null,null,null,null,null,null,null,0,0,0,0,0,0,0,0,0,0,0,null,0,0,0,0,0,0,0,0,0,0,0,null,0,0,0,0,0,0,0,0,0,0,0,null,{"$f":"IF(AB153<=0,0,IF(AY154+$D153>AB153+AM154,AB153+AM154-AY154,$D153))","v":0},{"$f":"IF(AC153<=0,0,IF($D153<=SUM($BK154:BK154),0,IF(AZ154+$D153-SUM($BK154:BK154)>AC153+AN154,AC153+AN154-AZ154,$D153-SUM($BK154:BK154))))","v":0},{"$f":"IF(AD153<=0,0,IF($D153<=SUM($BK154:BL154),0,IF(BA154+$D153-SUM($BK154:BL154)>AD153+AO154,AD153+AO154-BA154,$D153-SUM($BK154:BL154))))","v":0},{"$f":"IF(AE153<=0,0,IF($D153<=SUM($BK154:BM154),0,IF(BB154+$D153-SUM($BK154:BM154)>AE153+AP154,AE153+AP154-BB154,$D153-SUM($BK154:BM154))))","v":0},{"$f":"IF(AF153<=0,0,IF($D153<=SUM($BK154:BN154),0,IF(BC154+$D153-SUM($BK154:BN154)>AF153+AQ154,AF153+AQ154-BC154,$D153-SUM($BK154:BN154))))","v":0},{"$f":"IF(AG153<=0,0,IF($D153<=SUM($BK154:BO154),0,IF(BD154+$D153-SUM($BK154:BO154)>AG153+AR154,AG153+AR154-BD154,$D153-SUM($BK154:BO154))))","v":0},{"$f":"IF(AH153<=0,0,IF($D153<=SUM($BK154:BP154),0,IF(BE154+$D153-SUM($BK154:BP154)>AH153+AS154,AH153+AS154-BE154,$D153-SUM($BK154:BP154))))","v":0},{"$f":"IF(AI153<=0,0,IF($D153<=SUM($BK154:BQ154),0,IF(BF154+$D153-SUM($BK154:BQ154)>AI153+AT154,AI153+AT154-BF154,$D153-SUM($BK154:BQ154))))","v":0},{"$f":"IF(AJ153<=0,0,IF($D153<=SUM($BK154:BR154),0,IF(BG154+$D153-SUM($BK154:BR154)>AJ153+AU154,AJ153+AU154-BG154,$D153-SUM($BK154:BR154))))","v":0},{"$f":"IF(AK153<=0,0,IF($D153<=SUM($BK154:BS154),0,IF(BH154+$D153-SUM($BK154:BS154)>AK153+AV154,AK153+AV154-BH154,$D153-SUM($BK154:BS154))))","v":0}]
[null,"","1911-02-01",0,0,0,0,0,0,0,0,0,0,0,null,null,null,null,null,null,null,null,null,null,null,null,0,0,0,0,0,0,0,0,0,0,0,null,0,0,0,0,0,0,0,0,0,0,0,null,0,0,0,0,0,0,0,0,0,0,0,null,0,{"$f":"IF(AC154<=0,0,IF($D154<=SUM($BK155:BK155),0,IF(AZ155+$D154-SUM($BK155:BK155)>AC154+AN155,AC154+AN155-AZ155,$D154-SUM($BK155:BK155))))","v":0},{"$f":"IF(AD154<=0,0,IF($D154<=SUM($BK155:BL155),0,IF(BA155+$D154-SUM($BK155:BL155)>AD154+AO155,AD154+AO155-BA155,$D154-SUM($BK155:BL155))))","v":0},{"$f":"IF(AE154<=0,0,IF($D154<=SUM($BK155:BM155),0,IF(BB155+$D154-SUM($BK155:BM155)>AE154+AP155,AE154+AP155-BB155,$D154-SUM($BK155:BM155))))","v":0},{"$f":"IF(AF154<=0,0,IF($D154<=SUM($BK155:BN155),0,IF(BC155+$D154-SUM($BK155:BN155)>AF154+AQ155,AF154+AQ155-BC155,$D154-SUM($BK155:BN155))))","v":0},{"$f":"IF(AG154<=0,0,IF($D154<=SUM($BK155:BO155),0,IF(BD155+$D154-SUM($BK155:BO155)>AG154+AR155,AG154+AR155-BD155,$D154-SUM($BK155:BO155))))","v":0},{"$f":"IF(AH154<=0,0,IF($D154<=SUM($BK155:BP155),0,IF(BE155+$D154-SUM($BK155:BP155)>AH154+AS155,AH154+AS155-BE155,$D154-SUM($BK155:BP155))))","v":0},{"$f":"IF(AI154<=0,0,IF($D154<=SUM($BK155:BQ155),0,IF(BF155+$D154-SUM($BK155:BQ155)>AI154+AT155,AI154+AT155-BF155,$D154-SUM($BK155:BQ155))))","v":0},{"$f":"IF(AJ154<=0,0,IF($D154<=SUM($BK155:BR155),0,IF(BG155+$D154-SUM($BK155:BR155)>AJ154+AU155,AJ154+AU155-BG155,$D154-SUM($BK155:BR155))))","v":0},{"$f":"IF(AK154<=0,0,IF($D154<=SUM($BK155:BS155),0,IF(BH155+$D154-SUM($BK155:BS155)>AK154+AV155,AK154+AV155-BH155,$D154-SUM($BK155:BS155))))","v":0}]
[null,"","1911-03-01",0,0,0,0,0,0,0,0,0,0,0,null,null,null,null,null,null,null,null,null,null,null,null,0,0,0,0,0,0,0,0,0,0,0,null,0,0,0,0,0,0,0,0,0,0,0,null,0,0,0,0,0,0,0,0,0,0,0,null,0,{"$f":"IF(AC155<=0,0,IF($D155<=SUM($BK156:BK156),0,IF(AZ156+$D155-SUM($BK156:BK156)>AC155+AN156,AC155+AN156-AZ156,$D155-SUM($BK156:BK156))))","v":0},{"$f":"IF(AD155<=0,0,IF($D155<=SUM($BK156:BL156),0,IF(BA156+$D155-SUM($BK156:BL156)>AD155+AO156,AD155+AO156-BA156,$D155-SUM($BK156:BL156))))","v":0},{"$f":"IF(AE155<=0,0,IF($D155<=SUM($BK156:BM156),0,IF(BB156+$D155-SUM($BK156:BM156)>AE155+AP156,AE155+AP156-BB156,$D155-SUM($BK156:BM156))))","v":0},{"$f":"IF(AF155<=0,0,IF($D155<=SUM($BK156:BN156),0,IF(BC156+$D155-SUM($BK156:BN156)>AF155+AQ156,AF155+AQ156-BC156,$D155-SUM($BK156:BN156))))","v":0},{"$f":"IF(AG155<=0,0,IF($D155<=SUM($BK156:BO156),0,IF(BD156+$D155-SUM($BK156:BO156)>AG155+AR156,AG155+AR156-BD156,$D155-SUM($BK156:BO156))))","v":0},{"$f":"IF(AH155<=0,0,IF($D155<=SUM($BK156:BP156),0,IF(BE156+$D155-SUM($BK156:BP156)>AH155+AS156,AH155+AS156-BE156,$D155-SUM($BK156:BP156))))","v":0},{"$f":"IF(AI155<=0,0,IF($D155<=SUM($BK156:BQ156),0,IF(BF156+$D155-SUM($BK156:BQ156)>AI155+AT156,AI155+AT156-BF156,$D155-SUM($BK156:BQ156))))","v":0},{"$f":"IF(AJ155<=0,0,IF($D155<=SUM($BK156:BR156),0,IF(BG156+$D155-SUM($BK156:BR156)>AJ155+AU156,AJ155+AU156-BG156,$D155-SUM($BK156:BR156))))","v":0},{"$f":"IF(AK155<=0,0,IF($D155<=SUM($BK156:BS156),0,IF(BH156+$D155-SUM($BK156:BS156)>AK155+AV156,AK155+AV156-BH156,$D155-SUM($BK156:BS156))))","v":0}]
[null,"","1911-04-01",0,0,0,0,0,0,0,0,0,0,0,null,null,null,null,null,null,null,null,null,null,null,null,0,0,0,0,0,0,0,0,0,0,0,null,0,0,0,0,0,0,0,0,0,0,0,null,0,0,0,0,0,0,0,0,0,0,0,null,0,{"$f":"IF(AC156<=0,0,IF($D156<=SUM($BK157:BK157),0,IF(AZ157+$D156-SUM($BK157:BK157)>AC156+AN157,AC156+AN157-AZ157,$D156-SUM($BK157:BK157))))","v":0},{"$f":"IF(AD156<=0,0,IF($D156<=SUM($BK157:BL157),0,IF(BA157+$D156-SUM($BK157:BL157)>AD156+AO157,AD156+AO157-BA157,$D156-SUM($BK157:BL157))))","v":0},{"$f":"IF(AE156<=0,0,IF($D156<=SUM($BK157:BM157),0,IF(BB157+$D156-SUM($BK157:BM157)>AE156+AP157,AE156+AP157-BB157,$D156-SUM($BK157:BM157))))","v":0},{"$f":"IF(AF156<=0,0,IF($D156<=SUM($BK157:BN157),0,IF(BC157+$D156-SUM($BK157:BN157)>AF156+AQ157,AF156+AQ157-BC157,$D156-SUM($BK157:BN157))))","v":0},{"$f":"IF(AG156<=0,0,IF($D156<=SUM($BK157:BO157),0,IF(BD157+$D156-SUM($BK157:BO157)>AG156+AR157,AG156+AR157-BD157,$D156-SUM($BK157:BO157))))","v":0},{"$f":"IF(AH156<=0,0,IF($D156<=SUM($BK157:BP157),0,IF(BE157+$D156-SUM($BK157:BP157)>AH156+AS157,AH156+AS157-BE157,$D156-SUM($BK157:BP157))))","v":0},{"$f":"IF(AI156<=0,0,IF($D156<=SUM($BK157:BQ157),0,IF(BF157+$D156-SUM($BK157:BQ157)>AI156+AT157,AI156+AT157-BF157,$D156-SUM($BK157:BQ157))))","v":0},{"$f":"IF(AJ156<=0,0,IF($D156<=SUM($BK157:BR157),0,IF(BG157+$D156-SUM($BK157:BR157)>AJ156+AU157,AJ156+AU157-BG157,$D156-SUM($BK157:BR157))))","v":0},{"$f":"IF(AK156<=0,0,IF($D156<=SUM($BK157:BS157),0,IF(BH157+$D156-SUM($BK157:BS157)>AK156+AV157,AK156+AV157-BH157,$D156-SUM($BK157:BS157))))","v":0}]
[null,"","1911-05-01",0,0,0,0,0,0,0,0,0,0,0,null,null,null,null,null,null,null,null,null,null,null,null,0,0,0,0,0,0,0,0,0,0,0,null,0,0,0,0,0,0,0,0,0,0,0,null,0,0,0,0,0,0,0,0,0,0,0,null,0,{"$f":"IF(AC157<=0,0,IF($D157<=SUM($BK158:BK158),0,IF(AZ158+$D157-SUM($BK158:BK158)>AC157+AN158,AC157+AN158-AZ158,$D157-SUM($BK158:BK158))))","v":0},{"$f":"IF(AD157<=0,0,IF($D157<=SUM($BK158:BL158),0,IF(BA158+$D157-SUM($BK158:BL158)>AD157+AO158,AD157+AO158-BA158,$D157-SUM($BK158:BL158))))","v":0},{"$f":"IF(AE157<=0,0,IF($D157<=SUM($BK158:BM158),0,IF(BB158+$D157-SUM($BK158:BM158)>AE157+AP158,AE157+AP158-BB158,$D157-SUM($BK158:BM158))))","v":0},{"$f":"IF(AF157<=0,0,IF($D157<=SUM($BK158:BN158),0,IF(BC158+$D157-SUM($BK158:BN158)>AF157+AQ158,AF157+AQ158-BC158,$D157-SUM($BK158:BN158))))","v":0},{"$f":"IF(AG157<=0,0,IF($D157<=SUM($BK158:BO158),0,IF(BD158+$D157-SUM($BK158:BO158)>AG157+AR158,AG157+AR158-BD158,$D157-SUM($BK158:BO158))))","v":0},{"$f":"IF(AH157<=0,0,IF($D157<=SUM($BK158:BP158),0,IF(BE158+$D157-SUM($BK158:BP158)>AH157+AS158,AH157+AS158-BE158,$D157-SUM($BK158:BP158))))","v":0},{"$f":"IF(AI157<=0,0,IF($D157<=SUM($BK158:BQ158),0,IF(BF158+$D157-SUM($BK158:BQ158)>AI157+AT158,AI157+AT158-BF158,$D157-SUM($BK158:BQ158))))","v":0},{"$f":"IF(AJ157<=0,0,IF($D157<=SUM($BK158:BR158),0,IF(BG158+$D157-SUM($BK158:BR158)>AJ157+AU158,AJ157+AU158-BG158,$D157-SUM($BK158:BR158))))","v":0},{"$f":"IF(AK157<=0,0,IF($D157<=SUM($BK158:BS158),0,IF(BH158+$D157-SUM($BK158:BS158)>AK157+AV158,AK157+AV158-BH158,$D157-SUM($BK158:BS158))))","v":0}]
[null,"","1911-06-01",0,0,0,0,0,0,0,0,0,0,0,null,null,null,null,null,null,null,null,null,null,null,null,0,0,0,0,0,0,0,0,0,0,0,null,0,0,0,0,0,0,0,0,0,0,0,null,0,0,0,0,0,0,0,0,0,0,0,null,0,{"$f":"IF(AC158<=0,0,IF($D158<=SUM($BK159:BK159),0,IF(AZ159+$D158-SUM($BK159:BK159)>AC158+AN159,AC158+AN159-AZ159,$D158-SUM($BK159:BK159))))","v":0},{"$f":"IF(AD158<=0,0,IF($D158<=SUM($BK159:BL159),0,IF(BA159+$D158-SUM($BK159:BL159)>AD158+AO159,AD158+AO159-BA159,$D158-SUM($BK159:BL159))))","v":0},{"$f":"IF(AE158<=0,0,IF($D158<=SUM($BK159:BM159),0,IF(BB159+$D158-SUM($BK159:BM159)>AE158+AP159,AE158+AP159-BB159,$D158-SUM($BK159:BM159))))","v":0},{"$f":"IF(AF158<=0,0,IF($D158<=SUM($BK159:BN159),0,IF(BC159+$D158-SUM($BK159:BN159)>AF158+AQ159,AF158+AQ159-BC159,$D158-SUM($BK159:BN159))))","v":0},{"$f":"IF(AG158<=0,0,IF($D158<=SUM($BK159:BO159),0,IF(BD159+$D158-SUM($BK159:BO159)>AG158+AR159,AG158+AR159-BD159,$D158-SUM($BK159:BO159))))","v":0},{"$f":"IF(AH158<=0,0,IF($D158<=SUM($BK159:BP159),0,IF(BE159+$D158-SUM($BK159:BP159)>AH158+AS159,AH158+AS159-BE159,$D158-SUM($BK159:BP159))))","v":0},{"$f":"IF(AI158<=0,0,IF($D158<=SUM($BK159:BQ159),0,IF(BF159+$D158-SUM($BK159:BQ159)>AI158+AT159,AI158+AT159-BF159,$D158-SUM($BK159:BQ159))))","v":0},{"$f":"IF(AJ158<=0,0,IF($D158<=SUM($BK159:BR159),0,IF(BG159+$D158-SUM($BK159:BR159)>AJ158+AU159,AJ158+AU159-BG159,$D158-SUM($BK159:BR159))))","v":0},{"$f":"IF(AK158<=0,0,IF($D158<=SUM($BK159:BS159),0,IF(BH159+$D158-SUM($BK159:BS159)>AK158+AV159,AK158+AV159-BH159,$D158-SUM($BK159:BS159))))","v":0}]
[null,"","1911-07-01",0,0,0,0,0,0,0,0,0,0,0,null,null,null,null,null,null,null,null,null,null,null,null,0,0,0,0,0,0,0,0,0,0,0,null,0,0,0,0,0,0,0,0,0,0,0,null,0,0,0,0,0,0,0,0,0,0,0,null,0,{"$f":"IF(AC159<=0,0,IF($D159<=SUM($BK160:BK160),0,IF(AZ160+$D159-SUM($BK160:BK160)>AC159+AN160,AC159+AN160-AZ160,$D159-SUM($BK160:BK160))))","v":0},{"$f":"IF(AD159<=0,0,IF($D159<=SUM($BK160:BL160),0,IF(BA160+$D159-SUM($BK160:BL160)>AD159+AO160,AD159+AO160-BA160,$D159-SUM($BK160:BL160))))","v":0},{"$f":"IF(AE159<=0,0,IF($D159<=SUM($BK160:BM160),0,IF(BB160+$D159-SUM($BK160:BM160)>AE159+AP160,AE159+AP160-BB160,$D159-SUM($BK160:BM160))))","v":0},{"$f":"IF(AF159<=0,0,IF($D159<=SUM($BK160:BN160),0,IF(BC160+$D159-SUM($BK160:BN160)>AF159+AQ160,AF159+AQ160-BC160,$D159-SUM($BK160:BN160))))","v":0},{"$f":"IF(AG159<=0,0,IF($D159<=SUM($BK160:BO160),0,IF(BD160+$D159-SUM($BK160:BO160)>AG159+AR160,AG159+AR160-BD160,$D159-SUM($BK160:BO160))))","v":0},{"$f":"IF(AH159<=0,0,IF($D159<=SUM($BK160:BP160),0,IF(BE160+$D159-SUM($BK160:BP160)>AH159+AS160,AH159+AS160-BE160,$D159-SUM($BK160:BP160))))","v":0},{"$f":"IF(AI159<=0,0,IF($D159<=SUM($BK160:BQ160),0,IF(BF160+$D159-SUM($BK160:BQ160)>AI159+AT160,AI159+AT160-BF160,$D159-SUM($BK160:BQ160))))","v":0},{"$f":"IF(AJ159<=0,0,IF($D159<=SUM($BK160:BR160),0,IF(BG160+$D159-SUM($BK160:BR160)>AJ159+AU160,AJ159+AU160-BG160,$D159-SUM($BK160:BR160))))","v":0},{"$f":"IF(AK159<=0,0,IF($D159<=SUM($BK160:BS160),0,IF(BH160+$D159-SUM($BK160:BS160)>AK159+AV160,AK159+AV160-BH160,$D159-SUM($BK160:BS160))))","v":0}]
[null,"","1911-08-01",0,0,0,0,0,0,0,0,0,0,0,null,null,null,null,null,null,null,null,null,null,null,null,0,0,0,0,0,0,0,0,0,0,0,null,0,0,0,0,0,0,0,0,0,0,0,null,0,0,0,0,0,0,0,0,0,0,0,null,0,{"$f":"IF(AC160<=0,0,IF($D160<=SUM($BK161:BK161),0,IF(AZ161+$D160-SUM($BK161:BK161)>AC160+AN161,AC160+AN161-AZ161,$D160-SUM($BK161:BK161))))","v":0},{"$f":"IF(AD160<=0,0,IF($D160<=SUM($BK161:BL161),0,IF(BA161+$D160-SUM($BK161:BL161)>AD160+AO161,AD160+AO161-BA161,$D160-SUM($BK161:BL161))))","v":0},{"$f":"IF(AE160<=0,0,IF($D160<=SUM($BK161:BM161),0,IF(BB161+$D160-SUM($BK161:BM161)>AE160+AP161,AE160+AP161-BB161,$D160-SUM($BK161:BM161))))","v":0},{"$f":"IF(AF160<=0,0,IF($D160<=SUM($BK161:BN161),0,IF(BC161+$D160-SUM($BK161:BN161)>AF160+AQ161,AF160+AQ161-BC161,$D160-SUM($BK161:BN161))))","v":0},{"$f":"IF(AG160<=0,0,IF($D160<=SUM($BK161:BO161),0,IF(BD161+$D160-SUM($BK161:BO161)>AG160+AR161,AG160+AR161-BD161,$D160-SUM($BK161:BO161))))","v":0},{"$f":"IF(AH160<=0,0,IF($D160<=SUM($BK161:BP161),0,IF(BE161+$D160-SUM($BK161:BP161)>AH160+AS161,AH160+AS161-BE161,$D160-SUM($BK161:BP161))))","v":0},{"$f":"IF(AI160<=0,0,IF($D160<=SUM($BK161:BQ161),0,IF(BF161+$D160-SUM($BK161:BQ161)>AI160+AT161,AI160+AT161-BF161,$D160-SUM($BK161:BQ161))))","v":0},{"$f":"IF(AJ160<=0,0,IF($D160<=SUM($BK161:BR161),0,IF(BG161+$D160-SUM($BK161:BR161)>AJ160+AU161,AJ160+AU161-BG161,$D160-SUM($BK161:BR161))))","v":0},{"$f":"IF(AK160<=0,0,IF($D160<=SUM($BK161:BS161),0,IF(BH161+$D160-SUM($BK161:BS161)>AK160+AV161,AK160+AV161-BH161,$D160-SUM($BK161:BS161))))","v":0}]
[null,"","1911-09-01",0,0,0,0,0,0,0,0,0,0,0,null,null,null,null,null,null,null,null,null,null,null,null,0,0,0,0,0,0,0,0,0,0,0,null,0,0,0,0,0,0,0,0,0,0,0,null,0,0,0,0,0,0,0,0,0,0,0,null,0,{"$f":"IF(AC161<=0,0,IF($D161<=SUM($BK162:BK162),0,IF(AZ162+$D161-SUM($BK162:BK162)>AC161+AN162,AC161+AN162-AZ162,$D161-SUM($BK162:BK162))))","v":0},{"$f":"IF(AD161<=0,0,IF($D161<=SUM($BK162:BL162),0,IF(BA162+$D161-SUM($BK162:BL162)>AD161+AO162,AD161+AO162-BA162,$D161-SUM($BK162:BL162))))","v":0},{"$f":"IF(AE161<=0,0,IF($D161<=SUM($BK162:BM162),0,IF(BB162+$D161-SUM($BK162:BM162)>AE161+AP162,AE161+AP162-BB162,$D161-SUM($BK162:BM162))))","v":0},{"$f":"IF(AF161<=0,0,IF($D161<=SUM($BK162:BN162),0,IF(BC162+$D161-SUM($BK162:BN162)>AF161+AQ162,AF161+AQ162-BC162,$D161-SUM($BK162:BN162))))","v":0},{"$f":"IF(AG161<=0,0,IF($D161<=SUM($BK162:BO162),0,IF(BD162+$D161-SUM($BK162:BO162)>AG161+AR162,AG161+AR162-BD162,$D161-SUM($BK162:BO162))))","v":0},{"$f":"IF(AH161<=0,0,IF($D161<=SUM($BK162:BP162),0,IF(BE162+$D161-SUM($BK162:BP162)>AH161+AS162,AH161+AS162-BE162,$D161-SUM($BK162:BP162))))","v":0},{"$f":"IF(AI161<=0,0,IF($D161<=SUM($BK162:BQ162),0,IF(BF162+$D161-SUM($BK162:BQ162)>AI161+AT162,AI161+AT162-BF162,$D161-SUM($BK162:BQ162))))","v":0},{"$f":"IF(AJ161<=0,0,IF($D161<=SUM($BK162:BR162),0,IF(BG162+$D161-SUM($BK162:BR162)>AJ161+AU162,AJ161+AU162-BG162,$D161-SUM($BK162:BR162))))","v":0},{"$f":"IF(AK161<=0,0,IF($D161<=SUM($BK162:BS162),0,IF(BH162+$D161-SUM($BK162:BS162)>AK161+AV162,AK161+AV162-BH162,$D161-SUM($BK162:BS162))))","v":0}]
[null,"","1911-10-01",0,0,0,0,0,0,0,0,0,0,0,null,null,null,null,null,null,null,null,null,null,null,null,0,0,0,0,0,0,0,0,0,0,0,null,0,0,0,0,0,0,0,0,0,0,0,null,0,0,0,0,0,0,0,0,0,0,0,null,0,{"$f":"IF(AC162<=0,0,IF($D162<=SUM($BK163:BK163),0,IF(AZ163+$D162-SUM($BK163:BK163)>AC162+AN163,AC162+AN163-AZ163,$D162-SUM($BK163:BK163))))","v":0},{"$f":"IF(AD162<=0,0,IF($D162<=SUM($BK163:BL163),0,IF(BA163+$D162-SUM($BK163:BL163)>AD162+AO163,AD162+AO163-BA163,$D162-SUM($BK163:BL163))))","v":0},{"$f":"IF(AE162<=0,0,IF($D162<=SUM($BK163:BM163),0,IF(BB163+$D162-SUM($BK163:BM163)>AE162+AP163,AE162+AP163-BB163,$D162-SUM($BK163:BM163))))","v":0},{"$f":"IF(AF162<=0,0,IF($D162<=SUM($BK163:BN163),0,IF(BC163+$D162-SUM($BK163:BN163)>AF162+AQ163,AF162+AQ163-BC163,$D162-SUM($BK163:BN163))))","v":0},{"$f":"IF(AG162<=0,0,IF($D162<=SUM($BK163:BO163),0,IF(BD163+$D162-SUM($BK163:BO163)>AG162+AR163,AG162+AR163-BD163,$D162-SUM($BK163:BO163))))","v":0},{"$f":"IF(AH162<=0,0,IF($D162<=SUM($BK163:BP163),0,IF(BE163+$D162-SUM($BK163:BP163)>AH162+AS163,AH162+AS163-BE163,$D162-SUM($BK163:BP163))))","v":0},{"$f":"IF(AI162<=0,0,IF($D162<=SUM($BK163:BQ163),0,IF(BF163+$D162-SUM($BK163:BQ163)>AI162+AT163,AI162+AT163-BF163,$D162-SUM($BK163:BQ163))))","v":0},{"$f":"IF(AJ162<=0,0,IF($D162<=SUM($BK163:BR163),0,IF(BG163+$D162-SUM($BK163:BR163)>AJ162+AU163,AJ162+AU163-BG163,$D162-SUM($BK163:BR163))))","v":0},{"$f":"IF(AK162<=0,0,IF($D162<=SUM($BK163:BS163),0,IF(BH163+$D162-SUM($BK163:BS163)>AK162+AV163,AK162+AV163-BH163,$D162-SUM($BK163:BS163))))","v":0}]
[null,"","1911-11-01",0,0,0,0,0,0,0,0,0,0,0,null,null,null,null,null,null,null,null,null,null,null,null,0,0,0,0,0,0,0,0,0,0,0,null,0,0,0,0,0,0,0,0,0,0,0,null,0,0,0,0,0,0,0,0,0,0,0,null,0,{"$f":"IF(AC163<=0,0,IF($D163<=SUM($BK164:BK164),0,IF(AZ164+$D163-SUM($BK164:BK164)>AC163+AN164,AC163+AN164-AZ164,$D163-SUM($BK164:BK164))))","v":0},{"$f":"IF(AD163<=0,0,IF($D163<=SUM($BK164:BL164),0,IF(BA164+$D163-SUM($BK164:BL164)>AD163+AO164,AD163+AO164-BA164,$D163-SUM($BK164:BL164))))","v":0},{"$f":"IF(AE163<=0,0,IF($D163<=SUM($BK164:BM164),0,IF(BB164+$D163-SUM($BK164:BM164)>AE163+AP164,AE163+AP164-BB164,$D163-SUM($BK164:BM164))))","v":0},{"$f":"IF(AF163<=0,0,IF($D163<=SUM($BK164:BN164),0,IF(BC164+$D163-SUM($BK164:BN164)>AF163+AQ164,AF163+AQ164-BC164,$D163-SUM($BK164:BN164))))","v":0},{"$f":"IF(AG163<=0,0,IF($D163<=SUM($BK164:BO164),0,IF(BD164+$D163-SUM($BK164:BO164)>AG163+AR164,AG163+AR164-BD164,$D163-SUM($BK164:BO164))))","v":0},{"$f":"IF(AH163<=0,0,IF($D163<=SUM($BK164:BP164),0,IF(BE164+$D163-SUM($BK164:BP164)>AH163+AS164,AH163+AS164-BE164,$D163-SUM($BK164:BP164))))","v":0},{"$f":"IF(AI163<=0,0,IF($D163<=SUM($BK164:BQ164),0,IF(BF164+$D163-SUM($BK164:BQ164)>AI163+AT164,AI163+AT164-BF164,$D163-SUM($BK164:BQ164))))","v":0},{"$f":"IF(AJ163<=0,0,IF($D163<=SUM($BK164:BR164),0,IF(BG164+$D163-SUM($BK164:BR164)>AJ163+AU164,AJ163+AU164-BG164,$D163-SUM($BK164:BR164))))","v":0},{"$f":"IF(AK163<=0,0,IF($D163<=SUM($BK164:BS164),0,IF(BH164+$D163-SUM($BK164:BS164)>AK163+AV164,AK163+AV164-BH164,$D163-SUM($BK164:BS164))))","v":0}]
[null,"","1911-12-01",0,0,0,0,0,0,0,0,0,0,0,null,null,null,null,null,null,null,null,null,null,null,null,0,0,0,0,0,0,0,0,0,0,0,null,0,0,0,0,0,0,0,0,0,0,0,null,0,0,0,0,0,0,0,0,0,0,0,null,0,{"$f":"IF(AC164<=0,0,IF($D164<=SUM($BK165:BK165),0,IF(AZ165+$D164-SUM($BK165:BK165)>AC164+AN165,AC164+AN165-AZ165,$D164-SUM($BK165:BK165))))","v":0},{"$f":"IF(AD164<=0,0,IF($D164<=SUM($BK165:BL165),0,IF(BA165+$D164-SUM($BK165:BL165)>AD164+AO165,AD164+AO165-BA165,$D164-SUM($BK165:BL165))))","v":0},{"$f":"IF(AE164<=0,0,IF($D164<=SUM($BK165:BM165),0,IF(BB165+$D164-SUM($BK165:BM165)>AE164+AP165,AE164+AP165-BB165,$D164-SUM($BK165:BM165))))","v":0},{"$f":"IF(AF164<=0,0,IF($D164<=SUM($BK165:BN165),0,IF(BC165+$D164-SUM($BK165:BN165)>AF164+AQ165,AF164+AQ165-BC165,$D164-SUM($BK165:BN165))))","v":0},{"$f":"IF(AG164<=0,0,IF($D164<=SUM($BK165:BO165),0,IF(BD165+$D164-SUM($BK165:BO165)>AG164+AR165,AG164+AR165-BD165,$D164-SUM($BK165:BO165))))","v":0},{"$f":"IF(AH164<=0,0,IF($D164<=SUM($BK165:BP165),0,IF(BE165+$D164-SUM($BK165:BP165)>AH164+AS165,AH164+AS165-BE165,$D164-SUM($BK165:BP165))))","v":0},{"$f":"IF(AI164<=0,0,IF($D164<=SUM($BK165:BQ165),0,IF(BF165+$D164-SUM($BK165:BQ165)>AI164+AT165,AI164+AT165-BF165,$D164-SUM($BK165:BQ165))))","v":0},{"$f":"IF(AJ164<=0,0,IF($D164<=SUM($BK165:BR165),0,IF(BG165+$D164-SUM($BK165:BR165)>AJ164+AU165,AJ164+AU165-BG165,$D164-SUM($BK165:BR165))))","v":0},{"$f":"IF(AK164<=0,0,IF($D164<=SUM($BK165:BS165),0,IF(BH165+$D164-SUM($BK165:BS165)>AK164+AV165,AK164+AV165-BH165,$D164-SUM($BK165:BS165))))","v":0}]
[null,"","1912-01-01",0,0,0,0,0,0,0,0,0,0,0,null,null,null,null,null,null,null,null,null,null,null,null,0,0,0,0,0,0,0,0,0,0,0,null,0,0,0,0,0,0,0,0,0,0,0,null,0,0,0,0,0,0,0,0,0,0,0,null,0,{"$f":"IF(AC165<=0,0,IF($D165<=SUM($BK166:BK166),0,IF(AZ166+$D165-SUM($BK166:BK166)>AC165+AN166,AC165+AN166-AZ166,$D165-SUM($BK166:BK166))))","v":0},{"$f":"IF(AD165<=0,0,IF($D165<=SUM($BK166:BL166),0,IF(BA166+$D165-SUM($BK166:BL166)>AD165+AO166,AD165+AO166-BA166,$D165-SUM($BK166:BL166))))","v":0},{"$f":"IF(AE165<=0,0,IF($D165<=SUM($BK166:BM166),0,IF(BB166+$D165-SUM($BK166:BM166)>AE165+AP166,AE165+AP166-BB166,$D165-SUM($BK166:BM166))))","v":0},{"$f":"IF(AF165<=0,0,IF($D165<=SUM($BK166:BN166),0,IF(BC166+$D165-SUM($BK166:BN166)>AF165+AQ166,AF165+AQ166-BC166,$D165-SUM($BK166:BN166))))","v":0},{"$f":"IF(AG165<=0,0,IF($D165<=SUM($BK166:BO166),0,IF(BD166+$D165-SUM($BK166:BO166)>AG165+AR166,AG165+AR166-BD166,$D165-SUM($BK166:BO166))))","v":0},{"$f":"IF(AH165<=0,0,IF($D165<=SUM($BK166:BP166),0,IF(BE166+$D165-SUM($BK166:BP166)>AH165+AS166,AH165+AS166-BE166,$D165-SUM($BK166:BP166))))","v":0},{"$f":"IF(AI165<=0,0,IF($D165<=SUM($BK166:BQ166),0,IF(BF166+$D165-SUM($BK166:BQ166)>AI165+AT166,AI165+AT166-BF166,$D165-SUM($BK166:BQ166))))","v":0},{"$f":"IF(AJ165<=0,0,IF($D165<=SUM($BK166:BR166),0,IF(BG166+$D165-SUM($BK166:BR166)>AJ165+AU166,AJ165+AU166-BG166,$D165-SUM($BK166:BR166))))","v":0},{"$f":"IF(AK165<=0,0,IF($D165<=SUM($BK166:BS166),0,IF(BH166+$D165-SUM($BK166:BS166)>AK165+AV166,AK165+AV166-BH166,$D165-SUM($BK166:BS166))))","v":0}]
[null,"","1912-02-01",0,0,{"$f":"+AZ168+BL168","v":0},{"$f":"+BA168+BM168","v":0},{"$f":"+BB168+BN168","v":0},{"$f":"+BC168+BO168","v":0},{"$f":"+BD168+BP168","v":0},{"$f":"+BE168+BQ168","v":0},{"$f":"+BF168+BR168","v":0},{"$f":"+BG168+BS168","v":0},{"$f":"+BH168+BT168","v":0},null,null,null,null,null,null,null,null,null,null,null,null,0,0,0,0,0,0,0,0,0,0,0,null,0,0,0,0,0,0,0,0,0,0,0,null,0,0,0,0,0,0,0,0,0,0,0,null,0,{"$f":"IF(AC166<=0,0,IF($D166<=SUM($BK167:BK167),0,IF(AZ167+$D166-SUM($BK167:BK167)>AC166+AN167,AC166+AN167-AZ167,$D166-SUM($BK167:BK167))))","v":0},{"$f":"IF(AD166<=0,0,IF($D166<=SUM($BK167:BL167),0,IF(BA167+$D166-SUM($BK167:BL167)>AD166+AO167,AD166+AO167-BA167,$D166-SUM($BK167:BL167))))","v":0},{"$f":"IF(AE166<=0,0,IF($D166<=SUM($BK167:BM167),0,IF(BB167+$D166-SUM($BK167:BM167)>AE166+AP167,AE166+AP167-BB167,$D166-SUM($BK167:BM167))))","v":0},{"$f":"IF(AF166<=0,0,IF($D166<=SUM($BK167:BN167),0,IF(BC167+$D166-SUM($BK167:BN167)>AF166+AQ167,AF166+AQ167-BC167,$D166-SUM($BK167:BN167))))","v":0},{"$f":"IF(AG166<=0,0,IF($D166<=SUM($BK167:BO167),0,IF(BD167+$D166-SUM($BK167:BO167)>AG166+AR167,AG166+AR167-BD167,$D166-SUM($BK167:BO167))))","v":0},{"$f":"IF(AH166<=0,0,IF($D166<=SUM($BK167:BP167),0,IF(BE167+$D166-SUM($BK167:BP167)>AH166+AS167,AH166+AS167-BE167,$D166-SUM($BK167:BP167))))","v":0},{"$f":"IF(AI166<=0,0,IF($D166<=SUM($BK167:BQ167),0,IF(BF167+$D166-SUM($BK167:BQ167)>AI166+AT167,AI166+AT167-BF167,$D166-SUM($BK167:BQ167))))","v":0},{"$f":"IF(AJ166<=0,0,IF($D166<=SUM($BK167:BR167),0,IF(BG167+$D166-SUM($BK167:BR167)>AJ166+AU167,AJ166+AU167-BG167,$D166-SUM($BK167:BR167))))","v":0},{"$f":"IF(AK166<=0,0,IF($D166<=SUM($BK167:BS167),0,IF(BH167+$D166-SUM($BK167:BS167)>AK166+AV167,AK166+AV167-BH167,$D166-SUM($BK167:BS167))))","v":0}]
[null,"","1912-03-01",0,0,0,0,0,0,0,0,0,0,0,null,null,null,null,null,null,null,null,null,null,null,null,0,0,0,0,0,0,0,0,0,0,0,null,0,0,0,0,0,0,0,0,0,0,0,null,0,0,0,0,0,0,0,0,0,0,0,null,0,{"$f":"IF(AC167<=0,0,IF($D167<=SUM($BK168:BK168),0,IF(AZ168+$D167-SUM($BK168:BK168)>AC167+AN168,AC167+AN168-AZ168,$D167-SUM($BK168:BK168))))","v":0},{"$f":"IF(AD167<=0,0,IF($D167<=SUM($BK168:BL168),0,IF(BA168+$D167-SUM($BK168:BL168)>AD167+AO168,AD167+AO168-BA168,$D167-SUM($BK168:BL168))))","v":0},{"$f":"IF(AE167<=0,0,IF($D167<=SUM($BK168:BM168),0,IF(BB168+$D167-SUM($BK168:BM168)>AE167+AP168,AE167+AP168-BB168,$D167-SUM($BK168:BM168))))","v":0},{"$f":"IF(AF167<=0,0,IF($D167<=SUM($BK168:BN168),0,IF(BC168+$D167-SUM($BK168:BN168)>AF167+AQ168,AF167+AQ168-BC168,$D167-SUM($BK168:BN168))))","v":0},{"$f":"IF(AG167<=0,0,IF($D167<=SUM($BK168:BO168),0,IF(BD168+$D167-SUM($BK168:BO168)>AG167+AR168,AG167+AR168-BD168,$D167-SUM($BK168:BO168))))","v":0},{"$f":"IF(AH167<=0,0,IF($D167<=SUM($BK168:BP168),0,IF(BE168+$D167-SUM($BK168:BP168)>AH167+AS168,AH167+AS168-BE168,$D167-SUM($BK168:BP168))))","v":0},{"$f":"IF(AI167<=0,0,IF($D167<=SUM($BK168:BQ168),0,IF(BF168+$D167-SUM($BK168:BQ168)>AI167+AT168,AI167+AT168-BF168,$D167-SUM($BK168:BQ168))))","v":0},{"$f":"IF(AJ167<=0,0,IF($D167<=SUM($BK168:BR168),0,IF(BG168+$D167-SUM($BK168:BR168)>AJ167+AU168,AJ167+AU168-BG168,$D167-SUM($BK168:BR168))))","v":0},{"$f":"IF(AK167<=0,0,IF($D167<=SUM($BK168:BS168),0,IF(BH168+$D167-SUM($BK168:BS168)>AK167+AV168,AK167+AV168-BH168,$D167-SUM($BK168:BS168))))","v":0}]
[null,"","1912-04-01",0,0,0,0,0,0,0,0,0,0,0,null,null,null,null,null,null,null,null,null,null,null,null,0,0,0,0,0,0,0,0,0,0,0,null,0,0,0,0,0,0,0,0,0,0,0,null,0,0,0,0,0,0,0,0,0,0,0,null,0,{"$f":"IF(AC168<=0,0,IF($D168<=SUM($BK169:BK169),0,IF(AZ169+$D168-SUM($BK169:BK169)>AC168+AN169,AC168+AN169-AZ169,$D168-SUM($BK169:BK169))))","v":0},{"$f":"IF(AD168<=0,0,IF($D168<=SUM($BK169:BL169),0,IF(BA169+$D168-SUM($BK169:BL169)>AD168+AO169,AD168+AO169-BA169,$D168-SUM($BK169:BL169))))","v":0},{"$f":"IF(AE168<=0,0,IF($D168<=SUM($BK169:BM169),0,IF(BB169+$D168-SUM($BK169:BM169)>AE168+AP169,AE168+AP169-BB169,$D168-SUM($BK169:BM169))))","v":0},{"$f":"IF(AF168<=0,0,IF($D168<=SUM($BK169:BN169),0,IF(BC169+$D168-SUM($BK169:BN169)>AF168+AQ169,AF168+AQ169-BC169,$D168-SUM($BK169:BN169))))","v":0},{"$f":"IF(AG168<=0,0,IF($D168<=SUM($BK169:BO169),0,IF(BD169+$D168-SUM($BK169:BO169)>AG168+AR169,AG168+AR169-BD169,$D168-SUM($BK169:BO169))))","v":0},{"$f":"IF(AH168<=0,0,IF($D168<=SUM($BK169:BP169),0,IF(BE169+$D168-SUM($BK169:BP169)>AH168+AS169,AH168+AS169-BE169,$D168-SUM($BK169:BP169))))","v":0},{"$f":"IF(AI168<=0,0,IF($D168<=SUM($BK169:BQ169),0,IF(BF169+$D168-SUM($BK169:BQ169)>AI168+AT169,AI168+AT169-BF169,$D168-SUM($BK169:BQ169))))","v":0},{"$f":"IF(AJ168<=0,0,IF($D168<=SUM($BK169:BR169),0,IF(BG169+$D168-SUM($BK169:BR169)>AJ168+AU169,AJ168+AU169-BG169,$D168-SUM($BK169:BR169))))","v":0},{"$f":"IF(AK168<=0,0,IF($D168<=SUM($BK169:BS169),0,IF(BH169+$D168-SUM($BK169:BS169)>AK168+AV169,AK168+AV169-BH169,$D168-SUM($BK169:BS169))))","v":0}]
[null,"","1912-05-01",0,0,0,0,0,0,0,0,0,0,0,null,null,null,null,null,null,null,null,null,null,null,null,0,0,0,0,0,0,0,0,0,0,0,null,0,0,0,0,0,0,0,0,0,0,0,null,0,0,0,0,0,0,0,0,0,0,0,null,0,{"$f":"IF(AC169<=0,0,IF($D169<=SUM($BK170:BK170),0,IF(AZ170+$D169-SUM($BK170:BK170)>AC169+AN170,AC169+AN170-AZ170,$D169-SUM($BK170:BK170))))","v":0},{"$f":"IF(AD169<=0,0,IF($D169<=SUM($BK170:BL170),0,IF(BA170+$D169-SUM($BK170:BL170)>AD169+AO170,AD169+AO170-BA170,$D169-SUM($BK170:BL170))))","v":0},{"$f":"IF(AE169<=0,0,IF($D169<=SUM($BK170:BM170),0,IF(BB170+$D169-SUM($BK170:BM170)>AE169+AP170,AE169+AP170-BB170,$D169-SUM($BK170:BM170))))","v":0},{"$f":"IF(AF169<=0,0,IF($D169<=SUM($BK170:BN170),0,IF(BC170+$D169-SUM($BK170:BN170)>AF169+AQ170,AF169+AQ170-BC170,$D169-SUM($BK170:BN170))))","v":0},{"$f":"IF(AG169<=0,0,IF($D169<=SUM($BK170:BO170),0,IF(BD170+$D169-SUM($BK170:BO170)>AG169+AR170,AG169+AR170-BD170,$D169-SUM($BK170:BO170))))","v":0},{"$f":"IF(AH169<=0,0,IF($D169<=SUM($BK170:BP170),0,IF(BE170+$D169-SUM($BK170:BP170)>AH169+AS170,AH169+AS170-BE170,$D169-SUM($BK170:BP170))))","v":0},{"$f":"IF(AI169<=0,0,IF($D169<=SUM($BK170:BQ170),0,IF(BF170+$D169-SUM($BK170:BQ170)>AI169+AT170,AI169+AT170-BF170,$D169-SUM($BK170:BQ170))))","v":0},{"$f":"IF(AJ169<=0,0,IF($D169<=SUM($BK170:BR170),0,IF(BG170+$D169-SUM($BK170:BR170)>AJ169+AU170,AJ169+AU170-BG170,$D169-SUM($BK170:BR170))))","v":0},{"$f":"IF(AK169<=0,0,IF($D169<=SUM($BK170:BS170),0,IF(BH170+$D169-SUM($BK170:BS170)>AK169+AV170,AK169+AV170-BH170,$D169-SUM($BK170:BS170))))","v":0}]
[null,"","1912-06-01",0,0,0,0,0,0,0,0,0,0,0,null,null,null,null,null,null,null,null,null,null,null,null,0,0,0,0,0,0,0,0,0,0,0,null,0,0,0,0,0,0,0,0,0,0,0,null,0,0,0,0,0,0,0,0,0,0,0,null,0,{"$f":"IF(AC170<=0,0,IF($D170<=SUM($BK171:BK171),0,IF(AZ171+$D170-SUM($BK171:BK171)>AC170+AN171,AC170+AN171-AZ171,$D170-SUM($BK171:BK171))))","v":0},{"$f":"IF(AD170<=0,0,IF($D170<=SUM($BK171:BL171),0,IF(BA171+$D170-SUM($BK171:BL171)>AD170+AO171,AD170+AO171-BA171,$D170-SUM($BK171:BL171))))","v":0},{"$f":"IF(AE170<=0,0,IF($D170<=SUM($BK171:BM171),0,IF(BB171+$D170-SUM($BK171:BM171)>AE170+AP171,AE170+AP171-BB171,$D170-SUM($BK171:BM171))))","v":0},{"$f":"IF(AF170<=0,0,IF($D170<=SUM($BK171:BN171),0,IF(BC171+$D170-SUM($BK171:BN171)>AF170+AQ171,AF170+AQ171-BC171,$D170-SUM($BK171:BN171))))","v":0},{"$f":"IF(AG170<=0,0,IF($D170<=SUM($BK171:BO171),0,IF(BD171+$D170-SUM($BK171:BO171)>AG170+AR171,AG170+AR171-BD171,$D170-SUM($BK171:BO171))))","v":0},{"$f":"IF(AH170<=0,0,IF($D170<=SUM($BK171:BP171),0,IF(BE171+$D170-SUM($BK171:BP171)>AH170+AS171,AH170+AS171-BE171,$D170-SUM($BK171:BP171))))","v":0},{"$f":"IF(AI170<=0,0,IF($D170<=SUM($BK171:BQ171),0,IF(BF171+$D170-SUM($BK171:BQ171)>AI170+AT171,AI170+AT171-BF171,$D170-SUM($BK171:BQ171))))","v":0},{"$f":"IF(AJ170<=0,0,IF($D170<=SUM($BK171:BR171),0,IF(BG171+$D170-SUM($BK171:BR171)>AJ170+AU171,AJ170+AU171-BG171,$D170-SUM($BK171:BR171))))","v":0},{"$f":"IF(AK170<=0,0,IF($D170<=SUM($BK171:BS171),0,IF(BH171+$D170-SUM($BK171:BS171)>AK170+AV171,AK170+AV171-BH171,$D170-SUM($BK171:BS171))))","v":0}]
[null,"","1912-07-01",0,0,0,0,0,0,0,0,0,0,0,null,null,null,null,null,null,null,null,null,null,null,null,0,0,0,0,0,0,0,0,0,0,0,null,0,0,0,0,0,0,0,0,0,0,0,null,0,0,0,0,0,0,0,0,0,0,0,null,0,{"$f":"IF(AC171<=0,0,IF($D171<=SUM($BK172:BK172),0,IF(AZ172+$D171-SUM($BK172:BK172)>AC171+AN172,AC171+AN172-AZ172,$D171-SUM($BK172:BK172))))","v":0},{"$f":"IF(AD171<=0,0,IF($D171<=SUM($BK172:BL172),0,IF(BA172+$D171-SUM($BK172:BL172)>AD171+AO172,AD171+AO172-BA172,$D171-SUM($BK172:BL172))))","v":0},{"$f":"IF(AE171<=0,0,IF($D171<=SUM($BK172:BM172),0,IF(BB172+$D171-SUM($BK172:BM172)>AE171+AP172,AE171+AP172-BB172,$D171-SUM($BK172:BM172))))","v":0},{"$f":"IF(AF171<=0,0,IF($D171<=SUM($BK172:BN172),0,IF(BC172+$D171-SUM($BK172:BN172)>AF171+AQ172,AF171+AQ172-BC172,$D171-SUM($BK172:BN172))))","v":0},{"$f":"IF(AG171<=0,0,IF($D171<=SUM($BK172:BO172),0,IF(BD172+$D171-SUM($BK172:BO172)>AG171+AR172,AG171+AR172-BD172,$D171-SUM($BK172:BO172))))","v":0},{"$f":"IF(AH171<=0,0,IF($D171<=SUM($BK172:BP172),0,IF(BE172+$D171-SUM($BK172:BP172)>AH171+AS172,AH171+AS172-BE172,$D171-SUM($BK172:BP172))))","v":0},{"$f":"IF(AI171<=0,0,IF($D171<=SUM($BK172:BQ172),0,IF(BF172+$D171-SUM($BK172:BQ172)>AI171+AT172,AI171+AT172-BF172,$D171-SUM($BK172:BQ172))))","v":0},{"$f":"IF(AJ171<=0,0,IF($D171<=SUM($BK172:BR172),0,IF(BG172+$D171-SUM($BK172:BR172)>AJ171+AU172,AJ171+AU172-BG172,$D171-SUM($BK172:BR172))))","v":0},{"$f":"IF(AK171<=0,0,IF($D171<=SUM($BK172:BS172),0,IF(BH172+$D171-SUM($BK172:BS172)>AK171+AV172,AK171+AV172-BH172,$D171-SUM($BK172:BS172))))","v":0}]
[null,"","1912-08-01",0,0,0,0,0,0,0,0,0,0,0,null,null,null,null,null,null,null,null,null,null,null,null,0,0,0,0,0,0,0,0,0,0,0,null,0,0,0,0,0,0,0,0,0,0,0,null,0,0,0,0,0,0,0,0,0,0,0,null,0,{"$f":"IF(AC172<=0,0,IF($D172<=SUM($BK173:BK173),0,IF(AZ173+$D172-SUM($BK173:BK173)>AC172+AN173,AC172+AN173-AZ173,$D172-SUM($BK173:BK173))))","v":0},{"$f":"IF(AD172<=0,0,IF($D172<=SUM($BK173:BL173),0,IF(BA173+$D172-SUM($BK173:BL173)>AD172+AO173,AD172+AO173-BA173,$D172-SUM($BK173:BL173))))","v":0},{"$f":"IF(AE172<=0,0,IF($D172<=SUM($BK173:BM173),0,IF(BB173+$D172-SUM($BK173:BM173)>AE172+AP173,AE172+AP173-BB173,$D172-SUM($BK173:BM173))))","v":0},{"$f":"IF(AF172<=0,0,IF($D172<=SUM($BK173:BN173),0,IF(BC173+$D172-SUM($BK173:BN173)>AF172+AQ173,AF172+AQ173-BC173,$D172-SUM($BK173:BN173))))","v":0},{"$f":"IF(AG172<=0,0,IF($D172<=SUM($BK173:BO173),0,IF(BD173+$D172-SUM($BK173:BO173)>AG172+AR173,AG172+AR173-BD173,$D172-SUM($BK173:BO173))))","v":0},{"$f":"IF(AH172<=0,0,IF($D172<=SUM($BK173:BP173),0,IF(BE173+$D172-SUM($BK173:BP173)>AH172+AS173,AH172+AS173-BE173,$D172-SUM($BK173:BP173))))","v":0},{"$f":"IF(AI172<=0,0,IF($D172<=SUM($BK173:BQ173),0,IF(BF173+$D172-SUM($BK173:BQ173)>AI172+AT173,AI172+AT173-BF173,$D172-SUM($BK173:BQ173))))","v":0},{"$f":"IF(AJ172<=0,0,IF($D172<=SUM($BK173:BR173),0,IF(BG173+$D172-SUM($BK173:BR173)>AJ172+AU173,AJ172+AU173-BG173,$D172-SUM($BK173:BR173))))","v":0},{"$f":"IF(AK172<=0,0,IF($D172<=SUM($BK173:BS173),0,IF(BH173+$D172-SUM($BK173:BS173)>AK172+AV173,AK172+AV173-BH173,$D172-SUM($BK173:BS173))))","v":0}]
[null,"","1912-09-01",0,0,0,0,0,0,0,0,0,0,0,null,null,null,null,null,null,null,null,null,null,null,null,0,0,0,0,0,0,0,0,0,0,0,null,0,0,0,0,0,0,0,0,0,0,0,null,0,0,0,0,0,0,0,0,0,0,0,null,0,{"$f":"IF(AC173<=0,0,IF($D173<=SUM($BK174:BK174),0,IF(AZ174+$D173-SUM($BK174:BK174)>AC173+AN174,AC173+AN174-AZ174,$D173-SUM($BK174:BK174))))","v":0},{"$f":"IF(AD173<=0,0,IF($D173<=SUM($BK174:BL174),0,IF(BA174+$D173-SUM($BK174:BL174)>AD173+AO174,AD173+AO174-BA174,$D173-SUM($BK174:BL174))))","v":0},{"$f":"IF(AE173<=0,0,IF($D173<=SUM($BK174:BM174),0,IF(BB174+$D173-SUM($BK174:BM174)>AE173+AP174,AE173+AP174-BB174,$D173-SUM($BK174:BM174))))","v":0},{"$f":"IF(AF173<=0,0,IF($D173<=SUM($BK174:BN174),0,IF(BC174+$D173-SUM($BK174:BN174)>AF173+AQ174,AF173+AQ174-BC174,$D173-SUM($BK174:BN174))))","v":0},{"$f":"IF(AG173<=0,0,IF($D173<=SUM($BK174:BO174),0,IF(BD174+$D173-SUM($BK174:BO174)>AG173+AR174,AG173+AR174-BD174,$D173-SUM($BK174:BO174))))","v":0},{"$f":"IF(AH173<=0,0,IF($D173<=SUM($BK174:BP174),0,IF(BE174+$D173-SUM($BK174:BP174)>AH173+AS174,AH173+AS174-BE174,$D173-SUM($BK174:BP174))))","v":0},{"$f":"IF(AI173<=0,0,IF($D173<=SUM($BK174:BQ174),0,IF(BF174+$D173-SUM($BK174:BQ174)>AI173+AT174,AI173+AT174-BF174,$D173-SUM($BK174:BQ174))))","v":0},{"$f":"IF(AJ173<=0,0,IF($D173<=SUM($BK174:BR174),0,IF(BG174+$D173-SUM($BK174:BR174)>AJ173+AU174,AJ173+AU174-BG174,$D173-SUM($BK174:BR174))))","v":0},{"$f":"IF(AK173<=0,0,IF($D173<=SUM($BK174:BS174),0,IF(BH174+$D173-SUM($BK174:BS174)>AK173+AV174,AK173+AV174-BH174,$D173-SUM($BK174:BS174))))","v":0}]
[null,"","1912-10-01",0,0,0,0,0,0,0,0,0,0,0,null,null,null,null,null,null,null,null,null,null,null,null,0,0,0,0,0,0,0,0,0,0,0,null,0,0,0,0,0,0,0,0,0,0,0,null,0,0,0,0,0,0,0,0,0,0,0,null,0,{"$f":"IF(AC174<=0,0,IF($D174<=SUM($BK175:BK175),0,IF(AZ175+$D174-SUM($BK175:BK175)>AC174+AN175,AC174+AN175-AZ175,$D174-SUM($BK175:BK175))))","v":0},{"$f":"IF(AD174<=0,0,IF($D174<=SUM($BK175:BL175),0,IF(BA175+$D174-SUM($BK175:BL175)>AD174+AO175,AD174+AO175-BA175,$D174-SUM($BK175:BL175))))","v":0},{"$f":"IF(AE174<=0,0,IF($D174<=SUM($BK175:BM175),0,IF(BB175+$D174-SUM($BK175:BM175)>AE174+AP175,AE174+AP175-BB175,$D174-SUM($BK175:BM175))))","v":0},{"$f":"IF(AF174<=0,0,IF($D174<=SUM($BK175:BN175),0,IF(BC175+$D174-SUM($BK175:BN175)>AF174+AQ175,AF174+AQ175-BC175,$D174-SUM($BK175:BN175))))","v":0},{"$f":"IF(AG174<=0,0,IF($D174<=SUM($BK175:BO175),0,IF(BD175+$D174-SUM($BK175:BO175)>AG174+AR175,AG174+AR175-BD175,$D174-SUM($BK175:BO175))))","v":0},{"$f":"IF(AH174<=0,0,IF($D174<=SUM($BK175:BP175),0,IF(BE175+$D174-SUM($BK175:BP175)>AH174+AS175,AH174+AS175-BE175,$D174-SUM($BK175:BP175))))","v":0},{"$f":"IF(AI174<=0,0,IF($D174<=SUM($BK175:BQ175),0,IF(BF175+$D174-SUM($BK175:BQ175)>AI174+AT175,AI174+AT175-BF175,$D174-SUM($BK175:BQ175))))","v":0},{"$f":"IF(AJ174<=0,0,IF($D174<=SUM($BK175:BR175),0,IF(BG175+$D174-SUM($BK175:BR175)>AJ174+AU175,AJ174+AU175-BG175,$D174-SUM($BK175:BR175))))","v":0},{"$f":"IF(AK174<=0,0,IF($D174<=SUM($BK175:BS175),0,IF(BH175+$D174-SUM($BK175:BS175)>AK174+AV175,AK174+AV175-BH175,$D174-SUM($BK175:BS175))))","v":0}]
[null,"","1912-11-01",0,0,0,0,0,0,0,0,0,0,0,null,null,null,null,null,null,null,null,null,null,null,null,0,0,0,0,0,0,0,0,0,0,0,null,0,0,0,0,0,0,0,0,0,0,0,null,0,0,0,0,0,0,0,0,0,0,0,null,0,{"$f":"IF(AC175<=0,0,IF($D175<=SUM($BK176:BK176),0,IF(AZ176+$D175-SUM($BK176:BK176)>AC175+AN176,AC175+AN176-AZ176,$D175-SUM($BK176:BK176))))","v":0},{"$f":"IF(AD175<=0,0,IF($D175<=SUM($BK176:BL176),0,IF(BA176+$D175-SUM($BK176:BL176)>AD175+AO176,AD175+AO176-BA176,$D175-SUM($BK176:BL176))))","v":0},{"$f":"IF(AE175<=0,0,IF($D175<=SUM($BK176:BM176),0,IF(BB176+$D175-SUM($BK176:BM176)>AE175+AP176,AE175+AP176-BB176,$D175-SUM($BK176:BM176))))","v":0},{"$f":"IF(AF175<=0,0,IF($D175<=SUM($BK176:BN176),0,IF(BC176+$D175-SUM($BK176:BN176)>AF175+AQ176,AF175+AQ176-BC176,$D175-SUM($BK176:BN176))))","v":0},{"$f":"IF(AG175<=0,0,IF($D175<=SUM($BK176:BO176),0,IF(BD176+$D175-SUM($BK176:BO176)>AG175+AR176,AG175+AR176-BD176,$D175-SUM($BK176:BO176))))","v":0},{"$f":"IF(AH175<=0,0,IF($D175<=SUM($BK176:BP176),0,IF(BE176+$D175-SUM($BK176:BP176)>AH175+AS176,AH175+AS176-BE176,$D175-SUM($BK176:BP176))))","v":0},{"$f":"IF(AI175<=0,0,IF($D175<=SUM($BK176:BQ176),0,IF(BF176+$D175-SUM($BK176:BQ176)>AI175+AT176,AI175+AT176-BF176,$D175-SUM($BK176:BQ176))))","v":0},{"$f":"IF(AJ175<=0,0,IF($D175<=SUM($BK176:BR176),0,IF(BG176+$D175-SUM($BK176:BR176)>AJ175+AU176,AJ175+AU176-BG176,$D175-SUM($BK176:BR176))))","v":0},{"$f":"IF(AK175<=0,0,IF($D175<=SUM($BK176:BS176),0,IF(BH176+$D175-SUM($BK176:BS176)>AK175+AV176,AK175+AV176-BH176,$D175-SUM($BK176:BS176))))","v":0}]
[null,"","1912-12-01",0,0,0,0,0,0,0,0,0,0,0,null,null,null,null,null,null,null,null,null,null,null,null,0,0,0,0,0,0,0,0,0,0,0,null,0,0,0,0,0,0,0,0,0,0,0,null,0,0,0,0,0,0,0,0,0,0,0,null,0,{"$f":"IF(AC176<=0,0,IF($D176<=SUM($BK177:BK177),0,IF(AZ177+$D176-SUM($BK177:BK177)>AC176+AN177,AC176+AN177-AZ177,$D176-SUM($BK177:BK177))))","v":0},{"$f":"IF(AD176<=0,0,IF($D176<=SUM($BK177:BL177),0,IF(BA177+$D176-SUM($BK177:BL177)>AD176+AO177,AD176+AO177-BA177,$D176-SUM($BK177:BL177))))","v":0},{"$f":"IF(AE176<=0,0,IF($D176<=SUM($BK177:BM177),0,IF(BB177+$D176-SUM($BK177:BM177)>AE176+AP177,AE176+AP177-BB177,$D176-SUM($BK177:BM177))))","v":0},{"$f":"IF(AF176<=0,0,IF($D176<=SUM($BK177:BN177),0,IF(BC177+$D176-SUM($BK177:BN177)>AF176+AQ177,AF176+AQ177-BC177,$D176-SUM($BK177:BN177))))","v":0},{"$f":"IF(AG176<=0,0,IF($D176<=SUM($BK177:BO177),0,IF(BD177+$D176-SUM($BK177:BO177)>AG176+AR177,AG176+AR177-BD177,$D176-SUM($BK177:BO177))))","v":0},{"$f":"IF(AH176<=0,0,IF($D176<=SUM($BK177:BP177),0,IF(BE177+$D176-SUM($BK177:BP177)>AH176+AS177,AH176+AS177-BE177,$D176-SUM($BK177:BP177))))","v":0},{"$f":"IF(AI176<=0,0,IF($D176<=SUM($BK177:BQ177),0,IF(BF177+$D176-SUM($BK177:BQ177)>AI176+AT177,AI176+AT177-BF177,$D176-SUM($BK177:BQ177))))","v":0},{"$f":"IF(AJ176<=0,0,IF($D176<=SUM($BK177:BR177),0,IF(BG177+$D176-SUM($BK177:BR177)>AJ176+AU177,AJ176+AU177-BG177,$D176-SUM($BK177:BR177))))","v":0},{"$f":"IF(AK176<=0,0,IF($D176<=SUM($BK177:BS177),0,IF(BH177+$D176-SUM($BK177:BS177)>AK176+AV177,AK176+AV177-BH177,$D176-SUM($BK177:BS177))))","v":0}]
[null,"","1913-01-01",0,0,0,0,0,0,0,0,0,0,0,null,null,null,null,null,null,null,null,null,null,null,null,0,0,0,0,0,0,0,0,0,0,0,null,0,0,0,0,0,0,0,0,0,0,0,null,0,0,0,0,0,0,0,0,0,0,0,null,0,{"$f":"IF(AC177<=0,0,IF($D177<=SUM($BK178:BK178),0,IF(AZ178+$D177-SUM($BK178:BK178)>AC177+AN178,AC177+AN178-AZ178,$D177-SUM($BK178:BK178))))","v":0},{"$f":"IF(AD177<=0,0,IF($D177<=SUM($BK178:BL178),0,IF(BA178+$D177-SUM($BK178:BL178)>AD177+AO178,AD177+AO178-BA178,$D177-SUM($BK178:BL178))))","v":0},{"$f":"IF(AE177<=0,0,IF($D177<=SUM($BK178:BM178),0,IF(BB178+$D177-SUM($BK178:BM178)>AE177+AP178,AE177+AP178-BB178,$D177-SUM($BK178:BM178))))","v":0},{"$f":"IF(AF177<=0,0,IF($D177<=SUM($BK178:BN178),0,IF(BC178+$D177-SUM($BK178:BN178)>AF177+AQ178,AF177+AQ178-BC178,$D177-SUM($BK178:BN178))))","v":0},{"$f":"IF(AG177<=0,0,IF($D177<=SUM($BK178:BO178),0,IF(BD178+$D177-SUM($BK178:BO178)>AG177+AR178,AG177+AR178-BD178,$D177-SUM($BK178:BO178))))","v":0},{"$f":"IF(AH177<=0,0,IF($D177<=SUM($BK178:BP178),0,IF(BE178+$D177-SUM($BK178:BP178)>AH177+AS178,AH177+AS178-BE178,$D177-SUM($BK178:BP178))))","v":0},{"$f":"IF(AI177<=0,0,IF($D177<=SUM($BK178:BQ178),0,IF(BF178+$D177-SUM($BK178:BQ178)>AI177+AT178,AI177+AT178-BF178,$D177-SUM($BK178:BQ178))))","v":0},{"$f":"IF(AJ177<=0,0,IF($D177<=SUM($BK178:BR178),0,IF(BG178+$D177-SUM($BK178:BR178)>AJ177+AU178,AJ177+AU178-BG178,$D177-SUM($BK178:BR178))))","v":0},{"$f":"IF(AK177<=0,0,IF($D177<=SUM($BK178:BS178),0,IF(BH178+$D177-SUM($BK178:BS178)>AK177+AV178,AK177+AV178-BH178,$D177-SUM($BK178:BS178))))","v":0}]
[null,"","1913-02-01",0,0,0,0,0,0,0,0,0,0,0,null,null,null,null,null,null,null,null,null,null,null,null,0,0,0,0,0,0,0,0,0,0,0,null,0,0,0,0,0,0,0,0,0,0,0,null,0,0,0,0,0,0,0,0,0,0,0,null,0,{"$f":"IF(AC178<=0,0,IF($D178<=SUM($BK179:BK179),0,IF(AZ179+$D178-SUM($BK179:BK179)>AC178+AN179,AC178+AN179-AZ179,$D178-SUM($BK179:BK179))))","v":0},{"$f":"IF(AD178<=0,0,IF($D178<=SUM($BK179:BL179),0,IF(BA179+$D178-SUM($BK179:BL179)>AD178+AO179,AD178+AO179-BA179,$D178-SUM($BK179:BL179))))","v":0},{"$f":"IF(AE178<=0,0,IF($D178<=SUM($BK179:BM179),0,IF(BB179+$D178-SUM($BK179:BM179)>AE178+AP179,AE178+AP179-BB179,$D178-SUM($BK179:BM179))))","v":0},{"$f":"IF(AF178<=0,0,IF($D178<=SUM($BK179:BN179),0,IF(BC179+$D178-SUM($BK179:BN179)>AF178+AQ179,AF178+AQ179-BC179,$D178-SUM($BK179:BN179))))","v":0},{"$f":"IF(AG178<=0,0,IF($D178<=SUM($BK179:BO179),0,IF(BD179+$D178-SUM($BK179:BO179)>AG178+AR179,AG178+AR179-BD179,$D178-SUM($BK179:BO179))))","v":0},{"$f":"IF(AH178<=0,0,IF($D178<=SUM($BK179:BP179),0,IF(BE179+$D178-SUM($BK179:BP179)>AH178+AS179,AH178+AS179-BE179,$D178-SUM($BK179:BP179))))","v":0},{"$f":"IF(AI178<=0,0,IF($D178<=SUM($BK179:BQ179),0,IF(BF179+$D178-SUM($BK179:BQ179)>AI178+AT179,AI178+AT179-BF179,$D178-SUM($BK179:BQ179))))","v":0},{"$f":"IF(AJ178<=0,0,IF($D178<=SUM($BK179:BR179),0,IF(BG179+$D178-SUM($BK179:BR179)>AJ178+AU179,AJ178+AU179-BG179,$D178-SUM($BK179:BR179))))","v":0},{"$f":"IF(AK178<=0,0,IF($D178<=SUM($BK179:BS179),0,IF(BH179+$D178-SUM($BK179:BS179)>AK178+AV179,AK178+AV179-BH179,$D178-SUM($BK179:BS179))))","v":0}]
[null,"","1913-03-01",0,0,0,0,0,0,0,0,0,0,0,null,null,null,null,null,null,null,null,null,null,null,null,0,0,0,0,0,0,0,0,0,0,0,null,0,0,0,0,0,0,0,0,0,0,0,null,0,0,0,0,0,0,0,0,0,0,0,null,0,{"$f":"IF(AC179<=0,0,IF($D179<=SUM($BK180:BK180),0,IF(AZ180+$D179-SUM($BK180:BK180)>AC179+AN180,AC179+AN180-AZ180,$D179-SUM($BK180:BK180))))","v":0},{"$f":"IF(AD179<=0,0,IF($D179<=SUM($BK180:BL180),0,IF(BA180+$D179-SUM($BK180:BL180)>AD179+AO180,AD179+AO180-BA180,$D179-SUM($BK180:BL180))))","v":0},{"$f":"IF(AE179<=0,0,IF($D179<=SUM($BK180:BM180),0,IF(BB180+$D179-SUM($BK180:BM180)>AE179+AP180,AE179+AP180-BB180,$D179-SUM($BK180:BM180))))","v":0},{"$f":"IF(AF179<=0,0,IF($D179<=SUM($BK180:BN180),0,IF(BC180+$D179-SUM($BK180:BN180)>AF179+AQ180,AF179+AQ180-BC180,$D179-SUM($BK180:BN180))))","v":0},{"$f":"IF(AG179<=0,0,IF($D179<=SUM($BK180:BO180),0,IF(BD180+$D179-SUM($BK180:BO180)>AG179+AR180,AG179+AR180-BD180,$D179-SUM($BK180:BO180))))","v":0},{"$f":"IF(AH179<=0,0,IF($D179<=SUM($BK180:BP180),0,IF(BE180+$D179-SUM($BK180:BP180)>AH179+AS180,AH179+AS180-BE180,$D179-SUM($BK180:BP180))))","v":0},{"$f":"IF(AI179<=0,0,IF($D179<=SUM($BK180:BQ180),0,IF(BF180+$D179-SUM($BK180:BQ180)>AI179+AT180,AI179+AT180-BF180,$D179-SUM($BK180:BQ180))))","v":0},{"$f":"IF(AJ179<=0,0,IF($D179<=SUM($BK180:BR180),0,IF(BG180+$D179-SUM($BK180:BR180)>AJ179+AU180,AJ179+AU180-BG180,$D179-SUM($BK180:BR180))))","v":0},{"$f":"IF(AK179<=0,0,IF($D179<=SUM($BK180:BS180),0,IF(BH180+$D179-SUM($BK180:BS180)>AK179+AV180,AK179+AV180-BH180,$D179-SUM($BK180:BS180))))","v":0}]
[null,"","1913-04-01",0,0,0,0,0,0,0,0,0,0,0,null,null,null,null,null,null,null,null,null,null,null,null,0,0,0,0,0,0,0,0,0,0,0,null,0,0,0,0,0,0,0,0,0,0,0,null,0,0,0,0,0,0,0,0,0,0,0,null,0,{"$f":"IF(AC180<=0,0,IF($D180<=SUM($BK181:BK181),0,IF(AZ181+$D180-SUM($BK181:BK181)>AC180+AN181,AC180+AN181-AZ181,$D180-SUM($BK181:BK181))))","v":0},{"$f":"IF(AD180<=0,0,IF($D180<=SUM($BK181:BL181),0,IF(BA181+$D180-SUM($BK181:BL181)>AD180+AO181,AD180+AO181-BA181,$D180-SUM($BK181:BL181))))","v":0},{"$f":"IF(AE180<=0,0,IF($D180<=SUM($BK181:BM181),0,IF(BB181+$D180-SUM($BK181:BM181)>AE180+AP181,AE180+AP181-BB181,$D180-SUM($BK181:BM181))))","v":0},{"$f":"IF(AF180<=0,0,IF($D180<=SUM($BK181:BN181),0,IF(BC181+$D180-SUM($BK181:BN181)>AF180+AQ181,AF180+AQ181-BC181,$D180-SUM($BK181:BN181))))","v":0},{"$f":"IF(AG180<=0,0,IF($D180<=SUM($BK181:BO181),0,IF(BD181+$D180-SUM($BK181:BO181)>AG180+AR181,AG180+AR181-BD181,$D180-SUM($BK181:BO181))))","v":0},{"$f":"IF(AH180<=0,0,IF($D180<=SUM($BK181:BP181),0,IF(BE181+$D180-SUM($BK181:BP181)>AH180+AS181,AH180+AS181-BE181,$D180-SUM($BK181:BP181))))","v":0},{"$f":"IF(AI180<=0,0,IF($D180<=SUM($BK181:BQ181),0,IF(BF181+$D180-SUM($BK181:BQ181)>AI180+AT181,AI180+AT181-BF181,$D180-SUM($BK181:BQ181))))","v":0},{"$f":"IF(AJ180<=0,0,IF($D180<=SUM($BK181:BR181),0,IF(BG181+$D180-SUM($BK181:BR181)>AJ180+AU181,AJ180+AU181-BG181,$D180-SUM($BK181:BR181))))","v":0},{"$f":"IF(AK180<=0,0,IF($D180<=SUM($BK181:BS181),0,IF(BH181+$D180-SUM($BK181:BS181)>AK180+AV181,AK180+AV181-BH181,$D180-SUM($BK181:BS181))))","v":0}]
[null,"","1913-05-01",0,0,0,0,0,0,0,0,0,0,0,null,null,null,null,null,null,null,null,null,null,null,null,0,0,0,0,0,0,0,0,0,0,0,null,0,0,0,0,0,0,0,0,0,0,0,null,0,0,0,0,0,0,0,0,0,0,0,null,0,{"$f":"IF(AC181<=0,0,IF($D181<=SUM($BK182:BK182),0,IF(AZ182+$D181-SUM($BK182:BK182)>AC181+AN182,AC181+AN182-AZ182,$D181-SUM($BK182:BK182))))","v":0},{"$f":"IF(AD181<=0,0,IF($D181<=SUM($BK182:BL182),0,IF(BA182+$D181-SUM($BK182:BL182)>AD181+AO182,AD181+AO182-BA182,$D181-SUM($BK182:BL182))))","v":0},{"$f":"IF(AE181<=0,0,IF($D181<=SUM($BK182:BM182),0,IF(BB182+$D181-SUM($BK182:BM182)>AE181+AP182,AE181+AP182-BB182,$D181-SUM($BK182:BM182))))","v":0},{"$f":"IF(AF181<=0,0,IF($D181<=SUM($BK182:BN182),0,IF(BC182+$D181-SUM($BK182:BN182)>AF181+AQ182,AF181+AQ182-BC182,$D181-SUM($BK182:BN182))))","v":0},{"$f":"IF(AG181<=0,0,IF($D181<=SUM($BK182:BO182),0,IF(BD182+$D181-SUM($BK182:BO182)>AG181+AR182,AG181+AR182-BD182,$D181-SUM($BK182:BO182))))","v":0},{"$f":"IF(AH181<=0,0,IF($D181<=SUM($BK182:BP182),0,IF(BE182+$D181-SUM($BK182:BP182)>AH181+AS182,AH181+AS182-BE182,$D181-SUM($BK182:BP182))))","v":0},{"$f":"IF(AI181<=0,0,IF($D181<=SUM($BK182:BQ182),0,IF(BF182+$D181-SUM($BK182:BQ182)>AI181+AT182,AI181+AT182-BF182,$D181-SUM($BK182:BQ182))))","v":0},{"$f":"IF(AJ181<=0,0,IF($D181<=SUM($BK182:BR182),0,IF(BG182+$D181-SUM($BK182:BR182)>AJ181+AU182,AJ181+AU182-BG182,$D181-SUM($BK182:BR182))))","v":0},{"$f":"IF(AK181<=0,0,IF($D181<=SUM($BK182:BS182),0,IF(BH182+$D181-SUM($BK182:BS182)>AK181+AV182,AK181+AV182-BH182,$D181-SUM($BK182:BS182))))","v":0}]
[null,"","1913-06-01",0,0,0,0,0,0,0,0,0,0,0,null,null,null,null,null,null,null,null,null,null,null,null,0,0,0,0,0,0,0,0,0,0,0,null,0,0,0,0,0,0,0,0,0,0,0,null,0,0,0,0,0,0,0,0,0,0,0,null,0,{"$f":"IF(AC182<=0,0,IF($D182<=SUM($BK183:BK183),0,IF(AZ183+$D182-SUM($BK183:BK183)>AC182+AN183,AC182+AN183-AZ183,$D182-SUM($BK183:BK183))))","v":0},{"$f":"IF(AD182<=0,0,IF($D182<=SUM($BK183:BL183),0,IF(BA183+$D182-SUM($BK183:BL183)>AD182+AO183,AD182+AO183-BA183,$D182-SUM($BK183:BL183))))","v":0},{"$f":"IF(AE182<=0,0,IF($D182<=SUM($BK183:BM183),0,IF(BB183+$D182-SUM($BK183:BM183)>AE182+AP183,AE182+AP183-BB183,$D182-SUM($BK183:BM183))))","v":0},{"$f":"IF(AF182<=0,0,IF($D182<=SUM($BK183:BN183),0,IF(BC183+$D182-SUM($BK183:BN183)>AF182+AQ183,AF182+AQ183-BC183,$D182-SUM($BK183:BN183))))","v":0},{"$f":"IF(AG182<=0,0,IF($D182<=SUM($BK183:BO183),0,IF(BD183+$D182-SUM($BK183:BO183)>AG182+AR183,AG182+AR183-BD183,$D182-SUM($BK183:BO183))))","v":0},{"$f":"IF(AH182<=0,0,IF($D182<=SUM($BK183:BP183),0,IF(BE183+$D182-SUM($BK183:BP183)>AH182+AS183,AH182+AS183-BE183,$D182-SUM($BK183:BP183))))","v":0},{"$f":"IF(AI182<=0,0,IF($D182<=SUM($BK183:BQ183),0,IF(BF183+$D182-SUM($BK183:BQ183)>AI182+AT183,AI182+AT183-BF183,$D182-SUM($BK183:BQ183))))","v":0},{"$f":"IF(AJ182<=0,0,IF($D182<=SUM($BK183:BR183),0,IF(BG183+$D182-SUM($BK183:BR183)>AJ182+AU183,AJ182+AU183-BG183,$D182-SUM($BK183:BR183))))","v":0},{"$f":"IF(AK182<=0,0,IF($D182<=SUM($BK183:BS183),0,IF(BH183+$D182-SUM($BK183:BS183)>AK182+AV183,AK182+AV183-BH183,$D182-SUM($BK183:BS183))))","v":0}]
[null,"","1913-07-01",0,0,0,0,0,0,0,0,0,0,0,null,null,null,null,null,null,null,null,null,null,null,null,0,0,0,0,0,0,0,0,0,0,0,null,0,0,0,0,0,0,0,0,0,0,0,null,0,0,0,0,0,0,0,0,0,0,0,null,0,{"$f":"IF(AC183<=0,0,IF($D183<=SUM($BK184:BK184),0,IF(AZ184+$D183-SUM($BK184:BK184)>AC183+AN184,AC183+AN184-AZ184,$D183-SUM($BK184:BK184))))","v":0},{"$f":"IF(AD183<=0,0,IF($D183<=SUM($BK184:BL184),0,IF(BA184+$D183-SUM($BK184:BL184)>AD183+AO184,AD183+AO184-BA184,$D183-SUM($BK184:BL184))))","v":0},{"$f":"IF(AE183<=0,0,IF($D183<=SUM($BK184:BM184),0,IF(BB184+$D183-SUM($BK184:BM184)>AE183+AP184,AE183+AP184-BB184,$D183-SUM($BK184:BM184))))","v":0},{"$f":"IF(AF183<=0,0,IF($D183<=SUM($BK184:BN184),0,IF(BC184+$D183-SUM($BK184:BN184)>AF183+AQ184,AF183+AQ184-BC184,$D183-SUM($BK184:BN184))))","v":0},{"$f":"IF(AG183<=0,0,IF($D183<=SUM($BK184:BO184),0,IF(BD184+$D183-SUM($BK184:BO184)>AG183+AR184,AG183+AR184-BD184,$D183-SUM($BK184:BO184))))","v":0},{"$f":"IF(AH183<=0,0,IF($D183<=SUM($BK184:BP184),0,IF(BE184+$D183-SUM($BK184:BP184)>AH183+AS184,AH183+AS184-BE184,$D183-SUM($BK184:BP184))))","v":0},{"$f":"IF(AI183<=0,0,IF($D183<=SUM($BK184:BQ184),0,IF(BF184+$D183-SUM($BK184:BQ184)>AI183+AT184,AI183+AT184-BF184,$D183-SUM($BK184:BQ184))))","v":0},{"$f":"IF(AJ183<=0,0,IF($D183<=SUM($BK184:BR184),0,IF(BG184+$D183-SUM($BK184:BR184)>AJ183+AU184,AJ183+AU184-BG184,$D183-SUM($BK184:BR184))))","v":0},{"$f":"IF(AK183<=0,0,IF($D183<=SUM($BK184:BS184),0,IF(BH184+$D183-SUM($BK184:BS184)>AK183+AV184,AK183+AV184-BH184,$D183-SUM($BK184:BS184))))","v":0}]
[null,"","1913-08-01",0,0,0,0,0,0,0,0,0,0,0,null,null,null,null,null,null,null,null,null,null,null,null,0,0,0,0,0,0,0,0,0,0,0,null,0,0,0,0,0,0,0,0,0,0,0,null,0,0,0,0,0,0,0,0,0,0,0,null,0,{"$f":"IF(AC184<=0,0,IF($D184<=SUM($BK185:BK185),0,IF(AZ185+$D184-SUM($BK185:BK185)>AC184+AN185,AC184+AN185-AZ185,$D184-SUM($BK185:BK185))))","v":0},{"$f":"IF(AD184<=0,0,IF($D184<=SUM($BK185:BL185),0,IF(BA185+$D184-SUM($BK185:BL185)>AD184+AO185,AD184+AO185-BA185,$D184-SUM($BK185:BL185))))","v":0},{"$f":"IF(AE184<=0,0,IF($D184<=SUM($BK185:BM185),0,IF(BB185+$D184-SUM($BK185:BM185)>AE184+AP185,AE184+AP185-BB185,$D184-SUM($BK185:BM185))))","v":0},{"$f":"IF(AF184<=0,0,IF($D184<=SUM($BK185:BN185),0,IF(BC185+$D184-SUM($BK185:BN185)>AF184+AQ185,AF184+AQ185-BC185,$D184-SUM($BK185:BN185))))","v":0},{"$f":"IF(AG184<=0,0,IF($D184<=SUM($BK185:BO185),0,IF(BD185+$D184-SUM($BK185:BO185)>AG184+AR185,AG184+AR185-BD185,$D184-SUM($BK185:BO185))))","v":0},{"$f":"IF(AH184<=0,0,IF($D184<=SUM($BK185:BP185),0,IF(BE185+$D184-SUM($BK185:BP185)>AH184+AS185,AH184+AS185-BE185,$D184-SUM($BK185:BP185))))","v":0},{"$f":"IF(AI184<=0,0,IF($D184<=SUM($BK185:BQ185),0,IF(BF185+$D184-SUM($BK185:BQ185)>AI184+AT185,AI184+AT185-BF185,$D184-SUM($BK185:BQ185))))","v":0},{"$f":"IF(AJ184<=0,0,IF($D184<=SUM($BK185:BR185),0,IF(BG185+$D184-SUM($BK185:BR185)>AJ184+AU185,AJ184+AU185-BG185,$D184-SUM($BK185:BR185))))","v":0},{"$f":"IF(AK184<=0,0,IF($D184<=SUM($BK185:BS185),0,IF(BH185+$D184-SUM($BK185:BS185)>AK184+AV185,AK184+AV185-BH185,$D184-SUM($BK185:BS185))))","v":0}]
[null,"","1913-09-01",0,0,0,0,0,0,0,0,0,0,0,null,null,null,null,null,null,null,null,null,null,null,null,0,0,0,0,0,0,0,0,0,0,0,null,0,0,0,0,0,0,0,0,0,0,0,null,0,0,0,0,0,0,0,0,0,0,0,null,0,{"$f":"IF(AC185<=0,0,IF($D185<=SUM($BK186:BK186),0,IF(AZ186+$D185-SUM($BK186:BK186)>AC185+AN186,AC185+AN186-AZ186,$D185-SUM($BK186:BK186))))","v":0},{"$f":"IF(AD185<=0,0,IF($D185<=SUM($BK186:BL186),0,IF(BA186+$D185-SUM($BK186:BL186)>AD185+AO186,AD185+AO186-BA186,$D185-SUM($BK186:BL186))))","v":0},{"$f":"IF(AE185<=0,0,IF($D185<=SUM($BK186:BM186),0,IF(BB186+$D185-SUM($BK186:BM186)>AE185+AP186,AE185+AP186-BB186,$D185-SUM($BK186:BM186))))","v":0},{"$f":"IF(AF185<=0,0,IF($D185<=SUM($BK186:BN186),0,IF(BC186+$D185-SUM($BK186:BN186)>AF185+AQ186,AF185+AQ186-BC186,$D185-SUM($BK186:BN186))))","v":0},{"$f":"IF(AG185<=0,0,IF($D185<=SUM($BK186:BO186),0,IF(BD186+$D185-SUM($BK186:BO186)>AG185+AR186,AG185+AR186-BD186,$D185-SUM($BK186:BO186))))","v":0},{"$f":"IF(AH185<=0,0,IF($D185<=SUM($BK186:BP186),0,IF(BE186+$D185-SUM($BK186:BP186)>AH185+AS186,AH185+AS186-BE186,$D185-SUM($BK186:BP186))))","v":0},{"$f":"IF(AI185<=0,0,IF($D185<=SUM($BK186:BQ186),0,IF(BF186+$D185-SUM($BK186:BQ186)>AI185+AT186,AI185+AT186-BF186,$D185-SUM($BK186:BQ186))))","v":0},{"$f":"IF(AJ185<=0,0,IF($D185<=SUM($BK186:BR186),0,IF(BG186+$D185-SUM($BK186:BR186)>AJ185+AU186,AJ185+AU186-BG186,$D185-SUM($BK186:BR186))))","v":0},{"$f":"IF(AK185<=0,0,IF($D185<=SUM($BK186:BS186),0,IF(BH186+$D185-SUM($BK186:BS186)>AK185+AV186,AK185+AV186-BH186,$D185-SUM($BK186:BS186))))","v":0}]
[null,"","1913-10-01",0,0,0,0,0,0,0,0,0,0,0,null,null,null,null,null,null,null,null,null,null,null,null,0,0,0,0,0,0,0,0,0,0,0,null,0,0,0,0,0,0,0,0,0,0,0,null,0,0,0,0,0,0,0,0,0,0,0,null,0,{"$f":"IF(AC186<=0,0,IF($D186<=SUM($BK187:BK187),0,IF(AZ187+$D186-SUM($BK187:BK187)>AC186+AN187,AC186+AN187-AZ187,$D186-SUM($BK187:BK187))))","v":0},{"$f":"IF(AD186<=0,0,IF($D186<=SUM($BK187:BL187),0,IF(BA187+$D186-SUM($BK187:BL187)>AD186+AO187,AD186+AO187-BA187,$D186-SUM($BK187:BL187))))","v":0},{"$f":"IF(AE186<=0,0,IF($D186<=SUM($BK187:BM187),0,IF(BB187+$D186-SUM($BK187:BM187)>AE186+AP187,AE186+AP187-BB187,$D186-SUM($BK187:BM187))))","v":0},{"$f":"IF(AF186<=0,0,IF($D186<=SUM($BK187:BN187),0,IF(BC187+$D186-SUM($BK187:BN187)>AF186+AQ187,AF186+AQ187-BC187,$D186-SUM($BK187:BN187))))","v":0},{"$f":"IF(AG186<=0,0,IF($D186<=SUM($BK187:BO187),0,IF(BD187+$D186-SUM($BK187:BO187)>AG186+AR187,AG186+AR187-BD187,$D186-SUM($BK187:BO187))))","v":0},{"$f":"IF(AH186<=0,0,IF($D186<=SUM($BK187:BP187),0,IF(BE187+$D186-SUM($BK187:BP187)>AH186+AS187,AH186+AS187-BE187,$D186-SUM($BK187:BP187))))","v":0},{"$f":"IF(AI186<=0,0,IF($D186<=SUM($BK187:BQ187),0,IF(BF187+$D186-SUM($BK187:BQ187)>AI186+AT187,AI186+AT187-BF187,$D186-SUM($BK187:BQ187))))","v":0},{"$f":"IF(AJ186<=0,0,IF($D186<=SUM($BK187:BR187),0,IF(BG187+$D186-SUM($BK187:BR187)>AJ186+AU187,AJ186+AU187-BG187,$D186-SUM($BK187:BR187))))","v":0},{"$f":"IF(AK186<=0,0,IF($D186<=SUM($BK187:BS187),0,IF(BH187+$D186-SUM($BK187:BS187)>AK186+AV187,AK186+AV187-BH187,$D186-SUM($BK187:BS187))))","v":0}]
[null,"","1913-11-01",0,0,0,0,0,0,0,0,0,0,0,null,null,null,null,null,null,null,null,null,null,null,null,0,0,0,0,0,0,0,0,0,0,0,null,0,0,0,0,0,0,0,0,0,0,0,null,0,0,0,0,0,0,0,0,0,0,0,null,0,{"$f":"IF(AC187<=0,0,IF($D187<=SUM($BK188:BK188),0,IF(AZ188+$D187-SUM($BK188:BK188)>AC187+AN188,AC187+AN188-AZ188,$D187-SUM($BK188:BK188))))","v":0},{"$f":"IF(AD187<=0,0,IF($D187<=SUM($BK188:BL188),0,IF(BA188+$D187-SUM($BK188:BL188)>AD187+AO188,AD187+AO188-BA188,$D187-SUM($BK188:BL188))))","v":0},{"$f":"IF(AE187<=0,0,IF($D187<=SUM($BK188:BM188),0,IF(BB188+$D187-SUM($BK188:BM188)>AE187+AP188,AE187+AP188-BB188,$D187-SUM($BK188:BM188))))","v":0},{"$f":"IF(AF187<=0,0,IF($D187<=SUM($BK188:BN188),0,IF(BC188+$D187-SUM($BK188:BN188)>AF187+AQ188,AF187+AQ188-BC188,$D187-SUM($BK188:BN188))))","v":0},{"$f":"IF(AG187<=0,0,IF($D187<=SUM($BK188:BO188),0,IF(BD188+$D187-SUM($BK188:BO188)>AG187+AR188,AG187+AR188-BD188,$D187-SUM($BK188:BO188))))","v":0},{"$f":"IF(AH187<=0,0,IF($D187<=SUM($BK188:BP188),0,IF(BE188+$D187-SUM($BK188:BP188)>AH187+AS188,AH187+AS188-BE188,$D187-SUM($BK188:BP188))))","v":0},{"$f":"IF(AI187<=0,0,IF($D187<=SUM($BK188:BQ188),0,IF(BF188+$D187-SUM($BK188:BQ188)>AI187+AT188,AI187+AT188-BF188,$D187-SUM($BK188:BQ188))))","v":0},{"$f":"IF(AJ187<=0,0,IF($D187<=SUM($BK188:BR188),0,IF(BG188+$D187-SUM($BK188:BR188)>AJ187+AU188,AJ187+AU188-BG188,$D187-SUM($BK188:BR188))))","v":0},{"$f":"IF(AK187<=0,0,IF($D187<=SUM($BK188:BS188),0,IF(BH188+$D187-SUM($BK188:BS188)>AK187+AV188,AK187+AV188-BH188,$D187-SUM($BK188:BS188))))","v":0}]
[null,"","1913-12-01",0,0,0,0,0,0,0,0,0,0,0,null,null,null,null,null,null,null,null,null,null,null,null,0,0,0,0,0,0,0,0,0,0,0,null,0,0,0,0,0,0,0,0,0,0,0,null,0,0,0,0,0,0,0,0,0,0,0,null,0,{"$f":"IF(AC188<=0,0,IF($D188<=SUM($BK189:BK189),0,IF(AZ189+$D188-SUM($BK189:BK189)>AC188+AN189,AC188+AN189-AZ189,$D188-SUM($BK189:BK189))))","v":0},{"$f":"IF(AD188<=0,0,IF($D188<=SUM($BK189:BL189),0,IF(BA189+$D188-SUM($BK189:BL189)>AD188+AO189,AD188+AO189-BA189,$D188-SUM($BK189:BL189))))","v":0},{"$f":"IF(AE188<=0,0,IF($D188<=SUM($BK189:BM189),0,IF(BB189+$D188-SUM($BK189:BM189)>AE188+AP189,AE188+AP189-BB189,$D188-SUM($BK189:BM189))))","v":0},{"$f":"IF(AF188<=0,0,IF($D188<=SUM($BK189:BN189),0,IF(BC189+$D188-SUM($BK189:BN189)>AF188+AQ189,AF188+AQ189-BC189,$D188-SUM($BK189:BN189))))","v":0},{"$f":"IF(AG188<=0,0,IF($D188<=SUM($BK189:BO189),0,IF(BD189+$D188-SUM($BK189:BO189)>AG188+AR189,AG188+AR189-BD189,$D188-SUM($BK189:BO189))))","v":0},{"$f":"IF(AH188<=0,0,IF($D188<=SUM($BK189:BP189),0,IF(BE189+$D188-SUM($BK189:BP189)>AH188+AS189,AH188+AS189-BE189,$D188-SUM($BK189:BP189))))","v":0},{"$f":"IF(AI188<=0,0,IF($D188<=SUM($BK189:BQ189),0,IF(BF189+$D188-SUM($BK189:BQ189)>AI188+AT189,AI188+AT189-BF189,$D188-SUM($BK189:BQ189))))","v":0},{"$f":"IF(AJ188<=0,0,IF($D188<=SUM($BK189:BR189),0,IF(BG189+$D188-SUM($BK189:BR189)>AJ188+AU189,AJ188+AU189-BG189,$D188-SUM($BK189:BR189))))","v":0},{"$f":"IF(AK188<=0,0,IF($D188<=SUM($BK189:BS189),0,IF(BH189+$D188-SUM($BK189:BS189)>AK188+AV189,AK188+AV189-BH189,$D188-SUM($BK189:BS189))))","v":0}]
[null,"","1914-01-01",0,0,0,0,0,0,0,0,0,0,0,null,null,null,null,null,null,null,null,null,null,null,null,0,0,0,0,0,0,0,0,0,0,0,null,0,0,0,0,0,0,0,0,0,0,0,null,0,0,0,0,0,0,0,0,0,0,0,null,0,{"$f":"IF(AC189<=0,0,IF($D189<=SUM($BK190:BK190),0,IF(AZ190+$D189-SUM($BK190:BK190)>AC189+AN190,AC189+AN190-AZ190,$D189-SUM($BK190:BK190))))","v":0},{"$f":"IF(AD189<=0,0,IF($D189<=SUM($BK190:BL190),0,IF(BA190+$D189-SUM($BK190:BL190)>AD189+AO190,AD189+AO190-BA190,$D189-SUM($BK190:BL190))))","v":0},{"$f":"IF(AE189<=0,0,IF($D189<=SUM($BK190:BM190),0,IF(BB190+$D189-SUM($BK190:BM190)>AE189+AP190,AE189+AP190-BB190,$D189-SUM($BK190:BM190))))","v":0},{"$f":"IF(AF189<=0,0,IF($D189<=SUM($BK190:BN190),0,IF(BC190+$D189-SUM($BK190:BN190)>AF189+AQ190,AF189+AQ190-BC190,$D189-SUM($BK190:BN190))))","v":0},{"$f":"IF(AG189<=0,0,IF($D189<=SUM($BK190:BO190),0,IF(BD190+$D189-SUM($BK190:BO190)>AG189+AR190,AG189+AR190-BD190,$D189-SUM($BK190:BO190))))","v":0},{"$f":"IF(AH189<=0,0,IF($D189<=SUM($BK190:BP190),0,IF(BE190+$D189-SUM($BK190:BP190)>AH189+AS190,AH189+AS190-BE190,$D189-SUM($BK190:BP190))))","v":0},{"$f":"IF(AI189<=0,0,IF($D189<=SUM($BK190:BQ190),0,IF(BF190+$D189-SUM($BK190:BQ190)>AI189+AT190,AI189+AT190-BF190,$D189-SUM($BK190:BQ190))))","v":0},{"$f":"IF(AJ189<=0,0,IF($D189<=SUM($BK190:BR190),0,IF(BG190+$D189-SUM($BK190:BR190)>AJ189+AU190,AJ189+AU190-BG190,$D189-SUM($BK190:BR190))))","v":0},{"$f":"IF(AK189<=0,0,IF($D189<=SUM($BK190:BS190),0,IF(BH190+$D189-SUM($BK190:BS190)>AK189+AV190,AK189+AV190-BH190,$D189-SUM($BK190:BS190))))","v":0}]
[null,"","1914-02-01",0,0,0,0,0,0,0,0,0,0,0,null,null,null,null,null,null,null,null,null,null,null,null,0,0,0,0,0,0,0,0,0,0,0,null,0,0,0,0,0,0,0,0,0,0,0,null,0,0,0,0,0,0,0,0,0,0,0,null,0,{"$f":"IF(AC190<=0,0,IF($D190<=SUM($BK191:BK191),0,IF(AZ191+$D190-SUM($BK191:BK191)>AC190+AN191,AC190+AN191-AZ191,$D190-SUM($BK191:BK191))))","v":0},{"$f":"IF(AD190<=0,0,IF($D190<=SUM($BK191:BL191),0,IF(BA191+$D190-SUM($BK191:BL191)>AD190+AO191,AD190+AO191-BA191,$D190-SUM($BK191:BL191))))","v":0},{"$f":"IF(AE190<=0,0,IF($D190<=SUM($BK191:BM191),0,IF(BB191+$D190-SUM($BK191:BM191)>AE190+AP191,AE190+AP191-BB191,$D190-SUM($BK191:BM191))))","v":0},{"$f":"IF(AF190<=0,0,IF($D190<=SUM($BK191:BN191),0,IF(BC191+$D190-SUM($BK191:BN191)>AF190+AQ191,AF190+AQ191-BC191,$D190-SUM($BK191:BN191))))","v":0},{"$f":"IF(AG190<=0,0,IF($D190<=SUM($BK191:BO191),0,IF(BD191+$D190-SUM($BK191:BO191)>AG190+AR191,AG190+AR191-BD191,$D190-SUM($BK191:BO191))))","v":0},{"$f":"IF(AH190<=0,0,IF($D190<=SUM($BK191:BP191),0,IF(BE191+$D190-SUM($BK191:BP191)>AH190+AS191,AH190+AS191-BE191,$D190-SUM($BK191:BP191))))","v":0},{"$f":"IF(AI190<=0,0,IF($D190<=SUM($BK191:BQ191),0,IF(BF191+$D190-SUM($BK191:BQ191)>AI190+AT191,AI190+AT191-BF191,$D190-SUM($BK191:BQ191))))","v":0},{"$f":"IF(AJ190<=0,0,IF($D190<=SUM($BK191:BR191),0,IF(BG191+$D190-SUM($BK191:BR191)>AJ190+AU191,AJ190+AU191-BG191,$D190-SUM($BK191:BR191))))","v":0},{"$f":"IF(AK190<=0,0,IF($D190<=SUM($BK191:BS191),0,IF(BH191+$D190-SUM($BK191:BS191)>AK190+AV191,AK190+AV191-BH191,$D190-SUM($BK191:BS191))))","v":0}]
[null,"","1914-03-01",0,0,0,0,0,0,0,0,0,0,0,null,null,null,null,null,null,null,null,null,null,null,null,0,0,0,0,0,0,0,0,0,0,0,null,0,0,0,0,0,0,0,0,0,0,0,null,0,0,0,0,0,0,0,0,0,0,0,null,0,{"$f":"IF(AC191<=0,0,IF($D191<=SUM($BK192:BK192),0,IF(AZ192+$D191-SUM($BK192:BK192)>AC191+AN192,AC191+AN192-AZ192,$D191-SUM($BK192:BK192))))","v":0},{"$f":"IF(AD191<=0,0,IF($D191<=SUM($BK192:BL192),0,IF(BA192+$D191-SUM($BK192:BL192)>AD191+AO192,AD191+AO192-BA192,$D191-SUM($BK192:BL192))))","v":0},{"$f":"IF(AE191<=0,0,IF($D191<=SUM($BK192:BM192),0,IF(BB192+$D191-SUM($BK192:BM192)>AE191+AP192,AE191+AP192-BB192,$D191-SUM($BK192:BM192))))","v":0},{"$f":"IF(AF191<=0,0,IF($D191<=SUM($BK192:BN192),0,IF(BC192+$D191-SUM($BK192:BN192)>AF191+AQ192,AF191+AQ192-BC192,$D191-SUM($BK192:BN192))))","v":0},{"$f":"IF(AG191<=0,0,IF($D191<=SUM($BK192:BO192),0,IF(BD192+$D191-SUM($BK192:BO192)>AG191+AR192,AG191+AR192-BD192,$D191-SUM($BK192:BO192))))","v":0},{"$f":"IF(AH191<=0,0,IF($D191<=SUM($BK192:BP192),0,IF(BE192+$D191-SUM($BK192:BP192)>AH191+AS192,AH191+AS192-BE192,$D191-SUM($BK192:BP192))))","v":0},{"$f":"IF(AI191<=0,0,IF($D191<=SUM($BK192:BQ192),0,IF(BF192+$D191-SUM($BK192:BQ192)>AI191+AT192,AI191+AT192-BF192,$D191-SUM($BK192:BQ192))))","v":0},{"$f":"IF(AJ191<=0,0,IF($D191<=SUM($BK192:BR192),0,IF(BG192+$D191-SUM($BK192:BR192)>AJ191+AU192,AJ191+AU192-BG192,$D191-SUM($BK192:BR192))))","v":0},{"$f":"IF(AK191<=0,0,IF($D191<=SUM($BK192:BS192),0,IF(BH192+$D191-SUM($BK192:BS192)>AK191+AV192,AK191+AV192-BH192,$D191-SUM($BK192:BS192))))","v":0}]
[null,"","1914-04-01",0,0,0,0,0,0,0,0,0,0,0,null,null,null,null,null,null,null,null,null,null,null,null,0,0,0,0,0,0,0,0,0,0,0,null,0,0,0,0,0,0,0,0,0,0,0,null,0,0,0,0,0,0,0,0,0,0,0,null,0,{"$f":"IF(AC192<=0,0,IF($D192<=SUM($BK193:BK193),0,IF(AZ193+$D192-SUM($BK193:BK193)>AC192+AN193,AC192+AN193-AZ193,$D192-SUM($BK193:BK193))))","v":0},{"$f":"IF(AD192<=0,0,IF($D192<=SUM($BK193:BL193),0,IF(BA193+$D192-SUM($BK193:BL193)>AD192+AO193,AD192+AO193-BA193,$D192-SUM($BK193:BL193))))","v":0},{"$f":"IF(AE192<=0,0,IF($D192<=SUM($BK193:BM193),0,IF(BB193+$D192-SUM($BK193:BM193)>AE192+AP193,AE192+AP193-BB193,$D192-SUM($BK193:BM193))))","v":0},{"$f":"IF(AF192<=0,0,IF($D192<=SUM($BK193:BN193),0,IF(BC193+$D192-SUM($BK193:BN193)>AF192+AQ193,AF192+AQ193-BC193,$D192-SUM($BK193:BN193))))","v":0},{"$f":"IF(AG192<=0,0,IF($D192<=SUM($BK193:BO193),0,IF(BD193+$D192-SUM($BK193:BO193)>AG192+AR193,AG192+AR193-BD193,$D192-SUM($BK193:BO193))))","v":0},{"$f":"IF(AH192<=0,0,IF($D192<=SUM($BK193:BP193),0,IF(BE193+$D192-SUM($BK193:BP193)>AH192+AS193,AH192+AS193-BE193,$D192-SUM($BK193:BP193))))","v":0},{"$f":"IF(AI192<=0,0,IF($D192<=SUM($BK193:BQ193),0,IF(BF193+$D192-SUM($BK193:BQ193)>AI192+AT193,AI192+AT193-BF193,$D192-SUM($BK193:BQ193))))","v":0},{"$f":"IF(AJ192<=0,0,IF($D192<=SUM($BK193:BR193),0,IF(BG193+$D192-SUM($BK193:BR193)>AJ192+AU193,AJ192+AU193-BG193,$D192-SUM($BK193:BR193))))","v":0},{"$f":"IF(AK192<=0,0,IF($D192<=SUM($BK193:BS193),0,IF(BH193+$D192-SUM($BK193:BS193)>AK192+AV193,AK192+AV193-BH193,$D192-SUM($BK193:BS193))))","v":0}]
[null,"","1914-05-01",0,0,0,0,0,0,0,0,0,0,0,null,null,null,null,null,null,null,null,null,null,null,null,0,0,0,0,0,0,0,0,0,0,0,null,0,0,0,0,0,0,0,0,0,0,0,null,0,0,0,0,0,0,0,0,0,0,0,null,0,{"$f":"IF(AC193<=0,0,IF($D193<=SUM($BK194:BK194),0,IF(AZ194+$D193-SUM($BK194:BK194)>AC193+AN194,AC193+AN194-AZ194,$D193-SUM($BK194:BK194))))","v":0},{"$f":"IF(AD193<=0,0,IF($D193<=SUM($BK194:BL194),0,IF(BA194+$D193-SUM($BK194:BL194)>AD193+AO194,AD193+AO194-BA194,$D193-SUM($BK194:BL194))))","v":0},{"$f":"IF(AE193<=0,0,IF($D193<=SUM($BK194:BM194),0,IF(BB194+$D193-SUM($BK194:BM194)>AE193+AP194,AE193+AP194-BB194,$D193-SUM($BK194:BM194))))","v":0},{"$f":"IF(AF193<=0,0,IF($D193<=SUM($BK194:BN194),0,IF(BC194+$D193-SUM($BK194:BN194)>AF193+AQ194,AF193+AQ194-BC194,$D193-SUM($BK194:BN194))))","v":0},{"$f":"IF(AG193<=0,0,IF($D193<=SUM($BK194:BO194),0,IF(BD194+$D193-SUM($BK194:BO194)>AG193+AR194,AG193+AR194-BD194,$D193-SUM($BK194:BO194))))","v":0},{"$f":"IF(AH193<=0,0,IF($D193<=SUM($BK194:BP194),0,IF(BE194+$D193-SUM($BK194:BP194)>AH193+AS194,AH193+AS194-BE194,$D193-SUM($BK194:BP194))))","v":0},{"$f":"IF(AI193<=0,0,IF($D193<=SUM($BK194:BQ194),0,IF(BF194+$D193-SUM($BK194:BQ194)>AI193+AT194,AI193+AT194-BF194,$D193-SUM($BK194:BQ194))))","v":0},{"$f":"IF(AJ193<=0,0,IF($D193<=SUM($BK194:BR194),0,IF(BG194+$D193-SUM($BK194:BR194)>AJ193+AU194,AJ193+AU194-BG194,$D193-SUM($BK194:BR194))))","v":0},{"$f":"IF(AK193<=0,0,IF($D193<=SUM($BK194:BS194),0,IF(BH194+$D193-SUM($BK194:BS194)>AK193+AV194,AK193+AV194-BH194,$D193-SUM($BK194:BS194))))","v":0}]
[null,"","1914-06-01",0,0,0,0,0,0,0,0,0,0,0,null,null,null,null,null,null,null,null,null,null,null,null,0,0,0,0,0,0,0,0,0,0,0,null,0,0,0,0,0,0,0,0,0,0,0,null,0,0,0,0,0,0,0,0,0,0,0,null,0,{"$f":"IF(AC194<=0,0,IF($D194<=SUM($BK195:BK195),0,IF(AZ195+$D194-SUM($BK195:BK195)>AC194+AN195,AC194+AN195-AZ195,$D194-SUM($BK195:BK195))))","v":0},{"$f":"IF(AD194<=0,0,IF($D194<=SUM($BK195:BL195),0,IF(BA195+$D194-SUM($BK195:BL195)>AD194+AO195,AD194+AO195-BA195,$D194-SUM($BK195:BL195))))","v":0},{"$f":"IF(AE194<=0,0,IF($D194<=SUM($BK195:BM195),0,IF(BB195+$D194-SUM($BK195:BM195)>AE194+AP195,AE194+AP195-BB195,$D194-SUM($BK195:BM195))))","v":0},{"$f":"IF(AF194<=0,0,IF($D194<=SUM($BK195:BN195),0,IF(BC195+$D194-SUM($BK195:BN195)>AF194+AQ195,AF194+AQ195-BC195,$D194-SUM($BK195:BN195))))","v":0},{"$f":"IF(AG194<=0,0,IF($D194<=SUM($BK195:BO195),0,IF(BD195+$D194-SUM($BK195:BO195)>AG194+AR195,AG194+AR195-BD195,$D194-SUM($BK195:BO195))))","v":0},{"$f":"IF(AH194<=0,0,IF($D194<=SUM($BK195:BP195),0,IF(BE195+$D194-SUM($BK195:BP195)>AH194+AS195,AH194+AS195-BE195,$D194-SUM($BK195:BP195))))","v":0},{"$f":"IF(AI194<=0,0,IF($D194<=SUM($BK195:BQ195),0,IF(BF195+$D194-SUM($BK195:BQ195)>AI194+AT195,AI194+AT195-BF195,$D194-SUM($BK195:BQ195))))","v":0},{"$f":"IF(AJ194<=0,0,IF($D194<=SUM($BK195:BR195),0,IF(BG195+$D194-SUM($BK195:BR195)>AJ194+AU195,AJ194+AU195-BG195,$D194-SUM($BK195:BR195))))","v":0},{"$f":"IF(AK194<=0,0,IF($D194<=SUM($BK195:BS195),0,IF(BH195+$D194-SUM($BK195:BS195)>AK194+AV195,AK194+AV195-BH195,$D194-SUM($BK195:BS195))))","v":0}]
[null,"","1914-07-01",0,0,0,0,0,0,0,0,0,0,0,null,null,null,null,null,null,null,null,null,null,null,null,0,0,0,0,0,0,0,0,0,0,0,null,0,0,0,0,0,0,0,0,0,0,0,null,0,0,0,0,0,0,0,0,0,0,0,null,0,{"$f":"IF(AC195<=0,0,IF($D195<=SUM($BK196:BK196),0,IF(AZ196+$D195-SUM($BK196:BK196)>AC195+AN196,AC195+AN196-AZ196,$D195-SUM($BK196:BK196))))","v":0},{"$f":"IF(AD195<=0,0,IF($D195<=SUM($BK196:BL196),0,IF(BA196+$D195-SUM($BK196:BL196)>AD195+AO196,AD195+AO196-BA196,$D195-SUM($BK196:BL196))))","v":0},{"$f":"IF(AE195<=0,0,IF($D195<=SUM($BK196:BM196),0,IF(BB196+$D195-SUM($BK196:BM196)>AE195+AP196,AE195+AP196-BB196,$D195-SUM($BK196:BM196))))","v":0},{"$f":"IF(AF195<=0,0,IF($D195<=SUM($BK196:BN196),0,IF(BC196+$D195-SUM($BK196:BN196)>AF195+AQ196,AF195+AQ196-BC196,$D195-SUM($BK196:BN196))))","v":0},{"$f":"IF(AG195<=0,0,IF($D195<=SUM($BK196:BO196),0,IF(BD196+$D195-SUM($BK196:BO196)>AG195+AR196,AG195+AR196-BD196,$D195-SUM($BK196:BO196))))","v":0},{"$f":"IF(AH195<=0,0,IF($D195<=SUM($BK196:BP196),0,IF(BE196+$D195-SUM($BK196:BP196)>AH195+AS196,AH195+AS196-BE196,$D195-SUM($BK196:BP196))))","v":0},{"$f":"IF(AI195<=0,0,IF($D195<=SUM($BK196:BQ196),0,IF(BF196+$D195-SUM($BK196:BQ196)>AI195+AT196,AI195+AT196-BF196,$D195-SUM($BK196:BQ196))))","v":0},{"$f":"IF(AJ195<=0,0,IF($D195<=SUM($BK196:BR196),0,IF(BG196+$D195-SUM($BK196:BR196)>AJ195+AU196,AJ195+AU196-BG196,$D195-SUM($BK196:BR196))))","v":0},{"$f":"IF(AK195<=0,0,IF($D195<=SUM($BK196:BS196),0,IF(BH196+$D195-SUM($BK196:BS196)>AK195+AV196,AK195+AV196-BH196,$D195-SUM($BK196:BS196))))","v":0}]
[null,"","1914-08-01",0,0,0,0,0,0,0,0,0,0,0,null,null,null,null,null,null,null,null,null,null,null,null,0,0,0,0,0,0,0,0,0,0,0,null,0,0,0,0,0,0,0,0,0,0,0,null,0,0,0,0,0,0,0,0,0,0,0,null,0,{"$f":"IF(AC196<=0,0,IF($D196<=SUM($BK197:BK197),0,IF(AZ197+$D196-SUM($BK197:BK197)>AC196+AN197,AC196+AN197-AZ197,$D196-SUM($BK197:BK197))))","v":0},{"$f":"IF(AD196<=0,0,IF($D196<=SUM($BK197:BL197),0,IF(BA197+$D196-SUM($BK197:BL197)>AD196+AO197,AD196+AO197-BA197,$D196-SUM($BK197:BL197))))","v":0},{"$f":"IF(AE196<=0,0,IF($D196<=SUM($BK197:BM197),0,IF(BB197+$D196-SUM($BK197:BM197)>AE196+AP197,AE196+AP197-BB197,$D196-SUM($BK197:BM197))))","v":0},{"$f":"IF(AF196<=0,0,IF($D196<=SUM($BK197:BN197),0,IF(BC197+$D196-SUM($BK197:BN197)>AF196+AQ197,AF196+AQ197-BC197,$D196-SUM($BK197:BN197))))","v":0},{"$f":"IF(AG196<=0,0,IF($D196<=SUM($BK197:BO197),0,IF(BD197+$D196-SUM($BK197:BO197)>AG196+AR197,AG196+AR197-BD197,$D196-SUM($BK197:BO197))))","v":0},{"$f":"IF(AH196<=0,0,IF($D196<=SUM($BK197:BP197),0,IF(BE197+$D196-SUM($BK197:BP197)>AH196+AS197,AH196+AS197-BE197,$D196-SUM($BK197:BP197))))","v":0},{"$f":"IF(AI196<=0,0,IF($D196<=SUM($BK197:BQ197),0,IF(BF197+$D196-SUM($BK197:BQ197)>AI196+AT197,AI196+AT197-BF197,$D196-SUM($BK197:BQ197))))","v":0},{"$f":"IF(AJ196<=0,0,IF($D196<=SUM($BK197:BR197),0,IF(BG197+$D196-SUM($BK197:BR197)>AJ196+AU197,AJ196+AU197-BG197,$D196-SUM($BK197:BR197))))","v":0},{"$f":"IF(AK196<=0,0,IF($D196<=SUM($BK197:BS197),0,IF(BH197+$D196-SUM($BK197:BS197)>AK196+AV197,AK196+AV197-BH197,$D196-SUM($BK197:BS197))))","v":0}]
[null,"","1914-09-01",0,0,0,0,0,0,0,0,0,0,0,null,null,null,null,null,null,null,null,null,null,null,null,0,0,0,0,0,0,0,0,0,0,0,null,0,0,0,0,0,0,0,0,0,0,0,null,0,0,0,0,0,0,0,0,0,0,0,null,0,{"$f":"IF(AC197<=0,0,IF($D197<=SUM($BK198:BK198),0,IF(AZ198+$D197-SUM($BK198:BK198)>AC197+AN198,AC197+AN198-AZ198,$D197-SUM($BK198:BK198))))","v":0},{"$f":"IF(AD197<=0,0,IF($D197<=SUM($BK198:BL198),0,IF(BA198+$D197-SUM($BK198:BL198)>AD197+AO198,AD197+AO198-BA198,$D197-SUM($BK198:BL198))))","v":0},{"$f":"IF(AE197<=0,0,IF($D197<=SUM($BK198:BM198),0,IF(BB198+$D197-SUM($BK198:BM198)>AE197+AP198,AE197+AP198-BB198,$D197-SUM($BK198:BM198))))","v":0},{"$f":"IF(AF197<=0,0,IF($D197<=SUM($BK198:BN198),0,IF(BC198+$D197-SUM($BK198:BN198)>AF197+AQ198,AF197+AQ198-BC198,$D197-SUM($BK198:BN198))))","v":0},{"$f":"IF(AG197<=0,0,IF($D197<=SUM($BK198:BO198),0,IF(BD198+$D197-SUM($BK198:BO198)>AG197+AR198,AG197+AR198-BD198,$D197-SUM($BK198:BO198))))","v":0},{"$f":"IF(AH197<=0,0,IF($D197<=SUM($BK198:BP198),0,IF(BE198+$D197-SUM($BK198:BP198)>AH197+AS198,AH197+AS198-BE198,$D197-SUM($BK198:BP198))))","v":0},{"$f":"IF(AI197<=0,0,IF($D197<=SUM($BK198:BQ198),0,IF(BF198+$D197-SUM($BK198:BQ198)>AI197+AT198,AI197+AT198-BF198,$D197-SUM($BK198:BQ198))))","v":0},{"$f":"IF(AJ197<=0,0,IF($D197<=SUM($BK198:BR198),0,IF(BG198+$D197-SUM($BK198:BR198)>AJ197+AU198,AJ197+AU198-BG198,$D197-SUM($BK198:BR198))))","v":0},{"$f":"IF(AK197<=0,0,IF($D197<=SUM($BK198:BS198),0,IF(BH198+$D197-SUM($BK198:BS198)>AK197+AV198,AK197+AV198-BH198,$D197-SUM($BK198:BS198))))","v":0}]
[null,"","1914-10-01",0,0,0,0,0,0,0,0,0,0,0,null,null,null,null,null,null,null,null,null,null,null,null,0,0,0,0,0,0,0,0,0,0,0,null,0,0,0,0,0,0,0,0,0,0,0,null,0,0,0,0,0,0,0,0,0,0,0,null,0,{"$f":"IF(AC198<=0,0,IF($D198<=SUM($BK199:BK199),0,IF(AZ199+$D198-SUM($BK199:BK199)>AC198+AN199,AC198+AN199-AZ199,$D198-SUM($BK199:BK199))))","v":0},{"$f":"IF(AD198<=0,0,IF($D198<=SUM($BK199:BL199),0,IF(BA199+$D198-SUM($BK199:BL199)>AD198+AO199,AD198+AO199-BA199,$D198-SUM($BK199:BL199))))","v":0},{"$f":"IF(AE198<=0,0,IF($D198<=SUM($BK199:BM199),0,IF(BB199+$D198-SUM($BK199:BM199)>AE198+AP199,AE198+AP199-BB199,$D198-SUM($BK199:BM199))))","v":0},{"$f":"IF(AF198<=0,0,IF($D198<=SUM($BK199:BN199),0,IF(BC199+$D198-SUM($BK199:BN199)>AF198+AQ199,AF198+AQ199-BC199,$D198-SUM($BK199:BN199))))","v":0},{"$f":"IF(AG198<=0,0,IF($D198<=SUM($BK199:BO199),0,IF(BD199+$D198-SUM($BK199:BO199)>AG198+AR199,AG198+AR199-BD199,$D198-SUM($BK199:BO199))))","v":0},{"$f":"IF(AH198<=0,0,IF($D198<=SUM($BK199:BP199),0,IF(BE199+$D198-SUM($BK199:BP199)>AH198+AS199,AH198+AS199-BE199,$D198-SUM($BK199:BP199))))","v":0},{"$f":"IF(AI198<=0,0,IF($D198<=SUM($BK199:BQ199),0,IF(BF199+$D198-SUM($BK199:BQ199)>AI198+AT199,AI198+AT199-BF199,$D198-SUM($BK199:BQ199))))","v":0},{"$f":"IF(AJ198<=0,0,IF($D198<=SUM($BK199:BR199),0,IF(BG199+$D198-SUM($BK199:BR199)>AJ198+AU199,AJ198+AU199-BG199,$D198-SUM($BK199:BR199))))","v":0},{"$f":"IF(AK198<=0,0,IF($D198<=SUM($BK199:BS199),0,IF(BH199+$D198-SUM($BK199:BS199)>AK198+AV199,AK198+AV199-BH199,$D198-SUM($BK199:BS199))))","v":0}]
[null,"","1914-11-01",0,0,0,0,0,0,0,0,0,0,0,null,null,null,null,null,null,null,null,null,null,null,null,0,0,0,0,0,0,0,0,0,0,0,null,0,0,0,0,0,0,0,0,0,0,0,null,0,0,0,0,0,0,0,0,0,0,0,null,0,{"$f":"IF(AC199<=0,0,IF($D199<=SUM($BK200:BK200),0,IF(AZ200+$D199-SUM($BK200:BK200)>AC199+AN200,AC199+AN200-AZ200,$D199-SUM($BK200:BK200))))","v":0},{"$f":"IF(AD199<=0,0,IF($D199<=SUM($BK200:BL200),0,IF(BA200+$D199-SUM($BK200:BL200)>AD199+AO200,AD199+AO200-BA200,$D199-SUM($BK200:BL200))))","v":0},{"$f":"IF(AE199<=0,0,IF($D199<=SUM($BK200:BM200),0,IF(BB200+$D199-SUM($BK200:BM200)>AE199+AP200,AE199+AP200-BB200,$D199-SUM($BK200:BM200))))","v":0},{"$f":"IF(AF199<=0,0,IF($D199<=SUM($BK200:BN200),0,IF(BC200+$D199-SUM($BK200:BN200)>AF199+AQ200,AF199+AQ200-BC200,$D199-SUM($BK200:BN200))))","v":0},{"$f":"IF(AG199<=0,0,IF($D199<=SUM($BK200:BO200),0,IF(BD200+$D199-SUM($BK200:BO200)>AG199+AR200,AG199+AR200-BD200,$D199-SUM($BK200:BO200))))","v":0},{"$f":"IF(AH199<=0,0,IF($D199<=SUM($BK200:BP200),0,IF(BE200+$D199-SUM($BK200:BP200)>AH199+AS200,AH199+AS200-BE200,$D199-SUM($BK200:BP200))))","v":0},{"$f":"IF(AI199<=0,0,IF($D199<=SUM($BK200:BQ200),0,IF(BF200+$D199-SUM($BK200:BQ200)>AI199+AT200,AI199+AT200-BF200,$D199-SUM($BK200:BQ200))))","v":0},{"$f":"IF(AJ199<=0,0,IF($D199<=SUM($BK200:BR200),0,IF(BG200+$D199-SUM($BK200:BR200)>AJ199+AU200,AJ199+AU200-BG200,$D199-SUM($BK200:BR200))))","v":0},{"$f":"IF(AK199<=0,0,IF($D199<=SUM($BK200:BS200),0,IF(BH200+$D199-SUM($BK200:BS200)>AK199+AV200,AK199+AV200-BH200,$D199-SUM($BK200:BS200))))","v":0}]
[null,"","1914-12-01",0,0,0,0,0,0,0,0,0,0,0,null,null,null,null,null,null,null,null,null,null,null,null,0,0,0,0,0,0,0,0,0,0,0,null,0,0,0,0,0,0,0,0,0,0,0,null,0,0,0,0,0,0,0,0,0,0,0,null,0,{"$f":"IF(AC200<=0,0,IF($D200<=SUM($BK201:BK201),0,IF(AZ201+$D200-SUM($BK201:BK201)>AC200+AN201,AC200+AN201-AZ201,$D200-SUM($BK201:BK201))))","v":0},{"$f":"IF(AD200<=0,0,IF($D200<=SUM($BK201:BL201),0,IF(BA201+$D200-SUM($BK201:BL201)>AD200+AO201,AD200+AO201-BA201,$D200-SUM($BK201:BL201))))","v":0},{"$f":"IF(AE200<=0,0,IF($D200<=SUM($BK201:BM201),0,IF(BB201+$D200-SUM($BK201:BM201)>AE200+AP201,AE200+AP201-BB201,$D200-SUM($BK201:BM201))))","v":0},{"$f":"IF(AF200<=0,0,IF($D200<=SUM($BK201:BN201),0,IF(BC201+$D200-SUM($BK201:BN201)>AF200+AQ201,AF200+AQ201-BC201,$D200-SUM($BK201:BN201))))","v":0},{"$f":"IF(AG200<=0,0,IF($D200<=SUM($BK201:BO201),0,IF(BD201+$D200-SUM($BK201:BO201)>AG200+AR201,AG200+AR201-BD201,$D200-SUM($BK201:BO201))))","v":0},{"$f":"IF(AH200<=0,0,IF($D200<=SUM($BK201:BP201),0,IF(BE201+$D200-SUM($BK201:BP201)>AH200+AS201,AH200+AS201-BE201,$D200-SUM($BK201:BP201))))","v":0},{"$f":"IF(AI200<=0,0,IF($D200<=SUM($BK201:BQ201),0,IF(BF201+$D200-SUM($BK201:BQ201)>AI200+AT201,AI200+AT201-BF201,$D200-SUM($BK201:BQ201))))","v":0},{"$f":"IF(AJ200<=0,0,IF($D200<=SUM($BK201:BR201),0,IF(BG201+$D200-SUM($BK201:BR201)>AJ200+AU201,AJ200+AU201-BG201,$D200-SUM($BK201:BR201))))","v":0},{"$f":"IF(AK200<=0,0,IF($D200<=SUM($BK201:BS201),0,IF(BH201+$D200-SUM($BK201:BS201)>AK200+AV201,AK200+AV201-BH201,$D200-SUM($BK201:BS201))))","v":0}]
[null,"","1915-01-01",0,0,0,0,0,0,0,0,0,0,0,null,null,null,null,null,null,null,null,null,null,null,null,0,0,0,0,0,0,0,0,0,0,0,null,0,0,0,0,0,0,0,0,0,0,0,null,0,0,0,0,0,0,0,0,0,0,0,null,0,{"$f":"IF(AC201<=0,0,IF($D201<=SUM($BK202:BK202),0,IF(AZ202+$D201-SUM($BK202:BK202)>AC201+AN202,AC201+AN202-AZ202,$D201-SUM($BK202:BK202))))","v":0},{"$f":"IF(AD201<=0,0,IF($D201<=SUM($BK202:BL202),0,IF(BA202+$D201-SUM($BK202:BL202)>AD201+AO202,AD201+AO202-BA202,$D201-SUM($BK202:BL202))))","v":0},{"$f":"IF(AE201<=0,0,IF($D201<=SUM($BK202:BM202),0,IF(BB202+$D201-SUM($BK202:BM202)>AE201+AP202,AE201+AP202-BB202,$D201-SUM($BK202:BM202))))","v":0},{"$f":"IF(AF201<=0,0,IF($D201<=SUM($BK202:BN202),0,IF(BC202+$D201-SUM($BK202:BN202)>AF201+AQ202,AF201+AQ202-BC202,$D201-SUM($BK202:BN202))))","v":0},{"$f":"IF(AG201<=0,0,IF($D201<=SUM($BK202:BO202),0,IF(BD202+$D201-SUM($BK202:BO202)>AG201+AR202,AG201+AR202-BD202,$D201-SUM($BK202:BO202))))","v":0},{"$f":"IF(AH201<=0,0,IF($D201<=SUM($BK202:BP202),0,IF(BE202+$D201-SUM($BK202:BP202)>AH201+AS202,AH201+AS202-BE202,$D201-SUM($BK202:BP202))))","v":0},{"$f":"IF(AI201<=0,0,IF($D201<=SUM($BK202:BQ202),0,IF(BF202+$D201-SUM($BK202:BQ202)>AI201+AT202,AI201+AT202-BF202,$D201-SUM($BK202:BQ202))))","v":0},{"$f":"IF(AJ201<=0,0,IF($D201<=SUM($BK202:BR202),0,IF(BG202+$D201-SUM($BK202:BR202)>AJ201+AU202,AJ201+AU202-BG202,$D201-SUM($BK202:BR202))))","v":0},{"$f":"IF(AK201<=0,0,IF($D201<=SUM($BK202:BS202),0,IF(BH202+$D201-SUM($BK202:BS202)>AK201+AV202,AK201+AV202-BH202,$D201-SUM($BK202:BS202))))","v":0}]
[null,"","1915-02-01",0,0,0,0,0,0,0,0,0,0,0,null,null,null,null,null,null,null,null,null,null,null,null,0,0,0,0,0,0,0,0,0,0,0,null,0,0,0,0,0,0,0,0,0,0,0,null,0,0,0,0,0,0,0,0,0,0,0,null,0,{"$f":"IF(AC202<=0,0,IF($D202<=SUM($BK203:BK203),0,IF(AZ203+$D202-SUM($BK203:BK203)>AC202+AN203,AC202+AN203-AZ203,$D202-SUM($BK203:BK203))))","v":0},{"$f":"IF(AD202<=0,0,IF($D202<=SUM($BK203:BL203),0,IF(BA203+$D202-SUM($BK203:BL203)>AD202+AO203,AD202+AO203-BA203,$D202-SUM($BK203:BL203))))","v":0},{"$f":"IF(AE202<=0,0,IF($D202<=SUM($BK203:BM203),0,IF(BB203+$D202-SUM($BK203:BM203)>AE202+AP203,AE202+AP203-BB203,$D202-SUM($BK203:BM203))))","v":0},{"$f":"IF(AF202<=0,0,IF($D202<=SUM($BK203:BN203),0,IF(BC203+$D202-SUM($BK203:BN203)>AF202+AQ203,AF202+AQ203-BC203,$D202-SUM($BK203:BN203))))","v":0},{"$f":"IF(AG202<=0,0,IF($D202<=SUM($BK203:BO203),0,IF(BD203+$D202-SUM($BK203:BO203)>AG202+AR203,AG202+AR203-BD203,$D202-SUM($BK203:BO203))))","v":0},{"$f":"IF(AH202<=0,0,IF($D202<=SUM($BK203:BP203),0,IF(BE203+$D202-SUM($BK203:BP203)>AH202+AS203,AH202+AS203-BE203,$D202-SUM($BK203:BP203))))","v":0},{"$f":"IF(AI202<=0,0,IF($D202<=SUM($BK203:BQ203),0,IF(BF203+$D202-SUM($BK203:BQ203)>AI202+AT203,AI202+AT203-BF203,$D202-SUM($BK203:BQ203))))","v":0},{"$f":"IF(AJ202<=0,0,IF($D202<=SUM($BK203:BR203),0,IF(BG203+$D202-SUM($BK203:BR203)>AJ202+AU203,AJ202+AU203-BG203,$D202-SUM($BK203:BR203))))","v":0},{"$f":"IF(AK202<=0,0,IF($D202<=SUM($BK203:BS203),0,IF(BH203+$D202-SUM($BK203:BS203)>AK202+AV203,AK202+AV203-BH203,$D202-SUM($BK203:BS203))))","v":0}]
[null,"","1915-03-01",0,0,0,0,0,0,0,0,0,0,0,null,null,null,null,null,null,null,null,null,null,null,null,0,0,0,0,0,0,0,0,0,0,0,null,0,0,0,0,0,0,0,0,0,0,0,null,0,0,0,0,0,0,0,0,0,0,0,null,0,{"$f":"IF(AC203<=0,0,IF($D203<=SUM($BK204:BK204),0,IF(AZ204+$D203-SUM($BK204:BK204)>AC203+AN204,AC203+AN204-AZ204,$D203-SUM($BK204:BK204))))","v":0},{"$f":"IF(AD203<=0,0,IF($D203<=SUM($BK204:BL204),0,IF(BA204+$D203-SUM($BK204:BL204)>AD203+AO204,AD203+AO204-BA204,$D203-SUM($BK204:BL204))))","v":0},{"$f":"IF(AE203<=0,0,IF($D203<=SUM($BK204:BM204),0,IF(BB204+$D203-SUM($BK204:BM204)>AE203+AP204,AE203+AP204-BB204,$D203-SUM($BK204:BM204))))","v":0},{"$f":"IF(AF203<=0,0,IF($D203<=SUM($BK204:BN204),0,IF(BC204+$D203-SUM($BK204:BN204)>AF203+AQ204,AF203+AQ204-BC204,$D203-SUM($BK204:BN204))))","v":0},{"$f":"IF(AG203<=0,0,IF($D203<=SUM($BK204:BO204),0,IF(BD204+$D203-SUM($BK204:BO204)>AG203+AR204,AG203+AR204-BD204,$D203-SUM($BK204:BO204))))","v":0},{"$f":"IF(AH203<=0,0,IF($D203<=SUM($BK204:BP204),0,IF(BE204+$D203-SUM($BK204:BP204)>AH203+AS204,AH203+AS204-BE204,$D203-SUM($BK204:BP204))))","v":0},{"$f":"IF(AI203<=0,0,IF($D203<=SUM($BK204:BQ204),0,IF(BF204+$D203-SUM($BK204:BQ204)>AI203+AT204,AI203+AT204-BF204,$D203-SUM($BK204:BQ204))))","v":0},{"$f":"IF(AJ203<=0,0,IF($D203<=SUM($BK204:BR204),0,IF(BG204+$D203-SUM($BK204:BR204)>AJ203+AU204,AJ203+AU204-BG204,$D203-SUM($BK204:BR204))))","v":0},{"$f":"IF(AK203<=0,0,IF($D203<=SUM($BK204:BS204),0,IF(BH204+$D203-SUM($BK204:BS204)>AK203+AV204,AK203+AV204-BH204,$D203-SUM($BK204:BS204))))","v":0}]
[null,"","1915-04-01",0,0,0,0,0,0,0,0,0,0,0,null,null,null,null,null,null,null,null,null,null,null,null,0,0,0,0,0,0,0,0,0,0,0,null,0,0,0,0,0,0,0,0,0,0,0,null,0,0,0,0,0,0,0,0,0,0,0,null,0,{"$f":"IF(AC204<=0,0,IF($D204<=SUM($BK205:BK205),0,IF(AZ205+$D204-SUM($BK205:BK205)>AC204+AN205,AC204+AN205-AZ205,$D204-SUM($BK205:BK205))))","v":0},{"$f":"IF(AD204<=0,0,IF($D204<=SUM($BK205:BL205),0,IF(BA205+$D204-SUM($BK205:BL205)>AD204+AO205,AD204+AO205-BA205,$D204-SUM($BK205:BL205))))","v":0},{"$f":"IF(AE204<=0,0,IF($D204<=SUM($BK205:BM205),0,IF(BB205+$D204-SUM($BK205:BM205)>AE204+AP205,AE204+AP205-BB205,$D204-SUM($BK205:BM205))))","v":0},{"$f":"IF(AF204<=0,0,IF($D204<=SUM($BK205:BN205),0,IF(BC205+$D204-SUM($BK205:BN205)>AF204+AQ205,AF204+AQ205-BC205,$D204-SUM($BK205:BN205))))","v":0},{"$f":"IF(AG204<=0,0,IF($D204<=SUM($BK205:BO205),0,IF(BD205+$D204-SUM($BK205:BO205)>AG204+AR205,AG204+AR205-BD205,$D204-SUM($BK205:BO205))))","v":0},{"$f":"IF(AH204<=0,0,IF($D204<=SUM($BK205:BP205),0,IF(BE205+$D204-SUM($BK205:BP205)>AH204+AS205,AH204+AS205-BE205,$D204-SUM($BK205:BP205))))","v":0},{"$f":"IF(AI204<=0,0,IF($D204<=SUM($BK205:BQ205),0,IF(BF205+$D204-SUM($BK205:BQ205)>AI204+AT205,AI204+AT205-BF205,$D204-SUM($BK205:BQ205))))","v":0},{"$f":"IF(AJ204<=0,0,IF($D204<=SUM($BK205:BR205),0,IF(BG205+$D204-SUM($BK205:BR205)>AJ204+AU205,AJ204+AU205-BG205,$D204-SUM($BK205:BR205))))","v":0},{"$f":"IF(AK204<=0,0,IF($D204<=SUM($BK205:BS205),0,IF(BH205+$D204-SUM($BK205:BS205)>AK204+AV205,AK204+AV205-BH205,$D204-SUM($BK205:BS205))))","v":0}]
[null,"","1915-05-01",0,0,0,0,0,0,0,0,0,0,0,null,null,null,null,null,null,null,null,null,null,null,null,0,0,0,0,0,0,0,0,0,0,0,null,0,0,0,0,0,0,0,0,0,0,0,null,0,0,0,0,0,0,0,0,0,0,0,null,0,{"$f":"IF(AC205<=0,0,IF($D205<=SUM($BK206:BK206),0,IF(AZ206+$D205-SUM($BK206:BK206)>AC205+AN206,AC205+AN206-AZ206,$D205-SUM($BK206:BK206))))","v":0},{"$f":"IF(AD205<=0,0,IF($D205<=SUM($BK206:BL206),0,IF(BA206+$D205-SUM($BK206:BL206)>AD205+AO206,AD205+AO206-BA206,$D205-SUM($BK206:BL206))))","v":0},{"$f":"IF(AE205<=0,0,IF($D205<=SUM($BK206:BM206),0,IF(BB206+$D205-SUM($BK206:BM206)>AE205+AP206,AE205+AP206-BB206,$D205-SUM($BK206:BM206))))","v":0},{"$f":"IF(AF205<=0,0,IF($D205<=SUM($BK206:BN206),0,IF(BC206+$D205-SUM($BK206:BN206)>AF205+AQ206,AF205+AQ206-BC206,$D205-SUM($BK206:BN206))))","v":0},{"$f":"IF(AG205<=0,0,IF($D205<=SUM($BK206:BO206),0,IF(BD206+$D205-SUM($BK206:BO206)>AG205+AR206,AG205+AR206-BD206,$D205-SUM($BK206:BO206))))","v":0},{"$f":"IF(AH205<=0,0,IF($D205<=SUM($BK206:BP206),0,IF(BE206+$D205-SUM($BK206:BP206)>AH205+AS206,AH205+AS206-BE206,$D205-SUM($BK206:BP206))))","v":0},{"$f":"IF(AI205<=0,0,IF($D205<=SUM($BK206:BQ206),0,IF(BF206+$D205-SUM($BK206:BQ206)>AI205+AT206,AI205+AT206-BF206,$D205-SUM($BK206:BQ206))))","v":0},{"$f":"IF(AJ205<=0,0,IF($D205<=SUM($BK206:BR206),0,IF(BG206+$D205-SUM($BK206:BR206)>AJ205+AU206,AJ205+AU206-BG206,$D205-SUM($BK206:BR206))))","v":0},{"$f":"IF(AK205<=0,0,IF($D205<=SUM($BK206:BS206),0,IF(BH206+$D205-SUM($BK206:BS206)>AK205+AV206,AK205+AV206-BH206,$D205-SUM($BK206:BS206))))","v":0}]
[null,"","1915-06-01",0,0,0,0,0,0,0,0,0,0,0,null,null,null,null,null,null,null,null,null,null,null,null,0,0,0,0,0,0,0,0,0,0,0,null,0,0,0,0,0,0,0,0,0,0,0,null,0,0,0,0,0,0,0,0,0,0,0,null,0,{"$f":"IF(AC206<=0,0,IF($D206<=SUM($BK207:BK207),0,IF(AZ207+$D206-SUM($BK207:BK207)>AC206+AN207,AC206+AN207-AZ207,$D206-SUM($BK207:BK207))))","v":0},{"$f":"IF(AD206<=0,0,IF($D206<=SUM($BK207:BL207),0,IF(BA207+$D206-SUM($BK207:BL207)>AD206+AO207,AD206+AO207-BA207,$D206-SUM($BK207:BL207))))","v":0},{"$f":"IF(AE206<=0,0,IF($D206<=SUM($BK207:BM207),0,IF(BB207+$D206-SUM($BK207:BM207)>AE206+AP207,AE206+AP207-BB207,$D206-SUM($BK207:BM207))))","v":0},{"$f":"IF(AF206<=0,0,IF($D206<=SUM($BK207:BN207),0,IF(BC207+$D206-SUM($BK207:BN207)>AF206+AQ207,AF206+AQ207-BC207,$D206-SUM($BK207:BN207))))","v":0},{"$f":"IF(AG206<=0,0,IF($D206<=SUM($BK207:BO207),0,IF(BD207+$D206-SUM($BK207:BO207)>AG206+AR207,AG206+AR207-BD207,$D206-SUM($BK207:BO207))))","v":0},{"$f":"IF(AH206<=0,0,IF($D206<=SUM($BK207:BP207),0,IF(BE207+$D206-SUM($BK207:BP207)>AH206+AS207,AH206+AS207-BE207,$D206-SUM($BK207:BP207))))","v":0},{"$f":"IF(AI206<=0,0,IF($D206<=SUM($BK207:BQ207),0,IF(BF207+$D206-SUM($BK207:BQ207)>AI206+AT207,AI206+AT207-BF207,$D206-SUM($BK207:BQ207))))","v":0},{"$f":"IF(AJ206<=0,0,IF($D206<=SUM($BK207:BR207),0,IF(BG207+$D206-SUM($BK207:BR207)>AJ206+AU207,AJ206+AU207-BG207,$D206-SUM($BK207:BR207))))","v":0},{"$f":"IF(AK206<=0,0,IF($D206<=SUM($BK207:BS207),0,IF(BH207+$D206-SUM($BK207:BS207)>AK206+AV207,AK206+AV207-BH207,$D206-SUM($BK207:BS207))))","v":0}]
[null,"","1915-07-01",0,0,0,0,0,0,0,0,0,0,0,null,null,null,null,null,null,null,null,null,null,null,null,0,0,0,0,0,0,0,0,0,0,0,null,0,0,0,0,0,0,0,0,0,0,0,null,0,0,0,0,0,0,0,0,0,0,0,null,0,{"$f":"IF(AC207<=0,0,IF($D207<=SUM($BK208:BK208),0,IF(AZ208+$D207-SUM($BK208:BK208)>AC207+AN208,AC207+AN208-AZ208,$D207-SUM($BK208:BK208))))","v":0},{"$f":"IF(AD207<=0,0,IF($D207<=SUM($BK208:BL208),0,IF(BA208+$D207-SUM($BK208:BL208)>AD207+AO208,AD207+AO208-BA208,$D207-SUM($BK208:BL208))))","v":0},{"$f":"IF(AE207<=0,0,IF($D207<=SUM($BK208:BM208),0,IF(BB208+$D207-SUM($BK208:BM208)>AE207+AP208,AE207+AP208-BB208,$D207-SUM($BK208:BM208))))","v":0},{"$f":"IF(AF207<=0,0,IF($D207<=SUM($BK208:BN208),0,IF(BC208+$D207-SUM($BK208:BN208)>AF207+AQ208,AF207+AQ208-BC208,$D207-SUM($BK208:BN208))))","v":0},{"$f":"IF(AG207<=0,0,IF($D207<=SUM($BK208:BO208),0,IF(BD208+$D207-SUM($BK208:BO208)>AG207+AR208,AG207+AR208-BD208,$D207-SUM($BK208:BO208))))","v":0},{"$f":"IF(AH207<=0,0,IF($D207<=SUM($BK208:BP208),0,IF(BE208+$D207-SUM($BK208:BP208)>AH207+AS208,AH207+AS208-BE208,$D207-SUM($BK208:BP208))))","v":0},{"$f":"IF(AI207<=0,0,IF($D207<=SUM($BK208:BQ208),0,IF(BF208+$D207-SUM($BK208:BQ208)>AI207+AT208,AI207+AT208-BF208,$D207-SUM($BK208:BQ208))))","v":0},{"$f":"IF(AJ207<=0,0,IF($D207<=SUM($BK208:BR208),0,IF(BG208+$D207-SUM($BK208:BR208)>AJ207+AU208,AJ207+AU208-BG208,$D207-SUM($BK208:BR208))))","v":0},{"$f":"IF(AK207<=0,0,IF($D207<=SUM($BK208:BS208),0,IF(BH208+$D207-SUM($BK208:BS208)>AK207+AV208,AK207+AV208-BH208,$D207-SUM($BK208:BS208))))","v":0}]
[null,"","1915-08-01",0,0,0,0,0,0,0,0,0,0,0,null,null,null,null,null,null,null,null,null,null,null,null,0,0,0,0,0,0,0,0,0,0,0,null,0,0,0,0,0,0,0,0,0,0,0,null,0,0,0,0,0,0,0,0,0,0,0,null,0,{"$f":"IF(AC208<=0,0,IF($D208<=SUM($BK209:BK209),0,IF(AZ209+$D208-SUM($BK209:BK209)>AC208+AN209,AC208+AN209-AZ209,$D208-SUM($BK209:BK209))))","v":0},{"$f":"IF(AD208<=0,0,IF($D208<=SUM($BK209:BL209),0,IF(BA209+$D208-SUM($BK209:BL209)>AD208+AO209,AD208+AO209-BA209,$D208-SUM($BK209:BL209))))","v":0},{"$f":"IF(AE208<=0,0,IF($D208<=SUM($BK209:BM209),0,IF(BB209+$D208-SUM($BK209:BM209)>AE208+AP209,AE208+AP209-BB209,$D208-SUM($BK209:BM209))))","v":0},{"$f":"IF(AF208<=0,0,IF($D208<=SUM($BK209:BN209),0,IF(BC209+$D208-SUM($BK209:BN209)>AF208+AQ209,AF208+AQ209-BC209,$D208-SUM($BK209:BN209))))","v":0},{"$f":"IF(AG208<=0,0,IF($D208<=SUM($BK209:BO209),0,IF(BD209+$D208-SUM($BK209:BO209)>AG208+AR209,AG208+AR209-BD209,$D208-SUM($BK209:BO209))))","v":0},{"$f":"IF(AH208<=0,0,IF($D208<=SUM($BK209:BP209),0,IF(BE209+$D208-SUM($BK209:BP209)>AH208+AS209,AH208+AS209-BE209,$D208-SUM($BK209:BP209))))","v":0},{"$f":"IF(AI208<=0,0,IF($D208<=SUM($BK209:BQ209),0,IF(BF209+$D208-SUM($BK209:BQ209)>AI208+AT209,AI208+AT209-BF209,$D208-SUM($BK209:BQ209))))","v":0},{"$f":"IF(AJ208<=0,0,IF($D208<=SUM($BK209:BR209),0,IF(BG209+$D208-SUM($BK209:BR209)>AJ208+AU209,AJ208+AU209-BG209,$D208-SUM($BK209:BR209))))","v":0},{"$f":"IF(AK208<=0,0,IF($D208<=SUM($BK209:BS209),0,IF(BH209+$D208-SUM($BK209:BS209)>AK208+AV209,AK208+AV209-BH209,$D208-SUM($BK209:BS209))))","v":0}]
[null,"","1915-09-01",0,0,0,0,0,0,0,0,0,0,0,null,null,null,null,null,null,null,null,null,null,null,null,0,0,0,0,0,0,0,0,0,0,0,null,0,0,0,0,0,0,0,0,0,0,0,null,0,0,0,0,0,0,0,0,0,0,0,null,0,{"$f":"IF(AC209<=0,0,IF($D209<=SUM($BK210:BK210),0,IF(AZ210+$D209-SUM($BK210:BK210)>AC209+AN210,AC209+AN210-AZ210,$D209-SUM($BK210:BK210))))","v":0},{"$f":"IF(AD209<=0,0,IF($D209<=SUM($BK210:BL210),0,IF(BA210+$D209-SUM($BK210:BL210)>AD209+AO210,AD209+AO210-BA210,$D209-SUM($BK210:BL210))))","v":0},{"$f":"IF(AE209<=0,0,IF($D209<=SUM($BK210:BM210),0,IF(BB210+$D209-SUM($BK210:BM210)>AE209+AP210,AE209+AP210-BB210,$D209-SUM($BK210:BM210))))","v":0},{"$f":"IF(AF209<=0,0,IF($D209<=SUM($BK210:BN210),0,IF(BC210+$D209-SUM($BK210:BN210)>AF209+AQ210,AF209+AQ210-BC210,$D209-SUM($BK210:BN210))))","v":0},{"$f":"IF(AG209<=0,0,IF($D209<=SUM($BK210:BO210),0,IF(BD210+$D209-SUM($BK210:BO210)>AG209+AR210,AG209+AR210-BD210,$D209-SUM($BK210:BO210))))","v":0},{"$f":"IF(AH209<=0,0,IF($D209<=SUM($BK210:BP210),0,IF(BE210+$D209-SUM($BK210:BP210)>AH209+AS210,AH209+AS210-BE210,$D209-SUM($BK210:BP210))))","v":0},{"$f":"IF(AI209<=0,0,IF($D209<=SUM($BK210:BQ210),0,IF(BF210+$D209-SUM($BK210:BQ210)>AI209+AT210,AI209+AT210-BF210,$D209-SUM($BK210:BQ210))))","v":0},{"$f":"IF(AJ209<=0,0,IF($D209<=SUM($BK210:BR210),0,IF(BG210+$D209-SUM($BK210:BR210)>AJ209+AU210,AJ209+AU210-BG210,$D209-SUM($BK210:BR210))))","v":0},{"$f":"IF(AK209<=0,0,IF($D209<=SUM($BK210:BS210),0,IF(BH210+$D209-SUM($BK210:BS210)>AK209+AV210,AK209+AV210-BH210,$D209-SUM($BK210:BS210))))","v":0}]
[null,"","1915-10-01",0,0,0,0,0,0,0,0,0,0,0,null,null,null,null,null,null,null,null,null,null,null,null,0,0,0,0,0,0,0,0,0,0,0,null,0,0,0,0,0,0,0,0,0,0,0,null,0,0,0,0,0,0,0,0,0,0,0,null,0,{"$f":"IF(AC210<=0,0,IF($D210<=SUM($BK211:BK211),0,IF(AZ211+$D210-SUM($BK211:BK211)>AC210+AN211,AC210+AN211-AZ211,$D210-SUM($BK211:BK211))))","v":0},{"$f":"IF(AD210<=0,0,IF($D210<=SUM($BK211:BL211),0,IF(BA211+$D210-SUM($BK211:BL211)>AD210+AO211,AD210+AO211-BA211,$D210-SUM($BK211:BL211))))","v":0},{"$f":"IF(AE210<=0,0,IF($D210<=SUM($BK211:BM211),0,IF(BB211+$D210-SUM($BK211:BM211)>AE210+AP211,AE210+AP211-BB211,$D210-SUM($BK211:BM211))))","v":0},{"$f":"IF(AF210<=0,0,IF($D210<=SUM($BK211:BN211),0,IF(BC211+$D210-SUM($BK211:BN211)>AF210+AQ211,AF210+AQ211-BC211,$D210-SUM($BK211:BN211))))","v":0},{"$f":"IF(AG210<=0,0,IF($D210<=SUM($BK211:BO211),0,IF(BD211+$D210-SUM($BK211:BO211)>AG210+AR211,AG210+AR211-BD211,$D210-SUM($BK211:BO211))))","v":0},{"$f":"IF(AH210<=0,0,IF($D210<=SUM($BK211:BP211),0,IF(BE211+$D210-SUM($BK211:BP211)>AH210+AS211,AH210+AS211-BE211,$D210-SUM($BK211:BP211))))","v":0},{"$f":"IF(AI210<=0,0,IF($D210<=SUM($BK211:BQ211),0,IF(BF211+$D210-SUM($BK211:BQ211)>AI210+AT211,AI210+AT211-BF211,$D210-SUM($BK211:BQ211))))","v":0},{"$f":"IF(AJ210<=0,0,IF($D210<=SUM($BK211:BR211),0,IF(BG211+$D210-SUM($BK211:BR211)>AJ210+AU211,AJ210+AU211-BG211,$D210-SUM($BK211:BR211))))","v":0},{"$f":"IF(AK210<=0,0,IF($D210<=SUM($BK211:BS211),0,IF(BH211+$D210-SUM($BK211:BS211)>AK210+AV211,AK210+AV211-BH211,$D210-SUM($BK211:BS211))))","v":0}]
[null,"","1915-11-01",0,0,0,0,0,0,0,0,0,0,0,null,null,null,null,null,null,null,null,null,null,null,null,0,0,0,0,0,0,0,0,0,0,0,null,0,0,0,0,0,0,0,0,0,0,0,null,0,0,0,0,0,0,0,0,0,0,0,null,0,{"$f":"IF(AC211<=0,0,IF($D211<=SUM($BK212:BK212),0,IF(AZ212+$D211-SUM($BK212:BK212)>AC211+AN212,AC211+AN212-AZ212,$D211-SUM($BK212:BK212))))","v":0},{"$f":"IF(AD211<=0,0,IF($D211<=SUM($BK212:BL212),0,IF(BA212+$D211-SUM($BK212:BL212)>AD211+AO212,AD211+AO212-BA212,$D211-SUM($BK212:BL212))))","v":0},{"$f":"IF(AE211<=0,0,IF($D211<=SUM($BK212:BM212),0,IF(BB212+$D211-SUM($BK212:BM212)>AE211+AP212,AE211+AP212-BB212,$D211-SUM($BK212:BM212))))","v":0},{"$f":"IF(AF211<=0,0,IF($D211<=SUM($BK212:BN212),0,IF(BC212+$D211-SUM($BK212:BN212)>AF211+AQ212,AF211+AQ212-BC212,$D211-SUM($BK212:BN212))))","v":0},{"$f":"IF(AG211<=0,0,IF($D211<=SUM($BK212:BO212),0,IF(BD212+$D211-SUM($BK212:BO212)>AG211+AR212,AG211+AR212-BD212,$D211-SUM($BK212:BO212))))","v":0},{"$f":"IF(AH211<=0,0,IF($D211<=SUM($BK212:BP212),0,IF(BE212+$D211-SUM($BK212:BP212)>AH211+AS212,AH211+AS212-BE212,$D211-SUM($BK212:BP212))))","v":0},{"$f":"IF(AI211<=0,0,IF($D211<=SUM($BK212:BQ212),0,IF(BF212+$D211-SUM($BK212:BQ212)>AI211+AT212,AI211+AT212-BF212,$D211-SUM($BK212:BQ212))))","v":0},{"$f":"IF(AJ211<=0,0,IF($D211<=SUM($BK212:BR212),0,IF(BG212+$D211-SUM($BK212:BR212)>AJ211+AU212,AJ211+AU212-BG212,$D211-SUM($BK212:BR212))))","v":0},{"$f":"IF(AK211<=0,0,IF($D211<=SUM($BK212:BS212),0,IF(BH212+$D211-SUM($BK212:BS212)>AK211+AV212,AK211+AV212-BH212,$D211-SUM($BK212:BS212))))","v":0}]
[null,"","1915-12-01",0,0,0,0,0,0,0,0,0,0,0,null,null,null,null,null,null,null,null,null,null,null,null,0,0,0,0,0,0,0,0,0,0,0,null,0,0,0,0,0,0,0,0,0,0,0,null,0,0,0,0,0,0,0,0,0,0,0,null,0,{"$f":"IF(AC212<=0,0,IF($D212<=SUM($BK213:BK213),0,IF(AZ213+$D212-SUM($BK213:BK213)>AC212+AN213,AC212+AN213-AZ213,$D212-SUM($BK213:BK213))))","v":0},{"$f":"IF(AD212<=0,0,IF($D212<=SUM($BK213:BL213),0,IF(BA213+$D212-SUM($BK213:BL213)>AD212+AO213,AD212+AO213-BA213,$D212-SUM($BK213:BL213))))","v":0},{"$f":"IF(AE212<=0,0,IF($D212<=SUM($BK213:BM213),0,IF(BB213+$D212-SUM($BK213:BM213)>AE212+AP213,AE212+AP213-BB213,$D212-SUM($BK213:BM213))))","v":0},{"$f":"IF(AF212<=0,0,IF($D212<=SUM($BK213:BN213),0,IF(BC213+$D212-SUM($BK213:BN213)>AF212+AQ213,AF212+AQ213-BC213,$D212-SUM($BK213:BN213))))","v":0},{"$f":"IF(AG212<=0,0,IF($D212<=SUM($BK213:BO213),0,IF(BD213+$D212-SUM($BK213:BO213)>AG212+AR213,AG212+AR213-BD213,$D212-SUM($BK213:BO213))))","v":0},{"$f":"IF(AH212<=0,0,IF($D212<=SUM($BK213:BP213),0,IF(BE213+$D212-SUM($BK213:BP213)>AH212+AS213,AH212+AS213-BE213,$D212-SUM($BK213:BP213))))","v":0},{"$f":"IF(AI212<=0,0,IF($D212<=SUM($BK213:BQ213),0,IF(BF213+$D212-SUM($BK213:BQ213)>AI212+AT213,AI212+AT213-BF213,$D212-SUM($BK213:BQ213))))","v":0},{"$f":"IF(AJ212<=0,0,IF($D212<=SUM($BK213:BR213),0,IF(BG213+$D212-SUM($BK213:BR213)>AJ212+AU213,AJ212+AU213-BG213,$D212-SUM($BK213:BR213))))","v":0},{"$f":"IF(AK212<=0,0,IF($D212<=SUM($BK213:BS213),0,IF(BH213+$D212-SUM($BK213:BS213)>AK212+AV213,AK212+AV213-BH213,$D212-SUM($BK213:BS213))))","v":0}]
[null,"","1916-01-01",0,0,0,0,0,0,0,0,0,0,0,null,null,null,null,null,null,null,null,null,null,null,null,0,0,0,0,0,0,0,0,0,0,0,null,0,0,0,0,0,0,0,0,0,0,0,null,0,0,0,0,0,0,0,0,0,0,0,null,0,{"$f":"IF(AC213<=0,0,IF($D213<=SUM($BK214:BK214),0,IF(AZ214+$D213-SUM($BK214:BK214)>AC213+AN214,AC213+AN214-AZ214,$D213-SUM($BK214:BK214))))","v":0},{"$f":"IF(AD213<=0,0,IF($D213<=SUM($BK214:BL214),0,IF(BA214+$D213-SUM($BK214:BL214)>AD213+AO214,AD213+AO214-BA214,$D213-SUM($BK214:BL214))))","v":0},{"$f":"IF(AE213<=0,0,IF($D213<=SUM($BK214:BM214),0,IF(BB214+$D213-SUM($BK214:BM214)>AE213+AP214,AE213+AP214-BB214,$D213-SUM($BK214:BM214))))","v":0},{"$f":"IF(AF213<=0,0,IF($D213<=SUM($BK214:BN214),0,IF(BC214+$D213-SUM($BK214:BN214)>AF213+AQ214,AF213+AQ214-BC214,$D213-SUM($BK214:BN214))))","v":0},{"$f":"IF(AG213<=0,0,IF($D213<=SUM($BK214:BO214),0,IF(BD214+$D213-SUM($BK214:BO214)>AG213+AR214,AG213+AR214-BD214,$D213-SUM($BK214:BO214))))","v":0},{"$f":"IF(AH213<=0,0,IF($D213<=SUM($BK214:BP214),0,IF(BE214+$D213-SUM($BK214:BP214)>AH213+AS214,AH213+AS214-BE214,$D213-SUM($BK214:BP214))))","v":0},{"$f":"IF(AI213<=0,0,IF($D213<=SUM($BK214:BQ214),0,IF(BF214+$D213-SUM($BK214:BQ214)>AI213+AT214,AI213+AT214-BF214,$D213-SUM($BK214:BQ214))))","v":0},{"$f":"IF(AJ213<=0,0,IF($D213<=SUM($BK214:BR214),0,IF(BG214+$D213-SUM($BK214:BR214)>AJ213+AU214,AJ213+AU214-BG214,$D213-SUM($BK214:BR214))))","v":0},{"$f":"IF(AK213<=0,0,IF($D213<=SUM($BK214:BS214),0,IF(BH214+$D213-SUM($BK214:BS214)>AK213+AV214,AK213+AV214-BH214,$D213-SUM($BK214:BS214))))","v":0}]
[null,{"$f":"IF(SUM(AB215:AK215)<=0,\"\",B214+1)","v":""},"1916-02-01",{"$f":"IF(($F$4-BI216<0),$F$4,$F$4-BI216)","v":0},0,0,0,0,0,0,0,0,0,0,null,null,null,null,null,null,null,null,null,null,null,null,0,0,0,0,0,0,0,0,0,0,0,null,0,0,0,0,0,0,0,0,0,0,0,null,0,0,0,0,0,0,0,0,0,0,0,null,0,{"$f":"IF(AC214<=0,0,IF($D214<=SUM($BK215:BK215),0,IF(AZ215+$D214-SUM($BK215:BK215)>AC214+AN215,AC214+AN215-AZ215,$D214-SUM($BK215:BK215))))","v":0},{"$f":"IF(AD214<=0,0,IF($D214<=SUM($BK215:BL215),0,IF(BA215+$D214-SUM($BK215:BL215)>AD214+AO215,AD214+AO215-BA215,$D214-SUM($BK215:BL215))))","v":0},{"$f":"IF(AE214<=0,0,IF($D214<=SUM($BK215:BM215),0,IF(BB215+$D214-SUM($BK215:BM215)>AE214+AP215,AE214+AP215-BB215,$D214-SUM($BK215:BM215))))","v":0},{"$f":"IF(AF214<=0,0,IF($D214<=SUM($BK215:BN215),0,IF(BC215+$D214-SUM($BK215:BN215)>AF214+AQ215,AF214+AQ215-BC215,$D214-SUM($BK215:BN215))))","v":0},{"$f":"IF(AG214<=0,0,IF($D214<=SUM($BK215:BO215),0,IF(BD215+$D214-SUM($BK215:BO215)>AG214+AR215,AG214+AR215-BD215,$D214-SUM($BK215:BO215))))","v":0},{"$f":"IF(AH214<=0,0,IF($D214<=SUM($BK215:BP215),0,IF(BE215+$D214-SUM($BK215:BP215)>AH214+AS215,AH214+AS215-BE215,$D214-SUM($BK215:BP215))))","v":0},{"$f":"IF(AI214<=0,0,IF($D214<=SUM($BK215:BQ215),0,IF(BF215+$D214-SUM($BK215:BQ215)>AI214+AT215,AI214+AT215-BF215,$D214-SUM($BK215:BQ215))))","v":0},{"$f":"IF(AJ214<=0,0,IF($D214<=SUM($BK215:BR215),0,IF(BG215+$D214-SUM($BK215:BR215)>AJ214+AU215,AJ214+AU215-BG215,$D214-SUM($BK215:BR215))))","v":0},{"$f":"IF(AK214<=0,0,IF($D214<=SUM($BK215:BS215),0,IF(BH215+$D214-SUM($BK215:BS215)>AK214+AV215,AK214+AV215-BH215,$D214-SUM($BK215:BS215))))","v":0}]
[null,"","1916-03-01",0,0,0,0,0,0,0,0,0,0,0,null,null,null,null,null,null,null,null,null,null,null,null,0,{"$f":"IF(E$7=0,0,ROUND(AB215-(E215-AM216),2))","v":0},{"$f":"IF(F$7=0,0,ROUND(AC215-(F215-AN216),2))","v":0},{"$f":"IF(G$7=0,0,ROUND(AD215-(G215-AO216),2))","v":0},{"$f":"IF(H$7=0,0,ROUND(AE215-(H215-AP216),2))","v":0},{"$f":"IF(I$7=0,0,ROUND(AF215-(I215-AQ216),2))","v":0},{"$f":"IF(J$7=0,0,ROUND(AG215-(J215-AR216),2))","v":0},{"$f":"IF(K$7=0,0,ROUND(AH215-(K215-AS216),2))","v":0},{"$f":"IF(L$7=0,0,ROUND(AI215-(L215-AT216),2))","v":0},{"$f":"IF(M$7=0,0,ROUND(AJ215-(M215-AU216),2))","v":0},{"$f":"IF(N$7=0,0,ROUND(AK215-(N215-AV216),2))","v":0},null,{"$f":"IF((AB215=\"-\"),0,ROUND(AB215*E$8/12,2))","v":0},{"$f":"IF((AC215=\"-\"),0,ROUND(AC215*F$8/12,2))","v":0},{"$f":"IF((AD215=\"-\"),0,ROUND(AD215*G$8/12,2))","v":0},{"$f":"IF((AE215=\"-\"),0,ROUND(AE215*H$8/12,2))","v":0},{"$f":"IF((AF215=\"-\"),0,ROUND(AF215*I$8/12,2))","v":0},{"$f":"IF((AG215=\"-\"),0,ROUND(AG215*J$8/12,2))","v":0},{"$f":"IF((AH215=\"-\"),0,ROUND(AH215*K$8/12,2))","v":0},{"$f":"IF((AI215=\"-\"),0,ROUND(AI215*L$8/12,2))","v":0},{"$f":"IF((AJ215=\"-\"),0,ROUND(AJ215*M$8/12,2))","v":0},{"$f":"IF((AK215=\"-\"),0,ROUND(AK215*N$8/12,2))","v":0},0,null,0,0,0,0,0,0,0,0,0,0,0,null,0,{"$f":"IF(AC215<=0,0,IF($D215<=SUM($BK216:BK216),0,IF(AZ216+$D215-SUM($BK216:BK216)>AC215+AN216,AC215+AN216-AZ216,$D215-SUM($BK216:BK216))))","v":0},{"$f":"IF(AD215<=0,0,IF($D215<=SUM($BK216:BL216),0,IF(BA216+$D215-SUM($BK216:BL216)>AD215+AO216,AD215+AO216-BA216,$D215-SUM($BK216:BL216))))","v":0},{"$f":"IF(AE215<=0,0,IF($D215<=SUM($BK216:BM216),0,IF(BB216+$D215-SUM($BK216:BM216)>AE215+AP216,AE215+AP216-BB216,$D215-SUM($BK216:BM216))))","v":0},{"$f":"IF(AF215<=0,0,IF($D215<=SUM($BK216:BN216),0,IF(BC216+$D215-SUM($BK216:BN216)>AF215+AQ216,AF215+AQ216-BC216,$D215-SUM($BK216:BN216))))","v":0},{"$f":"IF(AG215<=0,0,IF($D215<=SUM($BK216:BO216),0,IF(BD216+$D215-SUM($BK216:BO216)>AG215+AR216,AG215+AR216-BD216,$D215-SUM($BK216:BO216))))","v":0},{"$f":"IF(AH215<=0,0,IF($D215<=SUM($BK216:BP216),0,IF(BE216+$D215-SUM($BK216:BP216)>AH215+AS216,AH215+AS216-BE216,$D215-SUM($BK216:BP216))))","v":0},{"$f":"IF(AI215<=0,0,IF($D215<=SUM($BK216:BQ216),0,IF(BF216+$D215-SUM($BK216:BQ216)>AI215+AT216,AI215+AT216-BF216,$D215-SUM($BK216:BQ216))))","v":0},{"$f":"IF(AJ215<=0,0,IF($D215<=SUM($BK216:BR216),0,IF(BG216+$D215-SUM($BK216:BR216)>AJ215+AU216,AJ215+AU216-BG216,$D215-SUM($BK216:BR216))))","v":0},{"$f":"IF(AK215<=0,0,IF($D215<=SUM($BK216:BS216),0,IF(BH216+$D215-SUM($BK216:BS216)>AK215+AV216,AK215+AV216-BH216,$D215-SUM($BK216:BS216))))","v":0}]
[null,"",{"$f":"IF(C216=\"\",NA(),DATE(YEAR(C216),MONTH(C216)+1,1))","v":"1916-04-01"},0,{"$f":"+AY218+BK218","v":0},0,0,0,0,0,0,0,0,0,null,null,null,null,null,null,null,null,null,null,null,null,{"$f":"SUM(AB217:AK217)","v":0},0,0,0,0,0,0,0,0,0,0,null,0,0,0,0,0,0,0,0,0,0,{"$f":"SUM(AM217:AV217)","v":0},null,{"$f":"IF(AB216>0,IF((AB216+AM217)<E$9,AB216+AM217,E$9),0)","v":0},{"$f":"IF(AC216>0,IF((AC216+AN217)<F$9,AC216+AN217,F$9),0)","v":0},{"$f":"IF(AD216>0,IF((AD216+AO217)<G$9,AD216+AO217,G$9),0)","v":0},{"$f":"IF(AE216>0,IF((AE216+AP217)<H$9,AE216+AP217,H$9),0)","v":0},{"$f":"IF(AF216>0,IF((AF216+AQ217)<I$9,AF216+AQ217,I$9),0)","v":0},{"$f":"IF(AG216>0,IF((AG216+AR217)<J$9,AG216+AR217,J$9),0)","v":0},{"$f":"IF(AH216>0,IF((AH216+AS217)<K$9,AH216+AS217,K$9),0)","v":0},{"$f":"IF(AI216>0,IF((AI216+AT217)<L$9,AI216+AT217,L$9),0)","v":0},{"$f":"IF(AJ216>0,IF((AJ216+AU217)<M$9,AJ216+AU217,M$9),0)","v":0},{"$f":"IF(AK216>0,IF((AK216+AV217)<N$9,AK216+AV217,N$9),0)","v":0},{"$f":"SUM(AY217:BH217)","v":0},null,0,{"$f":"IF(AC216<=0,0,IF($D216<=SUM($BK217:BK217),0,IF(AZ217+$D216-SUM($BK217:BK217)>AC216+AN217,AC216+AN217-AZ217,$D216-SUM($BK217:BK217))))","v":0},{"$f":"IF(AD216<=0,0,IF($D216<=SUM($BK217:BL217),0,IF(BA217+$D216-SUM($BK217:BL217)>AD216+AO217,AD216+AO217-BA217,$D216-SUM($BK217:BL217))))","v":0},{"$f":"IF(AE216<=0,0,IF($D216<=SUM($BK217:BM217),0,IF(BB217+$D216-SUM($BK217:BM217)>AE216+AP217,AE216+AP217-BB217,$D216-SUM($BK217:BM217))))","v":0},{"$f":"IF(AF216<=0,0,IF($D216<=SUM($BK217:BN217),0,IF(BC217+$D216-SUM($BK217:BN217)>AF216+AQ217,AF216+AQ217-BC217,$D216-SUM($BK217:BN217))))","v":0},{"$f":"IF(AG216<=0,0,IF($D216<=SUM($BK217:BO217),0,IF(BD217+$D216-SUM($BK217:BO217)>AG216+AR217,AG216+AR217-BD217,$D216-SUM($BK217:BO217))))","v":0},{"$f":"IF(AH216<=0,0,IF($D216<=SUM($BK217:BP217),0,IF(BE217+$D216-SUM($BK217:BP217)>AH216+AS217,AH216+AS217-BE217,$D216-SUM($BK217:BP217))))","v":0},{"$f":"IF(AI216<=0,0,IF($D216<=SUM($BK217:BQ217),0,IF(BF217+$D216-SUM($BK217:BQ217)>AI216+AT217,AI216+AT217-BF217,$D216-SUM($BK217:BQ217))))","v":0},{"$f":"IF(AJ216<=0,0,IF($D216<=SUM($BK217:BR217),0,IF(BG217+$D216-SUM($BK217:BR217)>AJ216+AU217,AJ216+AU217-BG217,$D216-SUM($BK217:BR217))))","v":0},{"$f":"IF(AK216<=0,0,IF($D216<=SUM($BK217:BS217),0,IF(BH217+$D216-SUM($BK217:BS217)>AK216+AV217,AK216+AV217-BH217,$D216-SUM($BK217:BS217))))","v":0}]
[null,"","1916-05-01",0,0,0,0,0,0,0,0,0,0,0,null,null,null,null,null,null,null,null,null,null,null,null,0,0,0,0,0,0,0,0,0,0,0,null,0,0,0,0,0,0,0,0,0,0,0,null,0,0,0,0,0,0,0,0,0,0,0,null,{"$f":"IF(AB217<=0,0,IF(AY218+$D217>AB217+AM218,AB217+AM218-AY218,$D217))","v":0},{"$f":"IF(AC217<=0,0,IF($D217<=SUM($BK218:BK218),0,IF(AZ218+$D217-SUM($BK218:BK218)>AC217+AN218,AC217+AN218-AZ218,$D217-SUM($BK218:BK218))))","v":0},{"$f":"IF(AD217<=0,0,IF($D217<=SUM($BK218:BL218),0,IF(BA218+$D217-SUM($BK218:BL218)>AD217+AO218,AD217+AO218-BA218,$D217-SUM($BK218:BL218))))","v":0},{"$f":"IF(AE217<=0,0,IF($D217<=SUM($BK218:BM218),0,IF(BB218+$D217-SUM($BK218:BM218)>AE217+AP218,AE217+AP218-BB218,$D217-SUM($BK218:BM218))))","v":0},{"$f":"IF(AF217<=0,0,IF($D217<=SUM($BK218:BN218),0,IF(BC218+$D217-SUM($BK218:BN218)>AF217+AQ218,AF217+AQ218-BC218,$D217-SUM($BK218:BN218))))","v":0},{"$f":"IF(AG217<=0,0,IF($D217<=SUM($BK218:BO218),0,IF(BD218+$D217-SUM($BK218:BO218)>AG217+AR218,AG217+AR218-BD218,$D217-SUM($BK218:BO218))))","v":0},{"$f":"IF(AH217<=0,0,IF($D217<=SUM($BK218:BP218),0,IF(BE218+$D217-SUM($BK218:BP218)>AH217+AS218,AH217+AS218-BE218,$D217-SUM($BK218:BP218))))","v":0},{"$f":"IF(AI217<=0,0,IF($D217<=SUM($BK218:BQ218),0,IF(BF218+$D217-SUM($BK218:BQ218)>AI217+AT218,AI217+AT218-BF218,$D217-SUM($BK218:BQ218))))","v":0},{"$f":"IF(AJ217<=0,0,IF($D217<=SUM($BK218:BR218),0,IF(BG218+$D217-SUM($BK218:BR218)>AJ217+AU218,AJ217+AU218-BG218,$D217-SUM($BK218:BR218))))","v":0},{"$f":"IF(AK217<=0,0,IF($D217<=SUM($BK218:BS218),0,IF(BH218+$D217-SUM($BK218:BS218)>AK217+AV218,AK217+AV218-BH218,$D217-SUM($BK218:BS218))))","v":0}]
[null,"","1916-06-01",0,0,0,0,0,0,0,0,0,0,0,null,null,null,null,null,null,null,null,null,null,null,null,0,0,0,0,0,0,0,0,0,0,0,null,0,0,0,0,0,0,0,0,0,0,0,null,0,0,0,0,0,0,0,0,0,0,0,null,0,{"$f":"IF(AC218<=0,0,IF($D218<=SUM($BK219:BK219),0,IF(AZ219+$D218-SUM($BK219:BK219)>AC218+AN219,AC218+AN219-AZ219,$D218-SUM($BK219:BK219))))","v":0},{"$f":"IF(AD218<=0,0,IF($D218<=SUM($BK219:BL219),0,IF(BA219+$D218-SUM($BK219:BL219)>AD218+AO219,AD218+AO219-BA219,$D218-SUM($BK219:BL219))))","v":0},{"$f":"IF(AE218<=0,0,IF($D218<=SUM($BK219:BM219),0,IF(BB219+$D218-SUM($BK219:BM219)>AE218+AP219,AE218+AP219-BB219,$D218-SUM($BK219:BM219))))","v":0},{"$f":"IF(AF218<=0,0,IF($D218<=SUM($BK219:BN219),0,IF(BC219+$D218-SUM($BK219:BN219)>AF218+AQ219,AF218+AQ219-BC219,$D218-SUM($BK219:BN219))))","v":0},{"$f":"IF(AG218<=0,0,IF($D218<=SUM($BK219:BO219),0,IF(BD219+$D218-SUM($BK219:BO219)>AG218+AR219,AG218+AR219-BD219,$D218-SUM($BK219:BO219))))","v":0},{"$f":"IF(AH218<=0,0,IF($D218<=SUM($BK219:BP219),0,IF(BE219+$D218-SUM($BK219:BP219)>AH218+AS219,AH218+AS219-BE219,$D218-SUM($BK219:BP219))))","v":0},{"$f":"IF(AI218<=0,0,IF($D218<=SUM($BK219:BQ219),0,IF(BF219+$D218-SUM($BK219:BQ219)>AI218+AT219,AI218+AT219-BF219,$D218-SUM($BK219:BQ219))))","v":0},{"$f":"IF(AJ218<=0,0,IF($D218<=SUM($BK219:BR219),0,IF(BG219+$D218-SUM($BK219:BR219)>AJ218+AU219,AJ218+AU219-BG219,$D218-SUM($BK219:BR219))))","v":0},{"$f":"IF(AK218<=0,0,IF($D218<=SUM($BK219:BS219),0,IF(BH219+$D218-SUM($BK219:BS219)>AK218+AV219,AK218+AV219-BH219,$D218-SUM($BK219:BS219))))","v":0}]
[null,"","1916-07-01",0,0,0,0,0,0,0,0,0,0,0,null,null,null,null,null,null,null,null,null,null,null,null,0,0,0,0,0,0,0,0,0,0,0,null,0,0,0,0,0,0,0,0,0,0,0,null,0,0,0,0,0,0,0,0,0,0,0,null,0,{"$f":"IF(AC219<=0,0,IF($D219<=SUM($BK220:BK220),0,IF(AZ220+$D219-SUM($BK220:BK220)>AC219+AN220,AC219+AN220-AZ220,$D219-SUM($BK220:BK220))))","v":0},{"$f":"IF(AD219<=0,0,IF($D219<=SUM($BK220:BL220),0,IF(BA220+$D219-SUM($BK220:BL220)>AD219+AO220,AD219+AO220-BA220,$D219-SUM($BK220:BL220))))","v":0},{"$f":"IF(AE219<=0,0,IF($D219<=SUM($BK220:BM220),0,IF(BB220+$D219-SUM($BK220:BM220)>AE219+AP220,AE219+AP220-BB220,$D219-SUM($BK220:BM220))))","v":0},{"$f":"IF(AF219<=0,0,IF($D219<=SUM($BK220:BN220),0,IF(BC220+$D219-SUM($BK220:BN220)>AF219+AQ220,AF219+AQ220-BC220,$D219-SUM($BK220:BN220))))","v":0},{"$f":"IF(AG219<=0,0,IF($D219<=SUM($BK220:BO220),0,IF(BD220+$D219-SUM($BK220:BO220)>AG219+AR220,AG219+AR220-BD220,$D219-SUM($BK220:BO220))))","v":0},{"$f":"IF(AH219<=0,0,IF($D219<=SUM($BK220:BP220),0,IF(BE220+$D219-SUM($BK220:BP220)>AH219+AS220,AH219+AS220-BE220,$D219-SUM($BK220:BP220))))","v":0},{"$f":"IF(AI219<=0,0,IF($D219<=SUM($BK220:BQ220),0,IF(BF220+$D219-SUM($BK220:BQ220)>AI219+AT220,AI219+AT220-BF220,$D219-SUM($BK220:BQ220))))","v":0},{"$f":"IF(AJ219<=0,0,IF($D219<=SUM($BK220:BR220),0,IF(BG220+$D219-SUM($BK220:BR220)>AJ219+AU220,AJ219+AU220-BG220,$D219-SUM($BK220:BR220))))","v":0},{"$f":"IF(AK219<=0,0,IF($D219<=SUM($BK220:BS220),0,IF(BH220+$D219-SUM($BK220:BS220)>AK219+AV220,AK219+AV220-BH220,$D219-SUM($BK220:BS220))))","v":0}]
[null,"","1916-08-01",0,0,0,0,0,0,0,0,0,0,0,null,null,null,null,null,null,null,null,null,null,null,null,0,0,0,0,0,0,0,0,0,0,0,null,0,0,0,0,0,0,0,0,0,0,0,null,0,0,0,0,0,0,0,0,0,0,0,null,0,{"$f":"IF(AC220<=0,0,IF($D220<=SUM($BK221:BK221),0,IF(AZ221+$D220-SUM($BK221:BK221)>AC220+AN221,AC220+AN221-AZ221,$D220-SUM($BK221:BK221))))","v":0},{"$f":"IF(AD220<=0,0,IF($D220<=SUM($BK221:BL221),0,IF(BA221+$D220-SUM($BK221:BL221)>AD220+AO221,AD220+AO221-BA221,$D220-SUM($BK221:BL221))))","v":0},{"$f":"IF(AE220<=0,0,IF($D220<=SUM($BK221:BM221),0,IF(BB221+$D220-SUM($BK221:BM221)>AE220+AP221,AE220+AP221-BB221,$D220-SUM($BK221:BM221))))","v":0},{"$f":"IF(AF220<=0,0,IF($D220<=SUM($BK221:BN221),0,IF(BC221+$D220-SUM($BK221:BN221)>AF220+AQ221,AF220+AQ221-BC221,$D220-SUM($BK221:BN221))))","v":0},{"$f":"IF(AG220<=0,0,IF($D220<=SUM($BK221:BO221),0,IF(BD221+$D220-SUM($BK221:BO221)>AG220+AR221,AG220+AR221-BD221,$D220-SUM($BK221:BO221))))","v":0},{"$f":"IF(AH220<=0,0,IF($D220<=SUM($BK221:BP221),0,IF(BE221+$D220-SUM($BK221:BP221)>AH220+AS221,AH220+AS221-BE221,$D220-SUM($BK221:BP221))))","v":0},{"$f":"IF(AI220<=0,0,IF($D220<=SUM($BK221:BQ221),0,IF(BF221+$D220-SUM($BK221:BQ221)>AI220+AT221,AI220+AT221-BF221,$D220-SUM($BK221:BQ221))))","v":0},{"$f":"IF(AJ220<=0,0,IF($D220<=SUM($BK221:BR221),0,IF(BG221+$D220-SUM($BK221:BR221)>AJ220+AU221,AJ220+AU221-BG221,$D220-SUM($BK221:BR221))))","v":0},{"$f":"IF(AK220<=0,0,IF($D220<=SUM($BK221:BS221),0,IF(BH221+$D220-SUM($BK221:BS221)>AK220+AV221,AK220+AV221-BH221,$D220-SUM($BK221:BS221))))","v":0}]
[null,"","1916-09-01",0,0,0,0,0,0,0,0,0,0,0,null,null,null,null,null,null,null,null,null,null,null,null,0,0,0,0,0,0,0,0,0,0,0,null,0,0,0,0,0,0,0,0,0,0,0,null,0,0,0,0,0,0,0,0,0,0,0,null,0,{"$f":"IF(AC221<=0,0,IF($D221<=SUM($BK222:BK222),0,IF(AZ222+$D221-SUM($BK222:BK222)>AC221+AN222,AC221+AN222-AZ222,$D221-SUM($BK222:BK222))))","v":0},{"$f":"IF(AD221<=0,0,IF($D221<=SUM($BK222:BL222),0,IF(BA222+$D221-SUM($BK222:BL222)>AD221+AO222,AD221+AO222-BA222,$D221-SUM($BK222:BL222))))","v":0},{"$f":"IF(AE221<=0,0,IF($D221<=SUM($BK222:BM222),0,IF(BB222+$D221-SUM($BK222:BM222)>AE221+AP222,AE221+AP222-BB222,$D221-SUM($BK222:BM222))))","v":0},{"$f":"IF(AF221<=0,0,IF($D221<=SUM($BK222:BN222),0,IF(BC222+$D221-SUM($BK222:BN222)>AF221+AQ222,AF221+AQ222-BC222,$D221-SUM($BK222:BN222))))","v":0},{"$f":"IF(AG221<=0,0,IF($D221<=SUM($BK222:BO222),0,IF(BD222+$D221-SUM($BK222:BO222)>AG221+AR222,AG221+AR222-BD222,$D221-SUM($BK222:BO222))))","v":0},{"$f":"IF(AH221<=0,0,IF($D221<=SUM($BK222:BP222),0,IF(BE222+$D221-SUM($BK222:BP222)>AH221+AS222,AH221+AS222-BE222,$D221-SUM($BK222:BP222))))","v":0},{"$f":"IF(AI221<=0,0,IF($D221<=SUM($BK222:BQ222),0,IF(BF222+$D221-SUM($BK222:BQ222)>AI221+AT222,AI221+AT222-BF222,$D221-SUM($BK222:BQ222))))","v":0},{"$f":"IF(AJ221<=0,0,IF($D221<=SUM($BK222:BR222),0,IF(BG222+$D221-SUM($BK222:BR222)>AJ221+AU222,AJ221+AU222-BG222,$D221-SUM($BK222:BR222))))","v":0},{"$f":"IF(AK221<=0,0,IF($D221<=SUM($BK222:BS222),0,IF(BH222+$D221-SUM($BK222:BS222)>AK221+AV222,AK221+AV222-BH222,$D221-SUM($BK222:BS222))))","v":0}]
[null,"","1916-10-01",0,0,0,0,0,0,0,0,0,0,0,null,null,null,null,null,null,null,null,null,null,null,null,0,0,0,0,0,0,0,0,0,0,0,null,0,0,0,0,0,0,0,0,0,0,0,null,0,0,0,0,0,0,0,0,0,0,0,null,0,{"$f":"IF(AC222<=0,0,IF($D222<=SUM($BK223:BK223),0,IF(AZ223+$D222-SUM($BK223:BK223)>AC222+AN223,AC222+AN223-AZ223,$D222-SUM($BK223:BK223))))","v":0},{"$f":"IF(AD222<=0,0,IF($D222<=SUM($BK223:BL223),0,IF(BA223+$D222-SUM($BK223:BL223)>AD222+AO223,AD222+AO223-BA223,$D222-SUM($BK223:BL223))))","v":0},{"$f":"IF(AE222<=0,0,IF($D222<=SUM($BK223:BM223),0,IF(BB223+$D222-SUM($BK223:BM223)>AE222+AP223,AE222+AP223-BB223,$D222-SUM($BK223:BM223))))","v":0},{"$f":"IF(AF222<=0,0,IF($D222<=SUM($BK223:BN223),0,IF(BC223+$D222-SUM($BK223:BN223)>AF222+AQ223,AF222+AQ223-BC223,$D222-SUM($BK223:BN223))))","v":0},{"$f":"IF(AG222<=0,0,IF($D222<=SUM($BK223:BO223),0,IF(BD223+$D222-SUM($BK223:BO223)>AG222+AR223,AG222+AR223-BD223,$D222-SUM($BK223:BO223))))","v":0},{"$f":"IF(AH222<=0,0,IF($D222<=SUM($BK223:BP223),0,IF(BE223+$D222-SUM($BK223:BP223)>AH222+AS223,AH222+AS223-BE223,$D222-SUM($BK223:BP223))))","v":0},{"$f":"IF(AI222<=0,0,IF($D222<=SUM($BK223:BQ223),0,IF(BF223+$D222-SUM($BK223:BQ223)>AI222+AT223,AI222+AT223-BF223,$D222-SUM($BK223:BQ223))))","v":0},{"$f":"IF(AJ222<=0,0,IF($D222<=SUM($BK223:BR223),0,IF(BG223+$D222-SUM($BK223:BR223)>AJ222+AU223,AJ222+AU223-BG223,$D222-SUM($BK223:BR223))))","v":0},{"$f":"IF(AK222<=0,0,IF($D222<=SUM($BK223:BS223),0,IF(BH223+$D222-SUM($BK223:BS223)>AK222+AV223,AK222+AV223-BH223,$D222-SUM($BK223:BS223))))","v":0}]
[null,"","1916-11-01",0,0,0,0,0,0,0,0,0,0,0,null,null,null,null,null,null,null,null,null,null,null,null,0,0,0,0,0,0,0,0,0,0,0,null,0,0,0,0,0,0,0,0,0,0,0,null,0,0,0,0,0,0,0,0,0,0,0,null,0,{"$f":"IF(AC223<=0,0,IF($D223<=SUM($BK224:BK224),0,IF(AZ224+$D223-SUM($BK224:BK224)>AC223+AN224,AC223+AN224-AZ224,$D223-SUM($BK224:BK224))))","v":0},{"$f":"IF(AD223<=0,0,IF($D223<=SUM($BK224:BL224),0,IF(BA224+$D223-SUM($BK224:BL224)>AD223+AO224,AD223+AO224-BA224,$D223-SUM($BK224:BL224))))","v":0},{"$f":"IF(AE223<=0,0,IF($D223<=SUM($BK224:BM224),0,IF(BB224+$D223-SUM($BK224:BM224)>AE223+AP224,AE223+AP224-BB224,$D223-SUM($BK224:BM224))))","v":0},{"$f":"IF(AF223<=0,0,IF($D223<=SUM($BK224:BN224),0,IF(BC224+$D223-SUM($BK224:BN224)>AF223+AQ224,AF223+AQ224-BC224,$D223-SUM($BK224:BN224))))","v":0},{"$f":"IF(AG223<=0,0,IF($D223<=SUM($BK224:BO224),0,IF(BD224+$D223-SUM($BK224:BO224)>AG223+AR224,AG223+AR224-BD224,$D223-SUM($BK224:BO224))))","v":0},{"$f":"IF(AH223<=0,0,IF($D223<=SUM($BK224:BP224),0,IF(BE224+$D223-SUM($BK224:BP224)>AH223+AS224,AH223+AS224-BE224,$D223-SUM($BK224:BP224))))","v":0},{"$f":"IF(AI223<=0,0,IF($D223<=SUM($BK224:BQ224),0,IF(BF224+$D223-SUM($BK224:BQ224)>AI223+AT224,AI223+AT224-BF224,$D223-SUM($BK224:BQ224))))","v":0},{"$f":"IF(AJ223<=0,0,IF($D223<=SUM($BK224:BR224),0,IF(BG224+$D223-SUM($BK224:BR224)>AJ223+AU224,AJ223+AU224-BG224,$D223-SUM($BK224:BR224))))","v":0},{"$f":"IF(AK223<=0,0,IF($D223<=SUM($BK224:BS224),0,IF(BH224+$D223-SUM($BK224:BS224)>AK223+AV224,AK223+AV224-BH224,$D223-SUM($BK224:BS224))))","v":0}]
[null,"","1916-12-01",0,0,0,0,0,0,0,0,0,0,0,null,null,null,null,null,null,null,null,null,null,null,null,0,0,0,0,0,0,0,0,0,0,0,null,0,0,0,0,0,0,0,0,0,0,0,null,0,0,0,0,0,0,0,0,0,0,0,null,0,{"$f":"IF(AC224<=0,0,IF($D224<=SUM($BK225:BK225),0,IF(AZ225+$D224-SUM($BK225:BK225)>AC224+AN225,AC224+AN225-AZ225,$D224-SUM($BK225:BK225))))","v":0},{"$f":"IF(AD224<=0,0,IF($D224<=SUM($BK225:BL225),0,IF(BA225+$D224-SUM($BK225:BL225)>AD224+AO225,AD224+AO225-BA225,$D224-SUM($BK225:BL225))))","v":0},{"$f":"IF(AE224<=0,0,IF($D224<=SUM($BK225:BM225),0,IF(BB225+$D224-SUM($BK225:BM225)>AE224+AP225,AE224+AP225-BB225,$D224-SUM($BK225:BM225))))","v":0},{"$f":"IF(AF224<=0,0,IF($D224<=SUM($BK225:BN225),0,IF(BC225+$D224-SUM($BK225:BN225)>AF224+AQ225,AF224+AQ225-BC225,$D224-SUM($BK225:BN225))))","v":0},{"$f":"IF(AG224<=0,0,IF($D224<=SUM($BK225:BO225),0,IF(BD225+$D224-SUM($BK225:BO225)>AG224+AR225,AG224+AR225-BD225,$D224-SUM($BK225:BO225))))","v":0},{"$f":"IF(AH224<=0,0,IF($D224<=SUM($BK225:BP225),0,IF(BE225+$D224-SUM($BK225:BP225)>AH224+AS225,AH224+AS225-BE225,$D224-SUM($BK225:BP225))))","v":0},{"$f":"IF(AI224<=0,0,IF($D224<=SUM($BK225:BQ225),0,IF(BF225+$D224-SUM($BK225:BQ225)>AI224+AT225,AI224+AT225-BF225,$D224-SUM($BK225:BQ225))))","v":0},{"$f":"IF(AJ224<=0,0,IF($D224<=SUM($BK225:BR225),0,IF(BG225+$D224-SUM($BK225:BR225)>AJ224+AU225,AJ224+AU225-BG225,$D224-SUM($BK225:BR225))))","v":0},{"$f":"IF(AK224<=0,0,IF($D224<=SUM($BK225:BS225),0,IF(BH225+$D224-SUM($BK225:BS225)>AK224+AV225,AK224+AV225-BH225,$D224-SUM($BK225:BS225))))","v":0}]
[null,"","1917-01-01",0,0,0,0,0,0,0,0,0,0,0,null,null,null,null,null,null,null,null,null,null,null,null,0,0,0,0,0,0,0,0,0,0,0,null,0,0,0,0,0,0,0,0,0,0,0,null,0,0,0,0,0,0,0,0,0,0,0,null,0,{"$f":"IF(AC225<=0,0,IF($D225<=SUM($BK226:BK226),0,IF(AZ226+$D225-SUM($BK226:BK226)>AC225+AN226,AC225+AN226-AZ226,$D225-SUM($BK226:BK226))))","v":0},{"$f":"IF(AD225<=0,0,IF($D225<=SUM($BK226:BL226),0,IF(BA226+$D225-SUM($BK226:BL226)>AD225+AO226,AD225+AO226-BA226,$D225-SUM($BK226:BL226))))","v":0},{"$f":"IF(AE225<=0,0,IF($D225<=SUM($BK226:BM226),0,IF(BB226+$D225-SUM($BK226:BM226)>AE225+AP226,AE225+AP226-BB226,$D225-SUM($BK226:BM226))))","v":0},{"$f":"IF(AF225<=0,0,IF($D225<=SUM($BK226:BN226),0,IF(BC226+$D225-SUM($BK226:BN226)>AF225+AQ226,AF225+AQ226-BC226,$D225-SUM($BK226:BN226))))","v":0},{"$f":"IF(AG225<=0,0,IF($D225<=SUM($BK226:BO226),0,IF(BD226+$D225-SUM($BK226:BO226)>AG225+AR226,AG225+AR226-BD226,$D225-SUM($BK226:BO226))))","v":0},{"$f":"IF(AH225<=0,0,IF($D225<=SUM($BK226:BP226),0,IF(BE226+$D225-SUM($BK226:BP226)>AH225+AS226,AH225+AS226-BE226,$D225-SUM($BK226:BP226))))","v":0},{"$f":"IF(AI225<=0,0,IF($D225<=SUM($BK226:BQ226),0,IF(BF226+$D225-SUM($BK226:BQ226)>AI225+AT226,AI225+AT226-BF226,$D225-SUM($BK226:BQ226))))","v":0},{"$f":"IF(AJ225<=0,0,IF($D225<=SUM($BK226:BR226),0,IF(BG226+$D225-SUM($BK226:BR226)>AJ225+AU226,AJ225+AU226-BG226,$D225-SUM($BK226:BR226))))","v":0},{"$f":"IF(AK225<=0,0,IF($D225<=SUM($BK226:BS226),0,IF(BH226+$D225-SUM($BK226:BS226)>AK225+AV226,AK225+AV226-BH226,$D225-SUM($BK226:BS226))))","v":0}]
[null,"","1917-02-01",0,0,0,0,0,0,0,0,0,0,0,null,null,null,null,null,null,null,null,null,null,null,null,0,0,0,0,0,0,0,0,0,0,0,null,0,0,0,0,0,0,0,0,0,0,0,null,0,0,0,0,0,0,0,0,0,0,0,null,0,{"$f":"IF(AC226<=0,0,IF($D226<=SUM($BK227:BK227),0,IF(AZ227+$D226-SUM($BK227:BK227)>AC226+AN227,AC226+AN227-AZ227,$D226-SUM($BK227:BK227))))","v":0},{"$f":"IF(AD226<=0,0,IF($D226<=SUM($BK227:BL227),0,IF(BA227+$D226-SUM($BK227:BL227)>AD226+AO227,AD226+AO227-BA227,$D226-SUM($BK227:BL227))))","v":0},{"$f":"IF(AE226<=0,0,IF($D226<=SUM($BK227:BM227),0,IF(BB227+$D226-SUM($BK227:BM227)>AE226+AP227,AE226+AP227-BB227,$D226-SUM($BK227:BM227))))","v":0},{"$f":"IF(AF226<=0,0,IF($D226<=SUM($BK227:BN227),0,IF(BC227+$D226-SUM($BK227:BN227)>AF226+AQ227,AF226+AQ227-BC227,$D226-SUM($BK227:BN227))))","v":0},{"$f":"IF(AG226<=0,0,IF($D226<=SUM($BK227:BO227),0,IF(BD227+$D226-SUM($BK227:BO227)>AG226+AR227,AG226+AR227-BD227,$D226-SUM($BK227:BO227))))","v":0},{"$f":"IF(AH226<=0,0,IF($D226<=SUM($BK227:BP227),0,IF(BE227+$D226-SUM($BK227:BP227)>AH226+AS227,AH226+AS227-BE227,$D226-SUM($BK227:BP227))))","v":0},{"$f":"IF(AI226<=0,0,IF($D226<=SUM($BK227:BQ227),0,IF(BF227+$D226-SUM($BK227:BQ227)>AI226+AT227,AI226+AT227-BF227,$D226-SUM($BK227:BQ227))))","v":0},{"$f":"IF(AJ226<=0,0,IF($D226<=SUM($BK227:BR227),0,IF(BG227+$D226-SUM($BK227:BR227)>AJ226+AU227,AJ226+AU227-BG227,$D226-SUM($BK227:BR227))))","v":0},{"$f":"IF(AK226<=0,0,IF($D226<=SUM($BK227:BS227),0,IF(BH227+$D226-SUM($BK227:BS227)>AK226+AV227,AK226+AV227-BH227,$D226-SUM($BK227:BS227))))","v":0}]
[null,"","1917-03-01",0,0,0,0,0,0,0,0,0,0,0,null,null,null,null,null,null,null,null,null,null,null,null,0,0,0,0,0,0,0,0,0,0,0,null,0,0,0,0,0,0,0,0,0,0,0,null,0,0,0,0,0,0,0,0,0,0,0,null,0,{"$f":"IF(AC227<=0,0,IF($D227<=SUM($BK228:BK228),0,IF(AZ228+$D227-SUM($BK228:BK228)>AC227+AN228,AC227+AN228-AZ228,$D227-SUM($BK228:BK228))))","v":0},{"$f":"IF(AD227<=0,0,IF($D227<=SUM($BK228:BL228),0,IF(BA228+$D227-SUM($BK228:BL228)>AD227+AO228,AD227+AO228-BA228,$D227-SUM($BK228:BL228))))","v":0},{"$f":"IF(AE227<=0,0,IF($D227<=SUM($BK228:BM228),0,IF(BB228+$D227-SUM($BK228:BM228)>AE227+AP228,AE227+AP228-BB228,$D227-SUM($BK228:BM228))))","v":0},{"$f":"IF(AF227<=0,0,IF($D227<=SUM($BK228:BN228),0,IF(BC228+$D227-SUM($BK228:BN228)>AF227+AQ228,AF227+AQ228-BC228,$D227-SUM($BK228:BN228))))","v":0},{"$f":"IF(AG227<=0,0,IF($D227<=SUM($BK228:BO228),0,IF(BD228+$D227-SUM($BK228:BO228)>AG227+AR228,AG227+AR228-BD228,$D227-SUM($BK228:BO228))))","v":0},{"$f":"IF(AH227<=0,0,IF($D227<=SUM($BK228:BP228),0,IF(BE228+$D227-SUM($BK228:BP228)>AH227+AS228,AH227+AS228-BE228,$D227-SUM($BK228:BP228))))","v":0},{"$f":"IF(AI227<=0,0,IF($D227<=SUM($BK228:BQ228),0,IF(BF228+$D227-SUM($BK228:BQ228)>AI227+AT228,AI227+AT228-BF228,$D227-SUM($BK228:BQ228))))","v":0},{"$f":"IF(AJ227<=0,0,IF($D227<=SUM($BK228:BR228),0,IF(BG228+$D227-SUM($BK228:BR228)>AJ227+AU228,AJ227+AU228-BG228,$D227-SUM($BK228:BR228))))","v":0},{"$f":"IF(AK227<=0,0,IF($D227<=SUM($BK228:BS228),0,IF(BH228+$D227-SUM($BK228:BS228)>AK227+AV228,AK227+AV228-BH228,$D227-SUM($BK228:BS228))))","v":0}]
[null,"","1917-04-01",0,0,0,0,0,0,0,0,0,0,0,null,null,null,null,null,null,null,null,null,null,null,null,0,0,0,0,0,0,0,0,0,0,0,null,0,0,0,0,0,0,0,0,0,0,0,null,0,0,0,0,0,0,0,0,0,0,0,null,0,{"$f":"IF(AC228<=0,0,IF($D228<=SUM($BK229:BK229),0,IF(AZ229+$D228-SUM($BK229:BK229)>AC228+AN229,AC228+AN229-AZ229,$D228-SUM($BK229:BK229))))","v":0},{"$f":"IF(AD228<=0,0,IF($D228<=SUM($BK229:BL229),0,IF(BA229+$D228-SUM($BK229:BL229)>AD228+AO229,AD228+AO229-BA229,$D228-SUM($BK229:BL229))))","v":0},{"$f":"IF(AE228<=0,0,IF($D228<=SUM($BK229:BM229),0,IF(BB229+$D228-SUM($BK229:BM229)>AE228+AP229,AE228+AP229-BB229,$D228-SUM($BK229:BM229))))","v":0},{"$f":"IF(AF228<=0,0,IF($D228<=SUM($BK229:BN229),0,IF(BC229+$D228-SUM($BK229:BN229)>AF228+AQ229,AF228+AQ229-BC229,$D228-SUM($BK229:BN229))))","v":0},{"$f":"IF(AG228<=0,0,IF($D228<=SUM($BK229:BO229),0,IF(BD229+$D228-SUM($BK229:BO229)>AG228+AR229,AG228+AR229-BD229,$D228-SUM($BK229:BO229))))","v":0},{"$f":"IF(AH228<=0,0,IF($D228<=SUM($BK229:BP229),0,IF(BE229+$D228-SUM($BK229:BP229)>AH228+AS229,AH228+AS229-BE229,$D228-SUM($BK229:BP229))))","v":0},{"$f":"IF(AI228<=0,0,IF($D228<=SUM($BK229:BQ229),0,IF(BF229+$D228-SUM($BK229:BQ229)>AI228+AT229,AI228+AT229-BF229,$D228-SUM($BK229:BQ229))))","v":0},{"$f":"IF(AJ228<=0,0,IF($D228<=SUM($BK229:BR229),0,IF(BG229+$D228-SUM($BK229:BR229)>AJ228+AU229,AJ228+AU229-BG229,$D228-SUM($BK229:BR229))))","v":0},{"$f":"IF(AK228<=0,0,IF($D228<=SUM($BK229:BS229),0,IF(BH229+$D228-SUM($BK229:BS229)>AK228+AV229,AK228+AV229-BH229,$D228-SUM($BK229:BS229))))","v":0}]
[null,"","1917-05-01",0,0,0,0,0,0,0,0,0,0,0,null,null,null,null,null,null,null,null,null,null,null,null,0,0,0,0,0,0,0,0,0,0,0,null,0,0,0,0,0,0,0,0,0,0,0,null,0,0,0,0,0,0,0,0,0,0,0,null,0,{"$f":"IF(AC229<=0,0,IF($D229<=SUM($BK230:BK230),0,IF(AZ230+$D229-SUM($BK230:BK230)>AC229+AN230,AC229+AN230-AZ230,$D229-SUM($BK230:BK230))))","v":0},{"$f":"IF(AD229<=0,0,IF($D229<=SUM($BK230:BL230),0,IF(BA230+$D229-SUM($BK230:BL230)>AD229+AO230,AD229+AO230-BA230,$D229-SUM($BK230:BL230))))","v":0},{"$f":"IF(AE229<=0,0,IF($D229<=SUM($BK230:BM230),0,IF(BB230+$D229-SUM($BK230:BM230)>AE229+AP230,AE229+AP230-BB230,$D229-SUM($BK230:BM230))))","v":0},{"$f":"IF(AF229<=0,0,IF($D229<=SUM($BK230:BN230),0,IF(BC230+$D229-SUM($BK230:BN230)>AF229+AQ230,AF229+AQ230-BC230,$D229-SUM($BK230:BN230))))","v":0},{"$f":"IF(AG229<=0,0,IF($D229<=SUM($BK230:BO230),0,IF(BD230+$D229-SUM($BK230:BO230)>AG229+AR230,AG229+AR230-BD230,$D229-SUM($BK230:BO230))))","v":0},{"$f":"IF(AH229<=0,0,IF($D229<=SUM($BK230:BP230),0,IF(BE230+$D229-SUM($BK230:BP230)>AH229+AS230,AH229+AS230-BE230,$D229-SUM($BK230:BP230))))","v":0},{"$f":"IF(AI229<=0,0,IF($D229<=SUM($BK230:BQ230),0,IF(BF230+$D229-SUM($BK230:BQ230)>AI229+AT230,AI229+AT230-BF230,$D229-SUM($BK230:BQ230))))","v":0},{"$f":"IF(AJ229<=0,0,IF($D229<=SUM($BK230:BR230),0,IF(BG230+$D229-SUM($BK230:BR230)>AJ229+AU230,AJ229+AU230-BG230,$D229-SUM($BK230:BR230))))","v":0},{"$f":"IF(AK229<=0,0,IF($D229<=SUM($BK230:BS230),0,IF(BH230+$D229-SUM($BK230:BS230)>AK229+AV230,AK229+AV230-BH230,$D229-SUM($BK230:BS230))))","v":0}]
[null,"","1917-06-01",0,0,{"$f":"+AZ232+BL232","v":0},{"$f":"+BA232+BM232","v":0},{"$f":"+BB232+BN232","v":0},{"$f":"+BC232+BO232","v":0},{"$f":"+BD232+BP232","v":0},{"$f":"+BE232+BQ232","v":0},{"$f":"+BF232+BR232","v":0},{"$f":"+BG232+BS232","v":0},{"$f":"+BH232+BT232","v":0},null,null,null,null,null,null,null,null,null,null,null,null,0,0,0,0,0,0,0,0,0,0,0,null,0,0,0,0,0,0,0,0,0,0,0,null,0,0,0,0,0,0,0,0,0,0,0,null,0,{"$f":"IF(AC230<=0,0,IF($D230<=SUM($BK231:BK231),0,IF(AZ231+$D230-SUM($BK231:BK231)>AC230+AN231,AC230+AN231-AZ231,$D230-SUM($BK231:BK231))))","v":0},{"$f":"IF(AD230<=0,0,IF($D230<=SUM($BK231:BL231),0,IF(BA231+$D230-SUM($BK231:BL231)>AD230+AO231,AD230+AO231-BA231,$D230-SUM($BK231:BL231))))","v":0},{"$f":"IF(AE230<=0,0,IF($D230<=SUM($BK231:BM231),0,IF(BB231+$D230-SUM($BK231:BM231)>AE230+AP231,AE230+AP231-BB231,$D230-SUM($BK231:BM231))))","v":0},{"$f":"IF(AF230<=0,0,IF($D230<=SUM($BK231:BN231),0,IF(BC231+$D230-SUM($BK231:BN231)>AF230+AQ231,AF230+AQ231-BC231,$D230-SUM($BK231:BN231))))","v":0},{"$f":"IF(AG230<=0,0,IF($D230<=SUM($BK231:BO231),0,IF(BD231+$D230-SUM($BK231:BO231)>AG230+AR231,AG230+AR231-BD231,$D230-SUM($BK231:BO231))))","v":0},{"$f":"IF(AH230<=0,0,IF($D230<=SUM($BK231:BP231),0,IF(BE231+$D230-SUM($BK231:BP231)>AH230+AS231,AH230+AS231-BE231,$D230-SUM($BK231:BP231))))","v":0},{"$f":"IF(AI230<=0,0,IF($D230<=SUM($BK231:BQ231),0,IF(BF231+$D230-SUM($BK231:BQ231)>AI230+AT231,AI230+AT231-BF231,$D230-SUM($BK231:BQ231))))","v":0},{"$f":"IF(AJ230<=0,0,IF($D230<=SUM($BK231:BR231),0,IF(BG231+$D230-SUM($BK231:BR231)>AJ230+AU231,AJ230+AU231-BG231,$D230-SUM($BK231:BR231))))","v":0},{"$f":"IF(AK230<=0,0,IF($D230<=SUM($BK231:BS231),0,IF(BH231+$D230-SUM($BK231:BS231)>AK230+AV231,AK230+AV231-BH231,$D230-SUM($BK231:BS231))))","v":0}]
[null,"","1917-07-01",0,0,0,0,0,0,0,0,0,0,0,null,null,null,null,null,null,null,null,null,null,null,null,0,0,0,0,0,0,0,0,0,0,0,null,0,0,0,0,0,0,0,0,0,0,0,null,0,0,0,0,0,0,0,0,0,0,0,null,0,{"$f":"IF(AC231<=0,0,IF($D231<=SUM($BK232:BK232),0,IF(AZ232+$D231-SUM($BK232:BK232)>AC231+AN232,AC231+AN232-AZ232,$D231-SUM($BK232:BK232))))","v":0},{"$f":"IF(AD231<=0,0,IF($D231<=SUM($BK232:BL232),0,IF(BA232+$D231-SUM($BK232:BL232)>AD231+AO232,AD231+AO232-BA232,$D231-SUM($BK232:BL232))))","v":0},{"$f":"IF(AE231<=0,0,IF($D231<=SUM($BK232:BM232),0,IF(BB232+$D231-SUM($BK232:BM232)>AE231+AP232,AE231+AP232-BB232,$D231-SUM($BK232:BM232))))","v":0},{"$f":"IF(AF231<=0,0,IF($D231<=SUM($BK232:BN232),0,IF(BC232+$D231-SUM($BK232:BN232)>AF231+AQ232,AF231+AQ232-BC232,$D231-SUM($BK232:BN232))))","v":0},{"$f":"IF(AG231<=0,0,IF($D231<=SUM($BK232:BO232),0,IF(BD232+$D231-SUM($BK232:BO232)>AG231+AR232,AG231+AR232-BD232,$D231-SUM($BK232:BO232))))","v":0},{"$f":"IF(AH231<=0,0,IF($D231<=SUM($BK232:BP232),0,IF(BE232+$D231-SUM($BK232:BP232)>AH231+AS232,AH231+AS232-BE232,$D231-SUM($BK232:BP232))))","v":0},{"$f":"IF(AI231<=0,0,IF($D231<=SUM($BK232:BQ232),0,IF(BF232+$D231-SUM($BK232:BQ232)>AI231+AT232,AI231+AT232-BF232,$D231-SUM($BK232:BQ232))))","v":0},{"$f":"IF(AJ231<=0,0,IF($D231<=SUM($BK232:BR232),0,IF(BG232+$D231-SUM($BK232:BR232)>AJ231+AU232,AJ231+AU232-BG232,$D231-SUM($BK232:BR232))))","v":0},{"$f":"IF(AK231<=0,0,IF($D231<=SUM($BK232:BS232),0,IF(BH232+$D231-SUM($BK232:BS232)>AK231+AV232,AK231+AV232-BH232,$D231-SUM($BK232:BS232))))","v":0}]
[null,"","1917-08-01",0,0,0,0,0,0,0,0,0,0,0,null,null,null,null,null,null,null,null,null,null,null,null,0,0,0,0,0,0,0,0,0,0,0,null,0,0,0,0,0,0,0,0,0,0,0,null,0,0,0,0,0,0,0,0,0,0,0,null,0,{"$f":"IF(AC232<=0,0,IF($D232<=SUM($BK233:BK233),0,IF(AZ233+$D232-SUM($BK233:BK233)>AC232+AN233,AC232+AN233-AZ233,$D232-SUM($BK233:BK233))))","v":0},{"$f":"IF(AD232<=0,0,IF($D232<=SUM($BK233:BL233),0,IF(BA233+$D232-SUM($BK233:BL233)>AD232+AO233,AD232+AO233-BA233,$D232-SUM($BK233:BL233))))","v":0},{"$f":"IF(AE232<=0,0,IF($D232<=SUM($BK233:BM233),0,IF(BB233+$D232-SUM($BK233:BM233)>AE232+AP233,AE232+AP233-BB233,$D232-SUM($BK233:BM233))))","v":0},{"$f":"IF(AF232<=0,0,IF($D232<=SUM($BK233:BN233),0,IF(BC233+$D232-SUM($BK233:BN233)>AF232+AQ233,AF232+AQ233-BC233,$D232-SUM($BK233:BN233))))","v":0},{"$f":"IF(AG232<=0,0,IF($D232<=SUM($BK233:BO233),0,IF(BD233+$D232-SUM($BK233:BO233)>AG232+AR233,AG232+AR233-BD233,$D232-SUM($BK233:BO233))))","v":0},{"$f":"IF(AH232<=0,0,IF($D232<=SUM($BK233:BP233),0,IF(BE233+$D232-SUM($BK233:BP233)>AH232+AS233,AH232+AS233-BE233,$D232-SUM($BK233:BP233))))","v":0},{"$f":"IF(AI232<=0,0,IF($D232<=SUM($BK233:BQ233),0,IF(BF233+$D232-SUM($BK233:BQ233)>AI232+AT233,AI232+AT233-BF233,$D232-SUM($BK233:BQ233))))","v":0},{"$f":"IF(AJ232<=0,0,IF($D232<=SUM($BK233:BR233),0,IF(BG233+$D232-SUM($BK233:BR233)>AJ232+AU233,AJ232+AU233-BG233,$D232-SUM($BK233:BR233))))","v":0},{"$f":"IF(AK232<=0,0,IF($D232<=SUM($BK233:BS233),0,IF(BH233+$D232-SUM($BK233:BS233)>AK232+AV233,AK232+AV233-BH233,$D232-SUM($BK233:BS233))))","v":0}]
[null,"","1917-09-01",0,0,0,0,0,0,0,0,0,0,0,null,null,null,null,null,null,null,null,null,null,null,null,0,0,0,0,0,0,0,0,0,0,0,null,0,0,0,0,0,0,0,0,0,0,0,null,0,0,0,0,0,0,0,0,0,0,0,null,0,{"$f":"IF(AC233<=0,0,IF($D233<=SUM($BK234:BK234),0,IF(AZ234+$D233-SUM($BK234:BK234)>AC233+AN234,AC233+AN234-AZ234,$D233-SUM($BK234:BK234))))","v":0},{"$f":"IF(AD233<=0,0,IF($D233<=SUM($BK234:BL234),0,IF(BA234+$D233-SUM($BK234:BL234)>AD233+AO234,AD233+AO234-BA234,$D233-SUM($BK234:BL234))))","v":0},{"$f":"IF(AE233<=0,0,IF($D233<=SUM($BK234:BM234),0,IF(BB234+$D233-SUM($BK234:BM234)>AE233+AP234,AE233+AP234-BB234,$D233-SUM($BK234:BM234))))","v":0},{"$f":"IF(AF233<=0,0,IF($D233<=SUM($BK234:BN234),0,IF(BC234+$D233-SUM($BK234:BN234)>AF233+AQ234,AF233+AQ234-BC234,$D233-SUM($BK234:BN234))))","v":0},{"$f":"IF(AG233<=0,0,IF($D233<=SUM($BK234:BO234),0,IF(BD234+$D233-SUM($BK234:BO234)>AG233+AR234,AG233+AR234-BD234,$D233-SUM($BK234:BO234))))","v":0},{"$f":"IF(AH233<=0,0,IF($D233<=SUM($BK234:BP234),0,IF(BE234+$D233-SUM($BK234:BP234)>AH233+AS234,AH233+AS234-BE234,$D233-SUM($BK234:BP234))))","v":0},{"$f":"IF(AI233<=0,0,IF($D233<=SUM($BK234:BQ234),0,IF(BF234+$D233-SUM($BK234:BQ234)>AI233+AT234,AI233+AT234-BF234,$D233-SUM($BK234:BQ234))))","v":0},{"$f":"IF(AJ233<=0,0,IF($D233<=SUM($BK234:BR234),0,IF(BG234+$D233-SUM($BK234:BR234)>AJ233+AU234,AJ233+AU234-BG234,$D233-SUM($BK234:BR234))))","v":0},{"$f":"IF(AK233<=0,0,IF($D233<=SUM($BK234:BS234),0,IF(BH234+$D233-SUM($BK234:BS234)>AK233+AV234,AK233+AV234-BH234,$D233-SUM($BK234:BS234))))","v":0}]
[null,"","1917-10-01",0,0,0,0,0,0,0,0,0,0,0,null,null,null,null,null,null,null,null,null,null,null,null,0,0,0,0,0,0,0,0,0,0,0,null,0,0,0,0,0,0,0,0,0,0,0,null,0,0,0,0,0,0,0,0,0,0,0,null,0,{"$f":"IF(AC234<=0,0,IF($D234<=SUM($BK235:BK235),0,IF(AZ235+$D234-SUM($BK235:BK235)>AC234+AN235,AC234+AN235-AZ235,$D234-SUM($BK235:BK235))))","v":0},{"$f":"IF(AD234<=0,0,IF($D234<=SUM($BK235:BL235),0,IF(BA235+$D234-SUM($BK235:BL235)>AD234+AO235,AD234+AO235-BA235,$D234-SUM($BK235:BL235))))","v":0},{"$f":"IF(AE234<=0,0,IF($D234<=SUM($BK235:BM235),0,IF(BB235+$D234-SUM($BK235:BM235)>AE234+AP235,AE234+AP235-BB235,$D234-SUM($BK235:BM235))))","v":0},{"$f":"IF(AF234<=0,0,IF($D234<=SUM($BK235:BN235),0,IF(BC235+$D234-SUM($BK235:BN235)>AF234+AQ235,AF234+AQ235-BC235,$D234-SUM($BK235:BN235))))","v":0},{"$f":"IF(AG234<=0,0,IF($D234<=SUM($BK235:BO235),0,IF(BD235+$D234-SUM($BK235:BO235)>AG234+AR235,AG234+AR235-BD235,$D234-SUM($BK235:BO235))))","v":0},{"$f":"IF(AH234<=0,0,IF($D234<=SUM($BK235:BP235),0,IF(BE235+$D234-SUM($BK235:BP235)>AH234+AS235,AH234+AS235-BE235,$D234-SUM($BK235:BP235))))","v":0},{"$f":"IF(AI234<=0,0,IF($D234<=SUM($BK235:BQ235),0,IF(BF235+$D234-SUM($BK235:BQ235)>AI234+AT235,AI234+AT235-BF235,$D234-SUM($BK235:BQ235))))","v":0},{"$f":"IF(AJ234<=0,0,IF($D234<=SUM($BK235:BR235),0,IF(BG235+$D234-SUM($BK235:BR235)>AJ234+AU235,AJ234+AU235-BG235,$D234-SUM($BK235:BR235))))","v":0},{"$f":"IF(AK234<=0,0,IF($D234<=SUM($BK235:BS235),0,IF(BH235+$D234-SUM($BK235:BS235)>AK234+AV235,AK234+AV235-BH235,$D234-SUM($BK235:BS235))))","v":0}]
[null,"","1917-11-01",0,0,0,0,0,0,0,0,0,0,0,null,null,null,null,null,null,null,null,null,null,null,null,0,0,0,0,0,0,0,0,0,0,0,null,0,0,0,0,0,0,0,0,0,0,0,null,0,0,0,0,0,0,0,0,0,0,0,null,0,{"$f":"IF(AC235<=0,0,IF($D235<=SUM($BK236:BK236),0,IF(AZ236+$D235-SUM($BK236:BK236)>AC235+AN236,AC235+AN236-AZ236,$D235-SUM($BK236:BK236))))","v":0},{"$f":"IF(AD235<=0,0,IF($D235<=SUM($BK236:BL236),0,IF(BA236+$D235-SUM($BK236:BL236)>AD235+AO236,AD235+AO236-BA236,$D235-SUM($BK236:BL236))))","v":0},{"$f":"IF(AE235<=0,0,IF($D235<=SUM($BK236:BM236),0,IF(BB236+$D235-SUM($BK236:BM236)>AE235+AP236,AE235+AP236-BB236,$D235-SUM($BK236:BM236))))","v":0},{"$f":"IF(AF235<=0,0,IF($D235<=SUM($BK236:BN236),0,IF(BC236+$D235-SUM($BK236:BN236)>AF235+AQ236,AF235+AQ236-BC236,$D235-SUM($BK236:BN236))))","v":0},{"$f":"IF(AG235<=0,0,IF($D235<=SUM($BK236:BO236),0,IF(BD236+$D235-SUM($BK236:BO236)>AG235+AR236,AG235+AR236-BD236,$D235-SUM($BK236:BO236))))","v":0},{"$f":"IF(AH235<=0,0,IF($D235<=SUM($BK236:BP236),0,IF(BE236+$D235-SUM($BK236:BP236)>AH235+AS236,AH235+AS236-BE236,$D235-SUM($BK236:BP236))))","v":0},{"$f":"IF(AI235<=0,0,IF($D235<=SUM($BK236:BQ236),0,IF(BF236+$D235-SUM($BK236:BQ236)>AI235+AT236,AI235+AT236-BF236,$D235-SUM($BK236:BQ236))))","v":0},{"$f":"IF(AJ235<=0,0,IF($D235<=SUM($BK236:BR236),0,IF(BG236+$D235-SUM($BK236:BR236)>AJ235+AU236,AJ235+AU236-BG236,$D235-SUM($BK236:BR236))))","v":0},{"$f":"IF(AK235<=0,0,IF($D235<=SUM($BK236:BS236),0,IF(BH236+$D235-SUM($BK236:BS236)>AK235+AV236,AK235+AV236-BH236,$D235-SUM($BK236:BS236))))","v":0}]
[null,"","1917-12-01",0,0,0,0,0,0,0,0,0,0,0,null,null,null,null,null,null,null,null,null,null,null,null,0,0,0,0,0,0,0,0,0,0,0,null,0,0,0,0,0,0,0,0,0,0,0,null,0,0,0,0,0,0,0,0,0,0,0,null,0,{"$f":"IF(AC236<=0,0,IF($D236<=SUM($BK237:BK237),0,IF(AZ237+$D236-SUM($BK237:BK237)>AC236+AN237,AC236+AN237-AZ237,$D236-SUM($BK237:BK237))))","v":0},{"$f":"IF(AD236<=0,0,IF($D236<=SUM($BK237:BL237),0,IF(BA237+$D236-SUM($BK237:BL237)>AD236+AO237,AD236+AO237-BA237,$D236-SUM($BK237:BL237))))","v":0},{"$f":"IF(AE236<=0,0,IF($D236<=SUM($BK237:BM237),0,IF(BB237+$D236-SUM($BK237:BM237)>AE236+AP237,AE236+AP237-BB237,$D236-SUM($BK237:BM237))))","v":0},{"$f":"IF(AF236<=0,0,IF($D236<=SUM($BK237:BN237),0,IF(BC237+$D236-SUM($BK237:BN237)>AF236+AQ237,AF236+AQ237-BC237,$D236-SUM($BK237:BN237))))","v":0},{"$f":"IF(AG236<=0,0,IF($D236<=SUM($BK237:BO237),0,IF(BD237+$D236-SUM($BK237:BO237)>AG236+AR237,AG236+AR237-BD237,$D236-SUM($BK237:BO237))))","v":0},{"$f":"IF(AH236<=0,0,IF($D236<=SUM($BK237:BP237),0,IF(BE237+$D236-SUM($BK237:BP237)>AH236+AS237,AH236+AS237-BE237,$D236-SUM($BK237:BP237))))","v":0},{"$f":"IF(AI236<=0,0,IF($D236<=SUM($BK237:BQ237),0,IF(BF237+$D236-SUM($BK237:BQ237)>AI236+AT237,AI236+AT237-BF237,$D236-SUM($BK237:BQ237))))","v":0},{"$f":"IF(AJ236<=0,0,IF($D236<=SUM($BK237:BR237),0,IF(BG237+$D236-SUM($BK237:BR237)>AJ236+AU237,AJ236+AU237-BG237,$D236-SUM($BK237:BR237))))","v":0},{"$f":"IF(AK236<=0,0,IF($D236<=SUM($BK237:BS237),0,IF(BH237+$D236-SUM($BK237:BS237)>AK236+AV237,AK236+AV237-BH237,$D236-SUM($BK237:BS237))))","v":0}]
[null,"","1918-01-01",0,0,0,0,0,0,0,0,0,0,0,null,null,null,null,null,null,null,null,null,null,null,null,0,0,0,0,0,0,0,0,0,0,0,null,0,0,0,0,0,0,0,0,0,0,0,null,0,0,0,0,0,0,0,0,0,0,{"$f":"SUM(AY238:BH238)","v":0},null,0,{"$f":"IF(AC237<=0,0,IF($D237<=SUM($BK238:BK238),0,IF(AZ238+$D237-SUM($BK238:BK238)>AC237+AN238,AC237+AN238-AZ238,$D237-SUM($BK238:BK238))))","v":0},{"$f":"IF(AD237<=0,0,IF($D237<=SUM($BK238:BL238),0,IF(BA238+$D237-SUM($BK238:BL238)>AD237+AO238,AD237+AO238-BA238,$D237-SUM($BK238:BL238))))","v":0},{"$f":"IF(AE237<=0,0,IF($D237<=SUM($BK238:BM238),0,IF(BB238+$D237-SUM($BK238:BM238)>AE237+AP238,AE237+AP238-BB238,$D237-SUM($BK238:BM238))))","v":0},{"$f":"IF(AF237<=0,0,IF($D237<=SUM($BK238:BN238),0,IF(BC238+$D237-SUM($BK238:BN238)>AF237+AQ238,AF237+AQ238-BC238,$D237-SUM($BK238:BN238))))","v":0},{"$f":"IF(AG237<=0,0,IF($D237<=SUM($BK238:BO238),0,IF(BD238+$D237-SUM($BK238:BO238)>AG237+AR238,AG237+AR238-BD238,$D237-SUM($BK238:BO238))))","v":0},{"$f":"IF(AH237<=0,0,IF($D237<=SUM($BK238:BP238),0,IF(BE238+$D237-SUM($BK238:BP238)>AH237+AS238,AH237+AS238-BE238,$D237-SUM($BK238:BP238))))","v":0},{"$f":"IF(AI237<=0,0,IF($D237<=SUM($BK238:BQ238),0,IF(BF238+$D237-SUM($BK238:BQ238)>AI237+AT238,AI237+AT238-BF238,$D237-SUM($BK238:BQ238))))","v":0},{"$f":"IF(AJ237<=0,0,IF($D237<=SUM($BK238:BR238),0,IF(BG238+$D237-SUM($BK238:BR238)>AJ237+AU238,AJ237+AU238-BG238,$D237-SUM($BK238:BR238))))","v":0},{"$f":"IF(AK237<=0,0,IF($D237<=SUM($BK238:BS238),0,IF(BH238+$D237-SUM($BK238:BS238)>AK237+AV238,AK237+AV238-BH238,$D237-SUM($BK238:BS238))))","v":0}]
[null,"","1918-02-01",0,0,0,0,0,0,0,0,0,0,0,null,null,null,null,null,null,null,null,null,null,null,null,0,0,0,0,0,0,0,0,0,0,0,null,0,0,0,0,0,0,0,0,0,0,0,null,0,0,0,0,0,0,0,0,0,0,0,null,0,{"$f":"IF(AC238<=0,0,IF($D238<=SUM($BK239:BK239),0,IF(AZ239+$D238-SUM($BK239:BK239)>AC238+AN239,AC238+AN239-AZ239,$D238-SUM($BK239:BK239))))","v":0},{"$f":"IF(AD238<=0,0,IF($D238<=SUM($BK239:BL239),0,IF(BA239+$D238-SUM($BK239:BL239)>AD238+AO239,AD238+AO239-BA239,$D238-SUM($BK239:BL239))))","v":0},{"$f":"IF(AE238<=0,0,IF($D238<=SUM($BK239:BM239),0,IF(BB239+$D238-SUM($BK239:BM239)>AE238+AP239,AE238+AP239-BB239,$D238-SUM($BK239:BM239))))","v":0},{"$f":"IF(AF238<=0,0,IF($D238<=SUM($BK239:BN239),0,IF(BC239+$D238-SUM($BK239:BN239)>AF238+AQ239,AF238+AQ239-BC239,$D238-SUM($BK239:BN239))))","v":0},{"$f":"IF(AG238<=0,0,IF($D238<=SUM($BK239:BO239),0,IF(BD239+$D238-SUM($BK239:BO239)>AG238+AR239,AG238+AR239-BD239,$D238-SUM($BK239:BO239))))","v":0},{"$f":"IF(AH238<=0,0,IF($D238<=SUM($BK239:BP239),0,IF(BE239+$D238-SUM($BK239:BP239)>AH238+AS239,AH238+AS239-BE239,$D238-SUM($BK239:BP239))))","v":0},{"$f":"IF(AI238<=0,0,IF($D238<=SUM($BK239:BQ239),0,IF(BF239+$D238-SUM($BK239:BQ239)>AI238+AT239,AI238+AT239-BF239,$D238-SUM($BK239:BQ239))))","v":0},{"$f":"IF(AJ238<=0,0,IF($D238<=SUM($BK239:BR239),0,IF(BG239+$D238-SUM($BK239:BR239)>AJ238+AU239,AJ238+AU239-BG239,$D238-SUM($BK239:BR239))))","v":0},{"$f":"IF(AK238<=0,0,IF($D238<=SUM($BK239:BS239),0,IF(BH239+$D238-SUM($BK239:BS239)>AK238+AV239,AK238+AV239-BH239,$D238-SUM($BK239:BS239))))","v":0}]
[null,"","1918-03-01",0,0,0,0,0,0,0,0,0,0,0,null,null,null,null,null,null,null,null,null,null,null,null,0,0,0,0,0,0,0,0,0,0,0,null,0,0,0,0,0,0,0,0,0,0,0,null,0,0,0,0,0,0,0,0,0,0,0,null,0,{"$f":"IF(AC239<=0,0,IF($D239<=SUM($BK240:BK240),0,IF(AZ240+$D239-SUM($BK240:BK240)>AC239+AN240,AC239+AN240-AZ240,$D239-SUM($BK240:BK240))))","v":0},{"$f":"IF(AD239<=0,0,IF($D239<=SUM($BK240:BL240),0,IF(BA240+$D239-SUM($BK240:BL240)>AD239+AO240,AD239+AO240-BA240,$D239-SUM($BK240:BL240))))","v":0},{"$f":"IF(AE239<=0,0,IF($D239<=SUM($BK240:BM240),0,IF(BB240+$D239-SUM($BK240:BM240)>AE239+AP240,AE239+AP240-BB240,$D239-SUM($BK240:BM240))))","v":0},{"$f":"IF(AF239<=0,0,IF($D239<=SUM($BK240:BN240),0,IF(BC240+$D239-SUM($BK240:BN240)>AF239+AQ240,AF239+AQ240-BC240,$D239-SUM($BK240:BN240))))","v":0},{"$f":"IF(AG239<=0,0,IF($D239<=SUM($BK240:BO240),0,IF(BD240+$D239-SUM($BK240:BO240)>AG239+AR240,AG239+AR240-BD240,$D239-SUM($BK240:BO240))))","v":0},{"$f":"IF(AH239<=0,0,IF($D239<=SUM($BK240:BP240),0,IF(BE240+$D239-SUM($BK240:BP240)>AH239+AS240,AH239+AS240-BE240,$D239-SUM($BK240:BP240))))","v":0},{"$f":"IF(AI239<=0,0,IF($D239<=SUM($BK240:BQ240),0,IF(BF240+$D239-SUM($BK240:BQ240)>AI239+AT240,AI239+AT240-BF240,$D239-SUM($BK240:BQ240))))","v":0},{"$f":"IF(AJ239<=0,0,IF($D239<=SUM($BK240:BR240),0,IF(BG240+$D239-SUM($BK240:BR240)>AJ239+AU240,AJ239+AU240-BG240,$D239-SUM($BK240:BR240))))","v":0},{"$f":"IF(AK239<=0,0,IF($D239<=SUM($BK240:BS240),0,IF(BH240+$D239-SUM($BK240:BS240)>AK239+AV240,AK239+AV240-BH240,$D239-SUM($BK240:BS240))))","v":0}]
[null,"","1918-04-01",0,0,0,0,0,0,0,0,0,0,0,null,null,null,null,null,null,null,null,null,null,null,null,0,0,0,0,0,0,0,0,0,0,0,null,0,0,0,0,0,0,0,0,0,0,0,null,0,0,0,0,0,0,0,0,0,0,0,null,0,{"$f":"IF(AC240<=0,0,IF($D240<=SUM($BK241:BK241),0,IF(AZ241+$D240-SUM($BK241:BK241)>AC240+AN241,AC240+AN241-AZ241,$D240-SUM($BK241:BK241))))","v":0},{"$f":"IF(AD240<=0,0,IF($D240<=SUM($BK241:BL241),0,IF(BA241+$D240-SUM($BK241:BL241)>AD240+AO241,AD240+AO241-BA241,$D240-SUM($BK241:BL241))))","v":0},{"$f":"IF(AE240<=0,0,IF($D240<=SUM($BK241:BM241),0,IF(BB241+$D240-SUM($BK241:BM241)>AE240+AP241,AE240+AP241-BB241,$D240-SUM($BK241:BM241))))","v":0},{"$f":"IF(AF240<=0,0,IF($D240<=SUM($BK241:BN241),0,IF(BC241+$D240-SUM($BK241:BN241)>AF240+AQ241,AF240+AQ241-BC241,$D240-SUM($BK241:BN241))))","v":0},{"$f":"IF(AG240<=0,0,IF($D240<=SUM($BK241:BO241),0,IF(BD241+$D240-SUM($BK241:BO241)>AG240+AR241,AG240+AR241-BD241,$D240-SUM($BK241:BO241))))","v":0},{"$f":"IF(AH240<=0,0,IF($D240<=SUM($BK241:BP241),0,IF(BE241+$D240-SUM($BK241:BP241)>AH240+AS241,AH240+AS241-BE241,$D240-SUM($BK241:BP241))))","v":0},{"$f":"IF(AI240<=0,0,IF($D240<=SUM($BK241:BQ241),0,IF(BF241+$D240-SUM($BK241:BQ241)>AI240+AT241,AI240+AT241-BF241,$D240-SUM($BK241:BQ241))))","v":0},{"$f":"IF(AJ240<=0,0,IF($D240<=SUM($BK241:BR241),0,IF(BG241+$D240-SUM($BK241:BR241)>AJ240+AU241,AJ240+AU241-BG241,$D240-SUM($BK241:BR241))))","v":0},{"$f":"IF(AK240<=0,0,IF($D240<=SUM($BK241:BS241),0,IF(BH241+$D240-SUM($BK241:BS241)>AK240+AV241,AK240+AV241-BH241,$D240-SUM($BK241:BS241))))","v":0}]
[null,"","1918-05-01",0,0,0,0,0,0,0,0,0,0,0,null,null,null,null,null,null,null,null,null,null,null,null,0,0,0,0,0,0,0,0,0,0,0,null,0,0,0,0,0,0,0,0,0,0,0,null,0,0,0,0,0,0,0,0,0,0,0,null,0,{"$f":"IF(AC241<=0,0,IF($D241<=SUM($BK242:BK242),0,IF(AZ242+$D241-SUM($BK242:BK242)>AC241+AN242,AC241+AN242-AZ242,$D241-SUM($BK242:BK242))))","v":0},{"$f":"IF(AD241<=0,0,IF($D241<=SUM($BK242:BL242),0,IF(BA242+$D241-SUM($BK242:BL242)>AD241+AO242,AD241+AO242-BA242,$D241-SUM($BK242:BL242))))","v":0},{"$f":"IF(AE241<=0,0,IF($D241<=SUM($BK242:BM242),0,IF(BB242+$D241-SUM($BK242:BM242)>AE241+AP242,AE241+AP242-BB242,$D241-SUM($BK242:BM242))))","v":0},{"$f":"IF(AF241<=0,0,IF($D241<=SUM($BK242:BN242),0,IF(BC242+$D241-SUM($BK242:BN242)>AF241+AQ242,AF241+AQ242-BC242,$D241-SUM($BK242:BN242))))","v":0},{"$f":"IF(AG241<=0,0,IF($D241<=SUM($BK242:BO242),0,IF(BD242+$D241-SUM($BK242:BO242)>AG241+AR242,AG241+AR242-BD242,$D241-SUM($BK242:BO242))))","v":0},{"$f":"IF(AH241<=0,0,IF($D241<=SUM($BK242:BP242),0,IF(BE242+$D241-SUM($BK242:BP242)>AH241+AS242,AH241+AS242-BE242,$D241-SUM($BK242:BP242))))","v":0},{"$f":"IF(AI241<=0,0,IF($D241<=SUM($BK242:BQ242),0,IF(BF242+$D241-SUM($BK242:BQ242)>AI241+AT242,AI241+AT242-BF242,$D241-SUM($BK242:BQ242))))","v":0},{"$f":"IF(AJ241<=0,0,IF($D241<=SUM($BK242:BR242),0,IF(BG242+$D241-SUM($BK242:BR242)>AJ241+AU242,AJ241+AU242-BG242,$D241-SUM($BK242:BR242))))","v":0},{"$f":"IF(AK241<=0,0,IF($D241<=SUM($BK242:BS242),0,IF(BH242+$D241-SUM($BK242:BS242)>AK241+AV242,AK241+AV242-BH242,$D241-SUM($BK242:BS242))))","v":0}]
[null,"","1918-06-01",0,0,0,0,0,0,0,0,0,0,0,null,null,null,null,null,null,null,null,null,null,null,null,0,0,0,0,0,0,0,0,0,0,0,null,0,0,0,0,0,0,0,0,0,0,0,null,0,0,0,0,0,0,0,0,0,0,0,null,0,{"$f":"IF(AC242<=0,0,IF($D242<=SUM($BK243:BK243),0,IF(AZ243+$D242-SUM($BK243:BK243)>AC242+AN243,AC242+AN243-AZ243,$D242-SUM($BK243:BK243))))","v":0},{"$f":"IF(AD242<=0,0,IF($D242<=SUM($BK243:BL243),0,IF(BA243+$D242-SUM($BK243:BL243)>AD242+AO243,AD242+AO243-BA243,$D242-SUM($BK243:BL243))))","v":0},{"$f":"IF(AE242<=0,0,IF($D242<=SUM($BK243:BM243),0,IF(BB243+$D242-SUM($BK243:BM243)>AE242+AP243,AE242+AP243-BB243,$D242-SUM($BK243:BM243))))","v":0},{"$f":"IF(AF242<=0,0,IF($D242<=SUM($BK243:BN243),0,IF(BC243+$D242-SUM($BK243:BN243)>AF242+AQ243,AF242+AQ243-BC243,$D242-SUM($BK243:BN243))))","v":0},{"$f":"IF(AG242<=0,0,IF($D242<=SUM($BK243:BO243),0,IF(BD243+$D242-SUM($BK243:BO243)>AG242+AR243,AG242+AR243-BD243,$D242-SUM($BK243:BO243))))","v":0},{"$f":"IF(AH242<=0,0,IF($D242<=SUM($BK243:BP243),0,IF(BE243+$D242-SUM($BK243:BP243)>AH242+AS243,AH242+AS243-BE243,$D242-SUM($BK243:BP243))))","v":0},{"$f":"IF(AI242<=0,0,IF($D242<=SUM($BK243:BQ243),0,IF(BF243+$D242-SUM($BK243:BQ243)>AI242+AT243,AI242+AT243-BF243,$D242-SUM($BK243:BQ243))))","v":0},{"$f":"IF(AJ242<=0,0,IF($D242<=SUM($BK243:BR243),0,IF(BG243+$D242-SUM($BK243:BR243)>AJ242+AU243,AJ242+AU243-BG243,$D242-SUM($BK243:BR243))))","v":0},{"$f":"IF(AK242<=0,0,IF($D242<=SUM($BK243:BS243),0,IF(BH243+$D242-SUM($BK243:BS243)>AK242+AV243,AK242+AV243-BH243,$D242-SUM($BK243:BS243))))","v":0}]
[null,"","1918-07-01",0,0,0,0,0,0,0,0,0,0,0,null,null,null,null,null,null,null,null,null,null,null,null,0,0,0,0,0,0,0,0,0,0,0,null,0,0,0,0,0,0,0,0,0,0,0,null,0,0,0,0,0,0,0,0,0,0,0,null,0,{"$f":"IF(AC243<=0,0,IF($D243<=SUM($BK244:BK244),0,IF(AZ244+$D243-SUM($BK244:BK244)>AC243+AN244,AC243+AN244-AZ244,$D243-SUM($BK244:BK244))))","v":0},{"$f":"IF(AD243<=0,0,IF($D243<=SUM($BK244:BL244),0,IF(BA244+$D243-SUM($BK244:BL244)>AD243+AO244,AD243+AO244-BA244,$D243-SUM($BK244:BL244))))","v":0},{"$f":"IF(AE243<=0,0,IF($D243<=SUM($BK244:BM244),0,IF(BB244+$D243-SUM($BK244:BM244)>AE243+AP244,AE243+AP244-BB244,$D243-SUM($BK244:BM244))))","v":0},{"$f":"IF(AF243<=0,0,IF($D243<=SUM($BK244:BN244),0,IF(BC244+$D243-SUM($BK244:BN244)>AF243+AQ244,AF243+AQ244-BC244,$D243-SUM($BK244:BN244))))","v":0},{"$f":"IF(AG243<=0,0,IF($D243<=SUM($BK244:BO244),0,IF(BD244+$D243-SUM($BK244:BO244)>AG243+AR244,AG243+AR244-BD244,$D243-SUM($BK244:BO244))))","v":0},{"$f":"IF(AH243<=0,0,IF($D243<=SUM($BK244:BP244),0,IF(BE244+$D243-SUM($BK244:BP244)>AH243+AS244,AH243+AS244-BE244,$D243-SUM($BK244:BP244))))","v":0},{"$f":"IF(AI243<=0,0,IF($D243<=SUM($BK244:BQ244),0,IF(BF244+$D243-SUM($BK244:BQ244)>AI243+AT244,AI243+AT244-BF244,$D243-SUM($BK244:BQ244))))","v":0},{"$f":"IF(AJ243<=0,0,IF($D243<=SUM($BK244:BR244),0,IF(BG244+$D243-SUM($BK244:BR244)>AJ243+AU244,AJ243+AU244-BG244,$D243-SUM($BK244:BR244))))","v":0},{"$f":"IF(AK243<=0,0,IF($D243<=SUM($BK244:BS244),0,IF(BH244+$D243-SUM($BK244:BS244)>AK243+AV244,AK243+AV244-BH244,$D243-SUM($BK244:BS244))))","v":0}]
[null,"","1918-08-01",0,0,0,0,0,0,0,0,0,0,0,null,null,null,null,null,null,null,null,null,null,null,null,0,0,0,0,0,0,0,0,0,0,0,null,0,0,0,0,0,0,0,0,0,0,0,null,0,0,0,0,0,0,0,0,0,0,0,null,0,{"$f":"IF(AC244<=0,0,IF($D244<=SUM($BK245:BK245),0,IF(AZ245+$D244-SUM($BK245:BK245)>AC244+AN245,AC244+AN245-AZ245,$D244-SUM($BK245:BK245))))","v":0},{"$f":"IF(AD244<=0,0,IF($D244<=SUM($BK245:BL245),0,IF(BA245+$D244-SUM($BK245:BL245)>AD244+AO245,AD244+AO245-BA245,$D244-SUM($BK245:BL245))))","v":0},{"$f":"IF(AE244<=0,0,IF($D244<=SUM($BK245:BM245),0,IF(BB245+$D244-SUM($BK245:BM245)>AE244+AP245,AE244+AP245-BB245,$D244-SUM($BK245:BM245))))","v":0},{"$f":"IF(AF244<=0,0,IF($D244<=SUM($BK245:BN245),0,IF(BC245+$D244-SUM($BK245:BN245)>AF244+AQ245,AF244+AQ245-BC245,$D244-SUM($BK245:BN245))))","v":0},{"$f":"IF(AG244<=0,0,IF($D244<=SUM($BK245:BO245),0,IF(BD245+$D244-SUM($BK245:BO245)>AG244+AR245,AG244+AR245-BD245,$D244-SUM($BK245:BO245))))","v":0},{"$f":"IF(AH244<=0,0,IF($D244<=SUM($BK245:BP245),0,IF(BE245+$D244-SUM($BK245:BP245)>AH244+AS245,AH244+AS245-BE245,$D244-SUM($BK245:BP245))))","v":0},{"$f":"IF(AI244<=0,0,IF($D244<=SUM($BK245:BQ245),0,IF(BF245+$D244-SUM($BK245:BQ245)>AI244+AT245,AI244+AT245-BF245,$D244-SUM($BK245:BQ245))))","v":0},{"$f":"IF(AJ244<=0,0,IF($D244<=SUM($BK245:BR245),0,IF(BG245+$D244-SUM($BK245:BR245)>AJ244+AU245,AJ244+AU245-BG245,$D244-SUM($BK245:BR245))))","v":0},{"$f":"IF(AK244<=0,0,IF($D244<=SUM($BK245:BS245),0,IF(BH245+$D244-SUM($BK245:BS245)>AK244+AV245,AK244+AV245-BH245,$D244-SUM($BK245:BS245))))","v":0}]
[null,"","1918-09-01",0,0,0,0,0,0,0,0,0,0,0,null,null,null,null,null,null,null,null,null,null,null,null,0,0,0,0,0,0,0,0,0,0,0,null,0,0,0,0,0,0,0,0,0,0,0,null,0,0,0,0,0,0,0,0,0,0,0,null,0,{"$f":"IF(AC245<=0,0,IF($D245<=SUM($BK246:BK246),0,IF(AZ246+$D245-SUM($BK246:BK246)>AC245+AN246,AC245+AN246-AZ246,$D245-SUM($BK246:BK246))))","v":0},{"$f":"IF(AD245<=0,0,IF($D245<=SUM($BK246:BL246),0,IF(BA246+$D245-SUM($BK246:BL246)>AD245+AO246,AD245+AO246-BA246,$D245-SUM($BK246:BL246))))","v":0},{"$f":"IF(AE245<=0,0,IF($D245<=SUM($BK246:BM246),0,IF(BB246+$D245-SUM($BK246:BM246)>AE245+AP246,AE245+AP246-BB246,$D245-SUM($BK246:BM246))))","v":0},{"$f":"IF(AF245<=0,0,IF($D245<=SUM($BK246:BN246),0,IF(BC246+$D245-SUM($BK246:BN246)>AF245+AQ246,AF245+AQ246-BC246,$D245-SUM($BK246:BN246))))","v":0},{"$f":"IF(AG245<=0,0,IF($D245<=SUM($BK246:BO246),0,IF(BD246+$D245-SUM($BK246:BO246)>AG245+AR246,AG245+AR246-BD246,$D245-SUM($BK246:BO246))))","v":0},{"$f":"IF(AH245<=0,0,IF($D245<=SUM($BK246:BP246),0,IF(BE246+$D245-SUM($BK246:BP246)>AH245+AS246,AH245+AS246-BE246,$D245-SUM($BK246:BP246))))","v":0},{"$f":"IF(AI245<=0,0,IF($D245<=SUM($BK246:BQ246),0,IF(BF246+$D245-SUM($BK246:BQ246)>AI245+AT246,AI245+AT246-BF246,$D245-SUM($BK246:BQ246))))","v":0},{"$f":"IF(AJ245<=0,0,IF($D245<=SUM($BK246:BR246),0,IF(BG246+$D245-SUM($BK246:BR246)>AJ245+AU246,AJ245+AU246-BG246,$D245-SUM($BK246:BR246))))","v":0},{"$f":"IF(AK245<=0,0,IF($D245<=SUM($BK246:BS246),0,IF(BH246+$D245-SUM($BK246:BS246)>AK245+AV246,AK245+AV246-BH246,$D245-SUM($BK246:BS246))))","v":0}]
[null,"","1918-10-01",0,0,0,0,0,0,0,0,0,0,0,null,null,null,null,null,null,null,null,null,null,null,null,0,0,0,0,0,0,0,0,0,0,0,null,0,0,0,0,0,0,0,0,0,0,0,null,0,0,0,0,0,0,0,0,0,0,0,null,0,{"$f":"IF(AC246<=0,0,IF($D246<=SUM($BK247:BK247),0,IF(AZ247+$D246-SUM($BK247:BK247)>AC246+AN247,AC246+AN247-AZ247,$D246-SUM($BK247:BK247))))","v":0},{"$f":"IF(AD246<=0,0,IF($D246<=SUM($BK247:BL247),0,IF(BA247+$D246-SUM($BK247:BL247)>AD246+AO247,AD246+AO247-BA247,$D246-SUM($BK247:BL247))))","v":0},{"$f":"IF(AE246<=0,0,IF($D246<=SUM($BK247:BM247),0,IF(BB247+$D246-SUM($BK247:BM247)>AE246+AP247,AE246+AP247-BB247,$D246-SUM($BK247:BM247))))","v":0},{"$f":"IF(AF246<=0,0,IF($D246<=SUM($BK247:BN247),0,IF(BC247+$D246-SUM($BK247:BN247)>AF246+AQ247,AF246+AQ247-BC247,$D246-SUM($BK247:BN247))))","v":0},{"$f":"IF(AG246<=0,0,IF($D246<=SUM($BK247:BO247),0,IF(BD247+$D246-SUM($BK247:BO247)>AG246+AR247,AG246+AR247-BD247,$D246-SUM($BK247:BO247))))","v":0},{"$f":"IF(AH246<=0,0,IF($D246<=SUM($BK247:BP247),0,IF(BE247+$D246-SUM($BK247:BP247)>AH246+AS247,AH246+AS247-BE247,$D246-SUM($BK247:BP247))))","v":0},{"$f":"IF(AI246<=0,0,IF($D246<=SUM($BK247:BQ247),0,IF(BF247+$D246-SUM($BK247:BQ247)>AI246+AT247,AI246+AT247-BF247,$D246-SUM($BK247:BQ247))))","v":0},{"$f":"IF(AJ246<=0,0,IF($D246<=SUM($BK247:BR247),0,IF(BG247+$D246-SUM($BK247:BR247)>AJ246+AU247,AJ246+AU247-BG247,$D246-SUM($BK247:BR247))))","v":0},{"$f":"IF(AK246<=0,0,IF($D246<=SUM($BK247:BS247),0,IF(BH247+$D246-SUM($BK247:BS247)>AK246+AV247,AK246+AV247-BH247,$D246-SUM($BK247:BS247))))","v":0}]
[null,"","1918-11-01",0,0,0,0,0,0,0,0,0,0,0,null,null,null,null,null,null,null,null,null,null,null,null,0,0,0,0,0,0,0,0,0,0,0,null,0,0,0,0,0,0,0,0,0,0,0,null,0,0,0,0,0,0,0,0,0,0,0,null,0,{"$f":"IF(AC247<=0,0,IF($D247<=SUM($BK248:BK248),0,IF(AZ248+$D247-SUM($BK248:BK248)>AC247+AN248,AC247+AN248-AZ248,$D247-SUM($BK248:BK248))))","v":0},{"$f":"IF(AD247<=0,0,IF($D247<=SUM($BK248:BL248),0,IF(BA248+$D247-SUM($BK248:BL248)>AD247+AO248,AD247+AO248-BA248,$D247-SUM($BK248:BL248))))","v":0},{"$f":"IF(AE247<=0,0,IF($D247<=SUM($BK248:BM248),0,IF(BB248+$D247-SUM($BK248:BM248)>AE247+AP248,AE247+AP248-BB248,$D247-SUM($BK248:BM248))))","v":0},{"$f":"IF(AF247<=0,0,IF($D247<=SUM($BK248:BN248),0,IF(BC248+$D247-SUM($BK248:BN248)>AF247+AQ248,AF247+AQ248-BC248,$D247-SUM($BK248:BN248))))","v":0},{"$f":"IF(AG247<=0,0,IF($D247<=SUM($BK248:BO248),0,IF(BD248+$D247-SUM($BK248:BO248)>AG247+AR248,AG247+AR248-BD248,$D247-SUM($BK248:BO248))))","v":0},{"$f":"IF(AH247<=0,0,IF($D247<=SUM($BK248:BP248),0,IF(BE248+$D247-SUM($BK248:BP248)>AH247+AS248,AH247+AS248-BE248,$D247-SUM($BK248:BP248))))","v":0},{"$f":"IF(AI247<=0,0,IF($D247<=SUM($BK248:BQ248),0,IF(BF248+$D247-SUM($BK248:BQ248)>AI247+AT248,AI247+AT248-BF248,$D247-SUM($BK248:BQ248))))","v":0},{"$f":"IF(AJ247<=0,0,IF($D247<=SUM($BK248:BR248),0,IF(BG248+$D247-SUM($BK248:BR248)>AJ247+AU248,AJ247+AU248-BG248,$D247-SUM($BK248:BR248))))","v":0},{"$f":"IF(AK247<=0,0,IF($D247<=SUM($BK248:BS248),0,IF(BH248+$D247-SUM($BK248:BS248)>AK247+AV248,AK247+AV248-BH248,$D247-SUM($BK248:BS248))))","v":0}]
[null,"","1918-12-01",0,0,0,0,0,0,0,0,0,0,0,null,null,null,null,null,null,null,null,null,null,null,null,0,0,0,0,0,0,0,0,0,0,0,null,0,0,0,0,0,0,0,0,0,0,0,null,0,0,0,0,0,0,0,0,0,0,0,null,0,{"$f":"IF(AC248<=0,0,IF($D248<=SUM($BK249:BK249),0,IF(AZ249+$D248-SUM($BK249:BK249)>AC248+AN249,AC248+AN249-AZ249,$D248-SUM($BK249:BK249))))","v":0},{"$f":"IF(AD248<=0,0,IF($D248<=SUM($BK249:BL249),0,IF(BA249+$D248-SUM($BK249:BL249)>AD248+AO249,AD248+AO249-BA249,$D248-SUM($BK249:BL249))))","v":0},{"$f":"IF(AE248<=0,0,IF($D248<=SUM($BK249:BM249),0,IF(BB249+$D248-SUM($BK249:BM249)>AE248+AP249,AE248+AP249-BB249,$D248-SUM($BK249:BM249))))","v":0},{"$f":"IF(AF248<=0,0,IF($D248<=SUM($BK249:BN249),0,IF(BC249+$D248-SUM($BK249:BN249)>AF248+AQ249,AF248+AQ249-BC249,$D248-SUM($BK249:BN249))))","v":0},{"$f":"IF(AG248<=0,0,IF($D248<=SUM($BK249:BO249),0,IF(BD249+$D248-SUM($BK249:BO249)>AG248+AR249,AG248+AR249-BD249,$D248-SUM($BK249:BO249))))","v":0},{"$f":"IF(AH248<=0,0,IF($D248<=SUM($BK249:BP249),0,IF(BE249+$D248-SUM($BK249:BP249)>AH248+AS249,AH248+AS249-BE249,$D248-SUM($BK249:BP249))))","v":0},{"$f":"IF(AI248<=0,0,IF($D248<=SUM($BK249:BQ249),0,IF(BF249+$D248-SUM($BK249:BQ249)>AI248+AT249,AI248+AT249-BF249,$D248-SUM($BK249:BQ249))))","v":0},{"$f":"IF(AJ248<=0,0,IF($D248<=SUM($BK249:BR249),0,IF(BG249+$D248-SUM($BK249:BR249)>AJ248+AU249,AJ248+AU249-BG249,$D248-SUM($BK249:BR249))))","v":0},{"$f":"IF(AK248<=0,0,IF($D248<=SUM($BK249:BS249),0,IF(BH249+$D248-SUM($BK249:BS249)>AK248+AV249,AK248+AV249-BH249,$D248-SUM($BK249:BS249))))","v":0}]
[null,"","1919-01-01",0,0,0,0,0,0,0,0,0,0,0,null,null,null,null,null,null,null,null,null,null,null,null,0,0,0,0,0,0,0,0,0,0,0,null,0,0,0,0,0,0,0,0,0,0,0,null,0,0,0,0,0,0,0,0,0,0,0,null,0,{"$f":"IF(AC249<=0,0,IF($D249<=SUM($BK250:BK250),0,IF(AZ250+$D249-SUM($BK250:BK250)>AC249+AN250,AC249+AN250-AZ250,$D249-SUM($BK250:BK250))))","v":0},{"$f":"IF(AD249<=0,0,IF($D249<=SUM($BK250:BL250),0,IF(BA250+$D249-SUM($BK250:BL250)>AD249+AO250,AD249+AO250-BA250,$D249-SUM($BK250:BL250))))","v":0},{"$f":"IF(AE249<=0,0,IF($D249<=SUM($BK250:BM250),0,IF(BB250+$D249-SUM($BK250:BM250)>AE249+AP250,AE249+AP250-BB250,$D249-SUM($BK250:BM250))))","v":0},{"$f":"IF(AF249<=0,0,IF($D249<=SUM($BK250:BN250),0,IF(BC250+$D249-SUM($BK250:BN250)>AF249+AQ250,AF249+AQ250-BC250,$D249-SUM($BK250:BN250))))","v":0},{"$f":"IF(AG249<=0,0,IF($D249<=SUM($BK250:BO250),0,IF(BD250+$D249-SUM($BK250:BO250)>AG249+AR250,AG249+AR250-BD250,$D249-SUM($BK250:BO250))))","v":0},{"$f":"IF(AH249<=0,0,IF($D249<=SUM($BK250:BP250),0,IF(BE250+$D249-SUM($BK250:BP250)>AH249+AS250,AH249+AS250-BE250,$D249-SUM($BK250:BP250))))","v":0},{"$f":"IF(AI249<=0,0,IF($D249<=SUM($BK250:BQ250),0,IF(BF250+$D249-SUM($BK250:BQ250)>AI249+AT250,AI249+AT250-BF250,$D249-SUM($BK250:BQ250))))","v":0},{"$f":"IF(AJ249<=0,0,IF($D249<=SUM($BK250:BR250),0,IF(BG250+$D249-SUM($BK250:BR250)>AJ249+AU250,AJ249+AU250-BG250,$D249-SUM($BK250:BR250))))","v":0},{"$f":"IF(AK249<=0,0,IF($D249<=SUM($BK250:BS250),0,IF(BH250+$D249-SUM($BK250:BS250)>AK249+AV250,AK249+AV250-BH250,$D249-SUM($BK250:BS250))))","v":0}]
[null,"","1919-02-01",0,0,0,0,0,0,0,0,0,0,0,null,null,null,null,null,null,null,null,null,null,null,null,0,0,0,0,0,0,0,0,0,0,0,null,0,0,0,0,0,0,0,0,0,0,0,null,0,0,0,0,0,0,0,0,0,0,0,null,0,{"$f":"IF(AC250<=0,0,IF($D250<=SUM($BK251:BK251),0,IF(AZ251+$D250-SUM($BK251:BK251)>AC250+AN251,AC250+AN251-AZ251,$D250-SUM($BK251:BK251))))","v":0},{"$f":"IF(AD250<=0,0,IF($D250<=SUM($BK251:BL251),0,IF(BA251+$D250-SUM($BK251:BL251)>AD250+AO251,AD250+AO251-BA251,$D250-SUM($BK251:BL251))))","v":0},{"$f":"IF(AE250<=0,0,IF($D250<=SUM($BK251:BM251),0,IF(BB251+$D250-SUM($BK251:BM251)>AE250+AP251,AE250+AP251-BB251,$D250-SUM($BK251:BM251))))","v":0},{"$f":"IF(AF250<=0,0,IF($D250<=SUM($BK251:BN251),0,IF(BC251+$D250-SUM($BK251:BN251)>AF250+AQ251,AF250+AQ251-BC251,$D250-SUM($BK251:BN251))))","v":0},{"$f":"IF(AG250<=0,0,IF($D250<=SUM($BK251:BO251),0,IF(BD251+$D250-SUM($BK251:BO251)>AG250+AR251,AG250+AR251-BD251,$D250-SUM($BK251:BO251))))","v":0},{"$f":"IF(AH250<=0,0,IF($D250<=SUM($BK251:BP251),0,IF(BE251+$D250-SUM($BK251:BP251)>AH250+AS251,AH250+AS251-BE251,$D250-SUM($BK251:BP251))))","v":0},{"$f":"IF(AI250<=0,0,IF($D250<=SUM($BK251:BQ251),0,IF(BF251+$D250-SUM($BK251:BQ251)>AI250+AT251,AI250+AT251-BF251,$D250-SUM($BK251:BQ251))))","v":0},{"$f":"IF(AJ250<=0,0,IF($D250<=SUM($BK251:BR251),0,IF(BG251+$D250-SUM($BK251:BR251)>AJ250+AU251,AJ250+AU251-BG251,$D250-SUM($BK251:BR251))))","v":0},{"$f":"IF(AK250<=0,0,IF($D250<=SUM($BK251:BS251),0,IF(BH251+$D250-SUM($BK251:BS251)>AK250+AV251,AK250+AV251-BH251,$D250-SUM($BK251:BS251))))","v":0}]
[null,"","1919-03-01",0,0,0,0,0,0,0,0,0,0,0,null,null,null,null,null,null,null,null,null,null,null,null,0,0,0,0,0,0,0,0,0,0,0,null,0,0,0,0,0,0,0,0,0,0,0,null,0,0,0,0,0,0,0,0,0,0,0,null,0,{"$f":"IF(AC251<=0,0,IF($D251<=SUM($BK252:BK252),0,IF(AZ252+$D251-SUM($BK252:BK252)>AC251+AN252,AC251+AN252-AZ252,$D251-SUM($BK252:BK252))))","v":0},{"$f":"IF(AD251<=0,0,IF($D251<=SUM($BK252:BL252),0,IF(BA252+$D251-SUM($BK252:BL252)>AD251+AO252,AD251+AO252-BA252,$D251-SUM($BK252:BL252))))","v":0},{"$f":"IF(AE251<=0,0,IF($D251<=SUM($BK252:BM252),0,IF(BB252+$D251-SUM($BK252:BM252)>AE251+AP252,AE251+AP252-BB252,$D251-SUM($BK252:BM252))))","v":0},{"$f":"IF(AF251<=0,0,IF($D251<=SUM($BK252:BN252),0,IF(BC252+$D251-SUM($BK252:BN252)>AF251+AQ252,AF251+AQ252-BC252,$D251-SUM($BK252:BN252))))","v":0},{"$f":"IF(AG251<=0,0,IF($D251<=SUM($BK252:BO252),0,IF(BD252+$D251-SUM($BK252:BO252)>AG251+AR252,AG251+AR252-BD252,$D251-SUM($BK252:BO252))))","v":0},{"$f":"IF(AH251<=0,0,IF($D251<=SUM($BK252:BP252),0,IF(BE252+$D251-SUM($BK252:BP252)>AH251+AS252,AH251+AS252-BE252,$D251-SUM($BK252:BP252))))","v":0},{"$f":"IF(AI251<=0,0,IF($D251<=SUM($BK252:BQ252),0,IF(BF252+$D251-SUM($BK252:BQ252)>AI251+AT252,AI251+AT252-BF252,$D251-SUM($BK252:BQ252))))","v":0},{"$f":"IF(AJ251<=0,0,IF($D251<=SUM($BK252:BR252),0,IF(BG252+$D251-SUM($BK252:BR252)>AJ251+AU252,AJ251+AU252-BG252,$D251-SUM($BK252:BR252))))","v":0},{"$f":"IF(AK251<=0,0,IF($D251<=SUM($BK252:BS252),0,IF(BH252+$D251-SUM($BK252:BS252)>AK251+AV252,AK251+AV252-BH252,$D251-SUM($BK252:BS252))))","v":0}]
[null,"","1919-04-01",0,0,0,0,0,0,0,0,0,0,0,null,null,null,null,null,null,null,null,null,null,null,null,0,0,0,0,0,0,0,0,0,0,0,null,0,0,0,0,0,0,0,0,0,0,0,null,0,0,0,0,0,0,0,0,0,0,0,null,0,{"$f":"IF(AC252<=0,0,IF($D252<=SUM($BK253:BK253),0,IF(AZ253+$D252-SUM($BK253:BK253)>AC252+AN253,AC252+AN253-AZ253,$D252-SUM($BK253:BK253))))","v":0},{"$f":"IF(AD252<=0,0,IF($D252<=SUM($BK253:BL253),0,IF(BA253+$D252-SUM($BK253:BL253)>AD252+AO253,AD252+AO253-BA253,$D252-SUM($BK253:BL253))))","v":0},{"$f":"IF(AE252<=0,0,IF($D252<=SUM($BK253:BM253),0,IF(BB253+$D252-SUM($BK253:BM253)>AE252+AP253,AE252+AP253-BB253,$D252-SUM($BK253:BM253))))","v":0},{"$f":"IF(AF252<=0,0,IF($D252<=SUM($BK253:BN253),0,IF(BC253+$D252-SUM($BK253:BN253)>AF252+AQ253,AF252+AQ253-BC253,$D252-SUM($BK253:BN253))))","v":0},{"$f":"IF(AG252<=0,0,IF($D252<=SUM($BK253:BO253),0,IF(BD253+$D252-SUM($BK253:BO253)>AG252+AR253,AG252+AR253-BD253,$D252-SUM($BK253:BO253))))","v":0},{"$f":"IF(AH252<=0,0,IF($D252<=SUM($BK253:BP253),0,IF(BE253+$D252-SUM($BK253:BP253)>AH252+AS253,AH252+AS253-BE253,$D252-SUM($BK253:BP253))))","v":0},{"$f":"IF(AI252<=0,0,IF($D252<=SUM($BK253:BQ253),0,IF(BF253+$D252-SUM($BK253:BQ253)>AI252+AT253,AI252+AT253-BF253,$D252-SUM($BK253:BQ253))))","v":0},{"$f":"IF(AJ252<=0,0,IF($D252<=SUM($BK253:BR253),0,IF(BG253+$D252-SUM($BK253:BR253)>AJ252+AU253,AJ252+AU253-BG253,$D252-SUM($BK253:BR253))))","v":0},{"$f":"IF(AK252<=0,0,IF($D252<=SUM($BK253:BS253),0,IF(BH253+$D252-SUM($BK253:BS253)>AK252+AV253,AK252+AV253-BH253,$D252-SUM($BK253:BS253))))","v":0}]
[null,"","1919-05-01",0,0,0,0,0,0,0,0,0,0,0,null,null,null,null,null,null,null,null,null,null,null,null,0,0,0,0,0,0,0,0,0,0,0,null,0,0,0,0,0,0,0,0,0,0,0,null,0,0,0,0,0,0,0,0,0,0,0,null,0,{"$f":"IF(AC253<=0,0,IF($D253<=SUM($BK254:BK254),0,IF(AZ254+$D253-SUM($BK254:BK254)>AC253+AN254,AC253+AN254-AZ254,$D253-SUM($BK254:BK254))))","v":0},{"$f":"IF(AD253<=0,0,IF($D253<=SUM($BK254:BL254),0,IF(BA254+$D253-SUM($BK254:BL254)>AD253+AO254,AD253+AO254-BA254,$D253-SUM($BK254:BL254))))","v":0},{"$f":"IF(AE253<=0,0,IF($D253<=SUM($BK254:BM254),0,IF(BB254+$D253-SUM($BK254:BM254)>AE253+AP254,AE253+AP254-BB254,$D253-SUM($BK254:BM254))))","v":0},{"$f":"IF(AF253<=0,0,IF($D253<=SUM($BK254:BN254),0,IF(BC254+$D253-SUM($BK254:BN254)>AF253+AQ254,AF253+AQ254-BC254,$D253-SUM($BK254:BN254))))","v":0},{"$f":"IF(AG253<=0,0,IF($D253<=SUM($BK254:BO254),0,IF(BD254+$D253-SUM($BK254:BO254)>AG253+AR254,AG253+AR254-BD254,$D253-SUM($BK254:BO254))))","v":0},{"$f":"IF(AH253<=0,0,IF($D253<=SUM($BK254:BP254),0,IF(BE254+$D253-SUM($BK254:BP254)>AH253+AS254,AH253+AS254-BE254,$D253-SUM($BK254:BP254))))","v":0},{"$f":"IF(AI253<=0,0,IF($D253<=SUM($BK254:BQ254),0,IF(BF254+$D253-SUM($BK254:BQ254)>AI253+AT254,AI253+AT254-BF254,$D253-SUM($BK254:BQ254))))","v":0},{"$f":"IF(AJ253<=0,0,IF($D253<=SUM($BK254:BR254),0,IF(BG254+$D253-SUM($BK254:BR254)>AJ253+AU254,AJ253+AU254-BG254,$D253-SUM($BK254:BR254))))","v":0},{"$f":"IF(AK253<=0,0,IF($D253<=SUM($BK254:BS254),0,IF(BH254+$D253-SUM($BK254:BS254)>AK253+AV254,AK253+AV254-BH254,$D253-SUM($BK254:BS254))))","v":0}]
[null,"","1919-06-01",0,0,0,0,0,0,0,0,0,0,0,null,null,null,null,null,null,null,null,null,null,null,null,0,0,0,0,0,0,0,0,0,0,0,null,0,0,0,0,0,0,0,0,0,0,0,null,0,0,0,0,0,0,0,0,0,0,0,null,0,{"$f":"IF(AC254<=0,0,IF($D254<=SUM($BK255:BK255),0,IF(AZ255+$D254-SUM($BK255:BK255)>AC254+AN255,AC254+AN255-AZ255,$D254-SUM($BK255:BK255))))","v":0},{"$f":"IF(AD254<=0,0,IF($D254<=SUM($BK255:BL255),0,IF(BA255+$D254-SUM($BK255:BL255)>AD254+AO255,AD254+AO255-BA255,$D254-SUM($BK255:BL255))))","v":0},{"$f":"IF(AE254<=0,0,IF($D254<=SUM($BK255:BM255),0,IF(BB255+$D254-SUM($BK255:BM255)>AE254+AP255,AE254+AP255-BB255,$D254-SUM($BK255:BM255))))","v":0},{"$f":"IF(AF254<=0,0,IF($D254<=SUM($BK255:BN255),0,IF(BC255+$D254-SUM($BK255:BN255)>AF254+AQ255,AF254+AQ255-BC255,$D254-SUM($BK255:BN255))))","v":0},{"$f":"IF(AG254<=0,0,IF($D254<=SUM($BK255:BO255),0,IF(BD255+$D254-SUM($BK255:BO255)>AG254+AR255,AG254+AR255-BD255,$D254-SUM($BK255:BO255))))","v":0},{"$f":"IF(AH254<=0,0,IF($D254<=SUM($BK255:BP255),0,IF(BE255+$D254-SUM($BK255:BP255)>AH254+AS255,AH254+AS255-BE255,$D254-SUM($BK255:BP255))))","v":0},{"$f":"IF(AI254<=0,0,IF($D254<=SUM($BK255:BQ255),0,IF(BF255+$D254-SUM($BK255:BQ255)>AI254+AT255,AI254+AT255-BF255,$D254-SUM($BK255:BQ255))))","v":0},{"$f":"IF(AJ254<=0,0,IF($D254<=SUM($BK255:BR255),0,IF(BG255+$D254-SUM($BK255:BR255)>AJ254+AU255,AJ254+AU255-BG255,$D254-SUM($BK255:BR255))))","v":0},{"$f":"IF(AK254<=0,0,IF($D254<=SUM($BK255:BS255),0,IF(BH255+$D254-SUM($BK255:BS255)>AK254+AV255,AK254+AV255-BH255,$D254-SUM($BK255:BS255))))","v":0}]
[null,"","1919-07-01",0,0,0,0,0,0,0,0,0,0,0,null,null,null,null,null,null,null,null,null,null,null,null,0,0,0,0,0,0,0,0,0,0,0,null,0,0,0,0,0,0,0,0,0,0,0,null,0,0,0,0,0,0,0,0,0,0,0,null,0,{"$f":"IF(AC255<=0,0,IF($D255<=SUM($BK256:BK256),0,IF(AZ256+$D255-SUM($BK256:BK256)>AC255+AN256,AC255+AN256-AZ256,$D255-SUM($BK256:BK256))))","v":0},{"$f":"IF(AD255<=0,0,IF($D255<=SUM($BK256:BL256),0,IF(BA256+$D255-SUM($BK256:BL256)>AD255+AO256,AD255+AO256-BA256,$D255-SUM($BK256:BL256))))","v":0},{"$f":"IF(AE255<=0,0,IF($D255<=SUM($BK256:BM256),0,IF(BB256+$D255-SUM($BK256:BM256)>AE255+AP256,AE255+AP256-BB256,$D255-SUM($BK256:BM256))))","v":0},{"$f":"IF(AF255<=0,0,IF($D255<=SUM($BK256:BN256),0,IF(BC256+$D255-SUM($BK256:BN256)>AF255+AQ256,AF255+AQ256-BC256,$D255-SUM($BK256:BN256))))","v":0},{"$f":"IF(AG255<=0,0,IF($D255<=SUM($BK256:BO256),0,IF(BD256+$D255-SUM($BK256:BO256)>AG255+AR256,AG255+AR256-BD256,$D255-SUM($BK256:BO256))))","v":0},{"$f":"IF(AH255<=0,0,IF($D255<=SUM($BK256:BP256),0,IF(BE256+$D255-SUM($BK256:BP256)>AH255+AS256,AH255+AS256-BE256,$D255-SUM($BK256:BP256))))","v":0},{"$f":"IF(AI255<=0,0,IF($D255<=SUM($BK256:BQ256),0,IF(BF256+$D255-SUM($BK256:BQ256)>AI255+AT256,AI255+AT256-BF256,$D255-SUM($BK256:BQ256))))","v":0},{"$f":"IF(AJ255<=0,0,IF($D255<=SUM($BK256:BR256),0,IF(BG256+$D255-SUM($BK256:BR256)>AJ255+AU256,AJ255+AU256-BG256,$D255-SUM($BK256:BR256))))","v":0},{"$f":"IF(AK255<=0,0,IF($D255<=SUM($BK256:BS256),0,IF(BH256+$D255-SUM($BK256:BS256)>AK255+AV256,AK255+AV256-BH256,$D255-SUM($BK256:BS256))))","v":0}]
[null,"","1919-08-01",0,0,0,0,0,0,0,0,0,0,0,null,null,null,null,null,null,null,null,null,null,null,null,0,0,0,0,0,0,0,0,0,0,0,null,0,0,0,0,0,0,0,0,0,0,0,null,0,0,0,0,0,0,0,0,0,0,0,null,0,{"$f":"IF(AC256<=0,0,IF($D256<=SUM($BK257:BK257),0,IF(AZ257+$D256-SUM($BK257:BK257)>AC256+AN257,AC256+AN257-AZ257,$D256-SUM($BK257:BK257))))","v":0},{"$f":"IF(AD256<=0,0,IF($D256<=SUM($BK257:BL257),0,IF(BA257+$D256-SUM($BK257:BL257)>AD256+AO257,AD256+AO257-BA257,$D256-SUM($BK257:BL257))))","v":0},{"$f":"IF(AE256<=0,0,IF($D256<=SUM($BK257:BM257),0,IF(BB257+$D256-SUM($BK257:BM257)>AE256+AP257,AE256+AP257-BB257,$D256-SUM($BK257:BM257))))","v":0},{"$f":"IF(AF256<=0,0,IF($D256<=SUM($BK257:BN257),0,IF(BC257+$D256-SUM($BK257:BN257)>AF256+AQ257,AF256+AQ257-BC257,$D256-SUM($BK257:BN257))))","v":0},{"$f":"IF(AG256<=0,0,IF($D256<=SUM($BK257:BO257),0,IF(BD257+$D256-SUM($BK257:BO257)>AG256+AR257,AG256+AR257-BD257,$D256-SUM($BK257:BO257))))","v":0},{"$f":"IF(AH256<=0,0,IF($D256<=SUM($BK257:BP257),0,IF(BE257+$D256-SUM($BK257:BP257)>AH256+AS257,AH256+AS257-BE257,$D256-SUM($BK257:BP257))))","v":0},{"$f":"IF(AI256<=0,0,IF($D256<=SUM($BK257:BQ257),0,IF(BF257+$D256-SUM($BK257:BQ257)>AI256+AT257,AI256+AT257-BF257,$D256-SUM($BK257:BQ257))))","v":0},{"$f":"IF(AJ256<=0,0,IF($D256<=SUM($BK257:BR257),0,IF(BG257+$D256-SUM($BK257:BR257)>AJ256+AU257,AJ256+AU257-BG257,$D256-SUM($BK257:BR257))))","v":0},{"$f":"IF(AK256<=0,0,IF($D256<=SUM($BK257:BS257),0,IF(BH257+$D256-SUM($BK257:BS257)>AK256+AV257,AK256+AV257-BH257,$D256-SUM($BK257:BS257))))","v":0}]
[null,"","1919-09-01",0,0,0,0,0,0,0,0,0,0,0,null,null,null,null,null,null,null,null,null,null,null,null,0,0,0,0,0,0,0,0,0,0,0,null,0,0,0,0,0,0,0,0,0,0,0,null,0,0,0,0,0,0,0,0,0,0,0,null,0,{"$f":"IF(AC257<=0,0,IF($D257<=SUM($BK258:BK258),0,IF(AZ258+$D257-SUM($BK258:BK258)>AC257+AN258,AC257+AN258-AZ258,$D257-SUM($BK258:BK258))))","v":0},{"$f":"IF(AD257<=0,0,IF($D257<=SUM($BK258:BL258),0,IF(BA258+$D257-SUM($BK258:BL258)>AD257+AO258,AD257+AO258-BA258,$D257-SUM($BK258:BL258))))","v":0},{"$f":"IF(AE257<=0,0,IF($D257<=SUM($BK258:BM258),0,IF(BB258+$D257-SUM($BK258:BM258)>AE257+AP258,AE257+AP258-BB258,$D257-SUM($BK258:BM258))))","v":0},{"$f":"IF(AF257<=0,0,IF($D257<=SUM($BK258:BN258),0,IF(BC258+$D257-SUM($BK258:BN258)>AF257+AQ258,AF257+AQ258-BC258,$D257-SUM($BK258:BN258))))","v":0},{"$f":"IF(AG257<=0,0,IF($D257<=SUM($BK258:BO258),0,IF(BD258+$D257-SUM($BK258:BO258)>AG257+AR258,AG257+AR258-BD258,$D257-SUM($BK258:BO258))))","v":0},{"$f":"IF(AH257<=0,0,IF($D257<=SUM($BK258:BP258),0,IF(BE258+$D257-SUM($BK258:BP258)>AH257+AS258,AH257+AS258-BE258,$D257-SUM($BK258:BP258))))","v":0},{"$f":"IF(AI257<=0,0,IF($D257<=SUM($BK258:BQ258),0,IF(BF258+$D257-SUM($BK258:BQ258)>AI257+AT258,AI257+AT258-BF258,$D257-SUM($BK258:BQ258))))","v":0},{"$f":"IF(AJ257<=0,0,IF($D257<=SUM($BK258:BR258),0,IF(BG258+$D257-SUM($BK258:BR258)>AJ257+AU258,AJ257+AU258-BG258,$D257-SUM($BK258:BR258))))","v":0},{"$f":"IF(AK257<=0,0,IF($D257<=SUM($BK258:BS258),0,IF(BH258+$D257-SUM($BK258:BS258)>AK257+AV258,AK257+AV258-BH258,$D257-SUM($BK258:BS258))))","v":0}]
[null,"","1919-10-01",0,0,0,0,0,0,0,0,0,0,0,null,null,null,null,null,null,null,null,null,null,null,null,0,0,0,0,0,0,0,0,0,0,0,null,0,0,0,0,0,0,0,0,0,0,0,null,0,0,0,0,0,0,0,0,0,0,0,null,0,{"$f":"IF(AC258<=0,0,IF($D258<=SUM($BK259:BK259),0,IF(AZ259+$D258-SUM($BK259:BK259)>AC258+AN259,AC258+AN259-AZ259,$D258-SUM($BK259:BK259))))","v":0},{"$f":"IF(AD258<=0,0,IF($D258<=SUM($BK259:BL259),0,IF(BA259+$D258-SUM($BK259:BL259)>AD258+AO259,AD258+AO259-BA259,$D258-SUM($BK259:BL259))))","v":0},{"$f":"IF(AE258<=0,0,IF($D258<=SUM($BK259:BM259),0,IF(BB259+$D258-SUM($BK259:BM259)>AE258+AP259,AE258+AP259-BB259,$D258-SUM($BK259:BM259))))","v":0},{"$f":"IF(AF258<=0,0,IF($D258<=SUM($BK259:BN259),0,IF(BC259+$D258-SUM($BK259:BN259)>AF258+AQ259,AF258+AQ259-BC259,$D258-SUM($BK259:BN259))))","v":0},{"$f":"IF(AG258<=0,0,IF($D258<=SUM($BK259:BO259),0,IF(BD259+$D258-SUM($BK259:BO259)>AG258+AR259,AG258+AR259-BD259,$D258-SUM($BK259:BO259))))","v":0},{"$f":"IF(AH258<=0,0,IF($D258<=SUM($BK259:BP259),0,IF(BE259+$D258-SUM($BK259:BP259)>AH258+AS259,AH258+AS259-BE259,$D258-SUM($BK259:BP259))))","v":0},{"$f":"IF(AI258<=0,0,IF($D258<=SUM($BK259:BQ259),0,IF(BF259+$D258-SUM($BK259:BQ259)>AI258+AT259,AI258+AT259-BF259,$D258-SUM($BK259:BQ259))))","v":0},{"$f":"IF(AJ258<=0,0,IF($D258<=SUM($BK259:BR259),0,IF(BG259+$D258-SUM($BK259:BR259)>AJ258+AU259,AJ258+AU259-BG259,$D258-SUM($BK259:BR259))))","v":0},{"$f":"IF(AK258<=0,0,IF($D258<=SUM($BK259:BS259),0,IF(BH259+$D258-SUM($BK259:BS259)>AK258+AV259,AK258+AV259-BH259,$D258-SUM($BK259:BS259))))","v":0}]
[null,"","1919-11-01",0,0,0,0,0,0,0,0,0,0,0,null,null,null,null,null,null,null,null,null,null,null,null,0,0,0,0,0,0,0,0,0,0,0,null,0,0,0,0,0,0,0,0,0,0,0,null,0,0,0,0,0,0,0,0,0,0,0,null,0,{"$f":"IF(AC259<=0,0,IF($D259<=SUM($BK260:BK260),0,IF(AZ260+$D259-SUM($BK260:BK260)>AC259+AN260,AC259+AN260-AZ260,$D259-SUM($BK260:BK260))))","v":0},{"$f":"IF(AD259<=0,0,IF($D259<=SUM($BK260:BL260),0,IF(BA260+$D259-SUM($BK260:BL260)>AD259+AO260,AD259+AO260-BA260,$D259-SUM($BK260:BL260))))","v":0},{"$f":"IF(AE259<=0,0,IF($D259<=SUM($BK260:BM260),0,IF(BB260+$D259-SUM($BK260:BM260)>AE259+AP260,AE259+AP260-BB260,$D259-SUM($BK260:BM260))))","v":0},{"$f":"IF(AF259<=0,0,IF($D259<=SUM($BK260:BN260),0,IF(BC260+$D259-SUM($BK260:BN260)>AF259+AQ260,AF259+AQ260-BC260,$D259-SUM($BK260:BN260))))","v":0},{"$f":"IF(AG259<=0,0,IF($D259<=SUM($BK260:BO260),0,IF(BD260+$D259-SUM($BK260:BO260)>AG259+AR260,AG259+AR260-BD260,$D259-SUM($BK260:BO260))))","v":0},{"$f":"IF(AH259<=0,0,IF($D259<=SUM($BK260:BP260),0,IF(BE260+$D259-SUM($BK260:BP260)>AH259+AS260,AH259+AS260-BE260,$D259-SUM($BK260:BP260))))","v":0},{"$f":"IF(AI259<=0,0,IF($D259<=SUM($BK260:BQ260),0,IF(BF260+$D259-SUM($BK260:BQ260)>AI259+AT260,AI259+AT260-BF260,$D259-SUM($BK260:BQ260))))","v":0},{"$f":"IF(AJ259<=0,0,IF($D259<=SUM($BK260:BR260),0,IF(BG260+$D259-SUM($BK260:BR260)>AJ259+AU260,AJ259+AU260-BG260,$D259-SUM($BK260:BR260))))","v":0},{"$f":"IF(AK259<=0,0,IF($D259<=SUM($BK260:BS260),0,IF(BH260+$D259-SUM($BK260:BS260)>AK259+AV260,AK259+AV260-BH260,$D259-SUM($BK260:BS260))))","v":0}]
[null,"","1919-12-01",0,0,0,0,0,0,0,0,0,0,0,null,null,null,null,null,null,null,null,null,null,null,null,0,0,0,0,0,0,0,0,0,0,0,null,0,0,0,0,0,0,0,0,0,0,0,null,0,0,0,0,0,0,0,0,0,0,0,null,0,{"$f":"IF(AC260<=0,0,IF($D260<=SUM($BK261:BK261),0,IF(AZ261+$D260-SUM($BK261:BK261)>AC260+AN261,AC260+AN261-AZ261,$D260-SUM($BK261:BK261))))","v":0},{"$f":"IF(AD260<=0,0,IF($D260<=SUM($BK261:BL261),0,IF(BA261+$D260-SUM($BK261:BL261)>AD260+AO261,AD260+AO261-BA261,$D260-SUM($BK261:BL261))))","v":0},{"$f":"IF(AE260<=0,0,IF($D260<=SUM($BK261:BM261),0,IF(BB261+$D260-SUM($BK261:BM261)>AE260+AP261,AE260+AP261-BB261,$D260-SUM($BK261:BM261))))","v":0},{"$f":"IF(AF260<=0,0,IF($D260<=SUM($BK261:BN261),0,IF(BC261+$D260-SUM($BK261:BN261)>AF260+AQ261,AF260+AQ261-BC261,$D260-SUM($BK261:BN261))))","v":0},{"$f":"IF(AG260<=0,0,IF($D260<=SUM($BK261:BO261),0,IF(BD261+$D260-SUM($BK261:BO261)>AG260+AR261,AG260+AR261-BD261,$D260-SUM($BK261:BO261))))","v":0},{"$f":"IF(AH260<=0,0,IF($D260<=SUM($BK261:BP261),0,IF(BE261+$D260-SUM($BK261:BP261)>AH260+AS261,AH260+AS261-BE261,$D260-SUM($BK261:BP261))))","v":0},{"$f":"IF(AI260<=0,0,IF($D260<=SUM($BK261:BQ261),0,IF(BF261+$D260-SUM($BK261:BQ261)>AI260+AT261,AI260+AT261-BF261,$D260-SUM($BK261:BQ261))))","v":0},{"$f":"IF(AJ260<=0,0,IF($D260<=SUM($BK261:BR261),0,IF(BG261+$D260-SUM($BK261:BR261)>AJ260+AU261,AJ260+AU261-BG261,$D260-SUM($BK261:BR261))))","v":0},{"$f":"IF(AK260<=0,0,IF($D260<=SUM($BK261:BS261),0,IF(BH261+$D260-SUM($BK261:BS261)>AK260+AV261,AK260+AV261-BH261,$D260-SUM($BK261:BS261))))","v":0}]
[null,"","1920-01-01",0,0,0,0,0,0,0,0,0,0,0,null,null,null,null,null,null,null,null,null,null,null,null,0,0,0,0,0,0,0,0,0,0,0,null,0,0,0,0,0,0,0,0,0,0,0,null,0,0,0,0,0,0,0,0,0,0,0,null,0,{"$f":"IF(AC261<=0,0,IF($D261<=SUM($BK262:BK262),0,IF(AZ262+$D261-SUM($BK262:BK262)>AC261+AN262,AC261+AN262-AZ262,$D261-SUM($BK262:BK262))))","v":0},{"$f":"IF(AD261<=0,0,IF($D261<=SUM($BK262:BL262),0,IF(BA262+$D261-SUM($BK262:BL262)>AD261+AO262,AD261+AO262-BA262,$D261-SUM($BK262:BL262))))","v":0},{"$f":"IF(AE261<=0,0,IF($D261<=SUM($BK262:BM262),0,IF(BB262+$D261-SUM($BK262:BM262)>AE261+AP262,AE261+AP262-BB262,$D261-SUM($BK262:BM262))))","v":0},{"$f":"IF(AF261<=0,0,IF($D261<=SUM($BK262:BN262),0,IF(BC262+$D261-SUM($BK262:BN262)>AF261+AQ262,AF261+AQ262-BC262,$D261-SUM($BK262:BN262))))","v":0},{"$f":"IF(AG261<=0,0,IF($D261<=SUM($BK262:BO262),0,IF(BD262+$D261-SUM($BK262:BO262)>AG261+AR262,AG261+AR262-BD262,$D261-SUM($BK262:BO262))))","v":0},{"$f":"IF(AH261<=0,0,IF($D261<=SUM($BK262:BP262),0,IF(BE262+$D261-SUM($BK262:BP262)>AH261+AS262,AH261+AS262-BE262,$D261-SUM($BK262:BP262))))","v":0},{"$f":"IF(AI261<=0,0,IF($D261<=SUM($BK262:BQ262),0,IF(BF262+$D261-SUM($BK262:BQ262)>AI261+AT262,AI261+AT262-BF262,$D261-SUM($BK262:BQ262))))","v":0},{"$f":"IF(AJ261<=0,0,IF($D261<=SUM($BK262:BR262),0,IF(BG262+$D261-SUM($BK262:BR262)>AJ261+AU262,AJ261+AU262-BG262,$D261-SUM($BK262:BR262))))","v":0},{"$f":"IF(AK261<=0,0,IF($D261<=SUM($BK262:BS262),0,IF(BH262+$D261-SUM($BK262:BS262)>AK261+AV262,AK261+AV262-BH262,$D261-SUM($BK262:BS262))))","v":0}]
[null,"","1920-02-01",0,0,0,0,0,0,0,0,0,0,0,null,null,null,null,null,null,null,null,null,null,null,null,0,0,0,0,0,0,0,0,0,0,0,null,0,0,0,0,0,0,0,0,0,0,0,null,0,0,0,0,0,0,0,0,0,0,0,null,0,{"$f":"IF(AC262<=0,0,IF($D262<=SUM($BK263:BK263),0,IF(AZ263+$D262-SUM($BK263:BK263)>AC262+AN263,AC262+AN263-AZ263,$D262-SUM($BK263:BK263))))","v":0},{"$f":"IF(AD262<=0,0,IF($D262<=SUM($BK263:BL263),0,IF(BA263+$D262-SUM($BK263:BL263)>AD262+AO263,AD262+AO263-BA263,$D262-SUM($BK263:BL263))))","v":0},{"$f":"IF(AE262<=0,0,IF($D262<=SUM($BK263:BM263),0,IF(BB263+$D262-SUM($BK263:BM263)>AE262+AP263,AE262+AP263-BB263,$D262-SUM($BK263:BM263))))","v":0},{"$f":"IF(AF262<=0,0,IF($D262<=SUM($BK263:BN263),0,IF(BC263+$D262-SUM($BK263:BN263)>AF262+AQ263,AF262+AQ263-BC263,$D262-SUM($BK263:BN263))))","v":0},{"$f":"IF(AG262<=0,0,IF($D262<=SUM($BK263:BO263),0,IF(BD263+$D262-SUM($BK263:BO263)>AG262+AR263,AG262+AR263-BD263,$D262-SUM($BK263:BO263))))","v":0},{"$f":"IF(AH262<=0,0,IF($D262<=SUM($BK263:BP263),0,IF(BE263+$D262-SUM($BK263:BP263)>AH262+AS263,AH262+AS263-BE263,$D262-SUM($BK263:BP263))))","v":0},{"$f":"IF(AI262<=0,0,IF($D262<=SUM($BK263:BQ263),0,IF(BF263+$D262-SUM($BK263:BQ263)>AI262+AT263,AI262+AT263-BF263,$D262-SUM($BK263:BQ263))))","v":0},{"$f":"IF(AJ262<=0,0,IF($D262<=SUM($BK263:BR263),0,IF(BG263+$D262-SUM($BK263:BR263)>AJ262+AU263,AJ262+AU263-BG263,$D262-SUM($BK263:BR263))))","v":0},{"$f":"IF(AK262<=0,0,IF($D262<=SUM($BK263:BS263),0,IF(BH263+$D262-SUM($BK263:BS263)>AK262+AV263,AK262+AV263-BH263,$D262-SUM($BK263:BS263))))","v":0}]
[null,"","1920-03-01",0,0,0,0,0,0,0,0,0,0,0,null,null,null,null,null,null,null,null,null,null,null,null,0,0,0,0,0,0,0,0,0,0,0,null,0,0,0,0,0,0,0,0,0,0,0,null,0,0,0,0,0,0,0,0,0,0,0,null,0,{"$f":"IF(AC263<=0,0,IF($D263<=SUM($BK264:BK264),0,IF(AZ264+$D263-SUM($BK264:BK264)>AC263+AN264,AC263+AN264-AZ264,$D263-SUM($BK264:BK264))))","v":0},{"$f":"IF(AD263<=0,0,IF($D263<=SUM($BK264:BL264),0,IF(BA264+$D263-SUM($BK264:BL264)>AD263+AO264,AD263+AO264-BA264,$D263-SUM($BK264:BL264))))","v":0},{"$f":"IF(AE263<=0,0,IF($D263<=SUM($BK264:BM264),0,IF(BB264+$D263-SUM($BK264:BM264)>AE263+AP264,AE263+AP264-BB264,$D263-SUM($BK264:BM264))))","v":0},{"$f":"IF(AF263<=0,0,IF($D263<=SUM($BK264:BN264),0,IF(BC264+$D263-SUM($BK264:BN264)>AF263+AQ264,AF263+AQ264-BC264,$D263-SUM($BK264:BN264))))","v":0},{"$f":"IF(AG263<=0,0,IF($D263<=SUM($BK264:BO264),0,IF(BD264+$D263-SUM($BK264:BO264)>AG263+AR264,AG263+AR264-BD264,$D263-SUM($BK264:BO264))))","v":0},{"$f":"IF(AH263<=0,0,IF($D263<=SUM($BK264:BP264),0,IF(BE264+$D263-SUM($BK264:BP264)>AH263+AS264,AH263+AS264-BE264,$D263-SUM($BK264:BP264))))","v":0},{"$f":"IF(AI263<=0,0,IF($D263<=SUM($BK264:BQ264),0,IF(BF264+$D263-SUM($BK264:BQ264)>AI263+AT264,AI263+AT264-BF264,$D263-SUM($BK264:BQ264))))","v":0},{"$f":"IF(AJ263<=0,0,IF($D263<=SUM($BK264:BR264),0,IF(BG264+$D263-SUM($BK264:BR264)>AJ263+AU264,AJ263+AU264-BG264,$D263-SUM($BK264:BR264))))","v":0},{"$f":"IF(AK263<=0,0,IF($D263<=SUM($BK264:BS264),0,IF(BH264+$D263-SUM($BK264:BS264)>AK263+AV264,AK263+AV264-BH264,$D263-SUM($BK264:BS264))))","v":0}]
[null,"","1920-04-01",0,0,0,0,0,0,0,0,0,0,0,null,null,null,null,null,null,null,null,null,null,null,null,0,0,0,0,0,0,0,0,0,0,0,null,0,0,0,0,0,0,0,0,0,0,0,null,0,0,0,0,0,0,0,0,0,0,0,null,0,{"$f":"IF(AC264<=0,0,IF($D264<=SUM($BK265:BK265),0,IF(AZ265+$D264-SUM($BK265:BK265)>AC264+AN265,AC264+AN265-AZ265,$D264-SUM($BK265:BK265))))","v":0},{"$f":"IF(AD264<=0,0,IF($D264<=SUM($BK265:BL265),0,IF(BA265+$D264-SUM($BK265:BL265)>AD264+AO265,AD264+AO265-BA265,$D264-SUM($BK265:BL265))))","v":0},{"$f":"IF(AE264<=0,0,IF($D264<=SUM($BK265:BM265),0,IF(BB265+$D264-SUM($BK265:BM265)>AE264+AP265,AE264+AP265-BB265,$D264-SUM($BK265:BM265))))","v":0},{"$f":"IF(AF264<=0,0,IF($D264<=SUM($BK265:BN265),0,IF(BC265+$D264-SUM($BK265:BN265)>AF264+AQ265,AF264+AQ265-BC265,$D264-SUM($BK265:BN265))))","v":0},{"$f":"IF(AG264<=0,0,IF($D264<=SUM($BK265:BO265),0,IF(BD265+$D264-SUM($BK265:BO265)>AG264+AR265,AG264+AR265-BD265,$D264-SUM($BK265:BO265))))","v":0},{"$f":"IF(AH264<=0,0,IF($D264<=SUM($BK265:BP265),0,IF(BE265+$D264-SUM($BK265:BP265)>AH264+AS265,AH264+AS265-BE265,$D264-SUM($BK265:BP265))))","v":0},{"$f":"IF(AI264<=0,0,IF($D264<=SUM($BK265:BQ265),0,IF(BF265+$D264-SUM($BK265:BQ265)>AI264+AT265,AI264+AT265-BF265,$D264-SUM($BK265:BQ265))))","v":0},{"$f":"IF(AJ264<=0,0,IF($D264<=SUM($BK265:BR265),0,IF(BG265+$D264-SUM($BK265:BR265)>AJ264+AU265,AJ264+AU265-BG265,$D264-SUM($BK265:BR265))))","v":0},{"$f":"IF(AK264<=0,0,IF($D264<=SUM($BK265:BS265),0,IF(BH265+$D264-SUM($BK265:BS265)>AK264+AV265,AK264+AV265-BH265,$D264-SUM($BK265:BS265))))","v":0}]
[null,"","1920-05-01",0,0,0,0,0,0,0,0,0,0,0,null,null,null,null,null,null,null,null,null,null,null,null,0,0,0,0,0,0,0,0,0,0,0,null,0,0,0,0,0,0,0,0,0,0,0,null,0,0,0,0,0,0,0,0,0,0,0,null,0,{"$f":"IF(AC265<=0,0,IF($D265<=SUM($BK266:BK266),0,IF(AZ266+$D265-SUM($BK266:BK266)>AC265+AN266,AC265+AN266-AZ266,$D265-SUM($BK266:BK266))))","v":0},{"$f":"IF(AD265<=0,0,IF($D265<=SUM($BK266:BL266),0,IF(BA266+$D265-SUM($BK266:BL266)>AD265+AO266,AD265+AO266-BA266,$D265-SUM($BK266:BL266))))","v":0},{"$f":"IF(AE265<=0,0,IF($D265<=SUM($BK266:BM266),0,IF(BB266+$D265-SUM($BK266:BM266)>AE265+AP266,AE265+AP266-BB266,$D265-SUM($BK266:BM266))))","v":0},{"$f":"IF(AF265<=0,0,IF($D265<=SUM($BK266:BN266),0,IF(BC266+$D265-SUM($BK266:BN266)>AF265+AQ266,AF265+AQ266-BC266,$D265-SUM($BK266:BN266))))","v":0},{"$f":"IF(AG265<=0,0,IF($D265<=SUM($BK266:BO266),0,IF(BD266+$D265-SUM($BK266:BO266)>AG265+AR266,AG265+AR266-BD266,$D265-SUM($BK266:BO266))))","v":0},{"$f":"IF(AH265<=0,0,IF($D265<=SUM($BK266:BP266),0,IF(BE266+$D265-SUM($BK266:BP266)>AH265+AS266,AH265+AS266-BE266,$D265-SUM($BK266:BP266))))","v":0},{"$f":"IF(AI265<=0,0,IF($D265<=SUM($BK266:BQ266),0,IF(BF266+$D265-SUM($BK266:BQ266)>AI265+AT266,AI265+AT266-BF266,$D265-SUM($BK266:BQ266))))","v":0},{"$f":"IF(AJ265<=0,0,IF($D265<=SUM($BK266:BR266),0,IF(BG266+$D265-SUM($BK266:BR266)>AJ265+AU266,AJ265+AU266-BG266,$D265-SUM($BK266:BR266))))","v":0},{"$f":"IF(AK265<=0,0,IF($D265<=SUM($BK266:BS266),0,IF(BH266+$D265-SUM($BK266:BS266)>AK265+AV266,AK265+AV266-BH266,$D265-SUM($BK266:BS266))))","v":0}]
[null,"","1920-06-01",0,0,0,0,0,0,0,0,0,0,0,null,null,null,null,null,null,null,null,null,null,null,null,0,0,0,0,0,0,0,0,0,0,0,null,0,0,0,0,0,0,0,0,0,0,0,null,0,0,0,0,0,0,0,0,0,0,0,null,0,{"$f":"IF(AC266<=0,0,IF($D266<=SUM($BK267:BK267),0,IF(AZ267+$D266-SUM($BK267:BK267)>AC266+AN267,AC266+AN267-AZ267,$D266-SUM($BK267:BK267))))","v":0},{"$f":"IF(AD266<=0,0,IF($D266<=SUM($BK267:BL267),0,IF(BA267+$D266-SUM($BK267:BL267)>AD266+AO267,AD266+AO267-BA267,$D266-SUM($BK267:BL267))))","v":0},{"$f":"IF(AE266<=0,0,IF($D266<=SUM($BK267:BM267),0,IF(BB267+$D266-SUM($BK267:BM267)>AE266+AP267,AE266+AP267-BB267,$D266-SUM($BK267:BM267))))","v":0},{"$f":"IF(AF266<=0,0,IF($D266<=SUM($BK267:BN267),0,IF(BC267+$D266-SUM($BK267:BN267)>AF266+AQ267,AF266+AQ267-BC267,$D266-SUM($BK267:BN267))))","v":0},{"$f":"IF(AG266<=0,0,IF($D266<=SUM($BK267:BO267),0,IF(BD267+$D266-SUM($BK267:BO267)>AG266+AR267,AG266+AR267-BD267,$D266-SUM($BK267:BO267))))","v":0},{"$f":"IF(AH266<=0,0,IF($D266<=SUM($BK267:BP267),0,IF(BE267+$D266-SUM($BK267:BP267)>AH266+AS267,AH266+AS267-BE267,$D266-SUM($BK267:BP267))))","v":0},{"$f":"IF(AI266<=0,0,IF($D266<=SUM($BK267:BQ267),0,IF(BF267+$D266-SUM($BK267:BQ267)>AI266+AT267,AI266+AT267-BF267,$D266-SUM($BK267:BQ267))))","v":0},{"$f":"IF(AJ266<=0,0,IF($D266<=SUM($BK267:BR267),0,IF(BG267+$D266-SUM($BK267:BR267)>AJ266+AU267,AJ266+AU267-BG267,$D266-SUM($BK267:BR267))))","v":0},{"$f":"IF(AK266<=0,0,IF($D266<=SUM($BK267:BS267),0,IF(BH267+$D266-SUM($BK267:BS267)>AK266+AV267,AK266+AV267-BH267,$D266-SUM($BK267:BS267))))","v":0}]
[null,"","1920-07-01",0,0,0,0,0,0,0,0,0,0,0,null,null,null,null,null,null,null,null,null,null,null,null,0,0,0,0,0,0,0,0,0,0,0,null,0,0,0,0,0,0,0,0,0,0,0,null,0,0,0,0,0,0,0,0,0,0,0,null,0,{"$f":"IF(AC267<=0,0,IF($D267<=SUM($BK268:BK268),0,IF(AZ268+$D267-SUM($BK268:BK268)>AC267+AN268,AC267+AN268-AZ268,$D267-SUM($BK268:BK268))))","v":0},{"$f":"IF(AD267<=0,0,IF($D267<=SUM($BK268:BL268),0,IF(BA268+$D267-SUM($BK268:BL268)>AD267+AO268,AD267+AO268-BA268,$D267-SUM($BK268:BL268))))","v":0},{"$f":"IF(AE267<=0,0,IF($D267<=SUM($BK268:BM268),0,IF(BB268+$D267-SUM($BK268:BM268)>AE267+AP268,AE267+AP268-BB268,$D267-SUM($BK268:BM268))))","v":0},{"$f":"IF(AF267<=0,0,IF($D267<=SUM($BK268:BN268),0,IF(BC268+$D267-SUM($BK268:BN268)>AF267+AQ268,AF267+AQ268-BC268,$D267-SUM($BK268:BN268))))","v":0},{"$f":"IF(AG267<=0,0,IF($D267<=SUM($BK268:BO268),0,IF(BD268+$D267-SUM($BK268:BO268)>AG267+AR268,AG267+AR268-BD268,$D267-SUM($BK268:BO268))))","v":0},{"$f":"IF(AH267<=0,0,IF($D267<=SUM($BK268:BP268),0,IF(BE268+$D267-SUM($BK268:BP268)>AH267+AS268,AH267+AS268-BE268,$D267-SUM($BK268:BP268))))","v":0},{"$f":"IF(AI267<=0,0,IF($D267<=SUM($BK268:BQ268),0,IF(BF268+$D267-SUM($BK268:BQ268)>AI267+AT268,AI267+AT268-BF268,$D267-SUM($BK268:BQ268))))","v":0},{"$f":"IF(AJ267<=0,0,IF($D267<=SUM($BK268:BR268),0,IF(BG268+$D267-SUM($BK268:BR268)>AJ267+AU268,AJ267+AU268-BG268,$D267-SUM($BK268:BR268))))","v":0},{"$f":"IF(AK267<=0,0,IF($D267<=SUM($BK268:BS268),0,IF(BH268+$D267-SUM($BK268:BS268)>AK267+AV268,AK267+AV268-BH268,$D267-SUM($BK268:BS268))))","v":0}]
[null,"","1920-08-01",0,0,0,0,0,0,0,0,0,0,0,null,null,null,null,null,null,null,null,null,null,null,null,0,0,0,0,0,0,0,0,0,0,0,null,0,0,0,0,0,0,0,0,0,0,0,null,0,0,0,0,0,0,0,0,0,0,0,null,0,{"$f":"IF(AC268<=0,0,IF($D268<=SUM($BK269:BK269),0,IF(AZ269+$D268-SUM($BK269:BK269)>AC268+AN269,AC268+AN269-AZ269,$D268-SUM($BK269:BK269))))","v":0},{"$f":"IF(AD268<=0,0,IF($D268<=SUM($BK269:BL269),0,IF(BA269+$D268-SUM($BK269:BL269)>AD268+AO269,AD268+AO269-BA269,$D268-SUM($BK269:BL269))))","v":0},{"$f":"IF(AE268<=0,0,IF($D268<=SUM($BK269:BM269),0,IF(BB269+$D268-SUM($BK269:BM269)>AE268+AP269,AE268+AP269-BB269,$D268-SUM($BK269:BM269))))","v":0},{"$f":"IF(AF268<=0,0,IF($D268<=SUM($BK269:BN269),0,IF(BC269+$D268-SUM($BK269:BN269)>AF268+AQ269,AF268+AQ269-BC269,$D268-SUM($BK269:BN269))))","v":0},{"$f":"IF(AG268<=0,0,IF($D268<=SUM($BK269:BO269),0,IF(BD269+$D268-SUM($BK269:BO269)>AG268+AR269,AG268+AR269-BD269,$D268-SUM($BK269:BO269))))","v":0},{"$f":"IF(AH268<=0,0,IF($D268<=SUM($BK269:BP269),0,IF(BE269+$D268-SUM($BK269:BP269)>AH268+AS269,AH268+AS269-BE269,$D268-SUM($BK269:BP269))))","v":0},{"$f":"IF(AI268<=0,0,IF($D268<=SUM($BK269:BQ269),0,IF(BF269+$D268-SUM($BK269:BQ269)>AI268+AT269,AI268+AT269-BF269,$D268-SUM($BK269:BQ269))))","v":0},{"$f":"IF(AJ268<=0,0,IF($D268<=SUM($BK269:BR269),0,IF(BG269+$D268-SUM($BK269:BR269)>AJ268+AU269,AJ268+AU269-BG269,$D268-SUM($BK269:BR269))))","v":0},{"$f":"IF(AK268<=0,0,IF($D268<=SUM($BK269:BS269),0,IF(BH269+$D268-SUM($BK269:BS269)>AK268+AV269,AK268+AV269-BH269,$D268-SUM($BK269:BS269))))","v":0}]
[null,"","1920-09-01",0,0,0,0,0,0,0,0,0,0,0,null,null,null,null,null,null,null,null,null,null,null,null,0,0,0,0,0,0,0,0,0,0,0,null,0,0,0,0,0,0,0,0,0,0,0,null,0,0,0,0,0,0,0,0,0,0,0,null,0,{"$f":"IF(AC269<=0,0,IF($D269<=SUM($BK270:BK270),0,IF(AZ270+$D269-SUM($BK270:BK270)>AC269+AN270,AC269+AN270-AZ270,$D269-SUM($BK270:BK270))))","v":0},{"$f":"IF(AD269<=0,0,IF($D269<=SUM($BK270:BL270),0,IF(BA270+$D269-SUM($BK270:BL270)>AD269+AO270,AD269+AO270-BA270,$D269-SUM($BK270:BL270))))","v":0},{"$f":"IF(AE269<=0,0,IF($D269<=SUM($BK270:BM270),0,IF(BB270+$D269-SUM($BK270:BM270)>AE269+AP270,AE269+AP270-BB270,$D269-SUM($BK270:BM270))))","v":0},{"$f":"IF(AF269<=0,0,IF($D269<=SUM($BK270:BN270),0,IF(BC270+$D269-SUM($BK270:BN270)>AF269+AQ270,AF269+AQ270-BC270,$D269-SUM($BK270:BN270))))","v":0},{"$f":"IF(AG269<=0,0,IF($D269<=SUM($BK270:BO270),0,IF(BD270+$D269-SUM($BK270:BO270)>AG269+AR270,AG269+AR270-BD270,$D269-SUM($BK270:BO270))))","v":0},{"$f":"IF(AH269<=0,0,IF($D269<=SUM($BK270:BP270),0,IF(BE270+$D269-SUM($BK270:BP270)>AH269+AS270,AH269+AS270-BE270,$D269-SUM($BK270:BP270))))","v":0},{"$f":"IF(AI269<=0,0,IF($D269<=SUM($BK270:BQ270),0,IF(BF270+$D269-SUM($BK270:BQ270)>AI269+AT270,AI269+AT270-BF270,$D269-SUM($BK270:BQ270))))","v":0},{"$f":"IF(AJ269<=0,0,IF($D269<=SUM($BK270:BR270),0,IF(BG270+$D269-SUM($BK270:BR270)>AJ269+AU270,AJ269+AU270-BG270,$D269-SUM($BK270:BR270))))","v":0},{"$f":"IF(AK269<=0,0,IF($D269<=SUM($BK270:BS270),0,IF(BH270+$D269-SUM($BK270:BS270)>AK269+AV270,AK269+AV270-BH270,$D269-SUM($BK270:BS270))))","v":0}]
[null,"","1920-10-01",0,0,0,0,0,0,0,0,0,0,0,null,null,null,null,null,null,null,null,null,null,null,null,0,0,0,0,0,0,0,0,0,0,0,null,0,0,0,0,0,0,0,0,0,0,0,null,0,0,0,0,0,0,0,0,0,0,0,null,0,{"$f":"IF(AC270<=0,0,IF($D270<=SUM($BK271:BK271),0,IF(AZ271+$D270-SUM($BK271:BK271)>AC270+AN271,AC270+AN271-AZ271,$D270-SUM($BK271:BK271))))","v":0},{"$f":"IF(AD270<=0,0,IF($D270<=SUM($BK271:BL271),0,IF(BA271+$D270-SUM($BK271:BL271)>AD270+AO271,AD270+AO271-BA271,$D270-SUM($BK271:BL271))))","v":0},{"$f":"IF(AE270<=0,0,IF($D270<=SUM($BK271:BM271),0,IF(BB271+$D270-SUM($BK271:BM271)>AE270+AP271,AE270+AP271-BB271,$D270-SUM($BK271:BM271))))","v":0},{"$f":"IF(AF270<=0,0,IF($D270<=SUM($BK271:BN271),0,IF(BC271+$D270-SUM($BK271:BN271)>AF270+AQ271,AF270+AQ271-BC271,$D270-SUM($BK271:BN271))))","v":0},{"$f":"IF(AG270<=0,0,IF($D270<=SUM($BK271:BO271),0,IF(BD271+$D270-SUM($BK271:BO271)>AG270+AR271,AG270+AR271-BD271,$D270-SUM($BK271:BO271))))","v":0},{"$f":"IF(AH270<=0,0,IF($D270<=SUM($BK271:BP271),0,IF(BE271+$D270-SUM($BK271:BP271)>AH270+AS271,AH270+AS271-BE271,$D270-SUM($BK271:BP271))))","v":0},{"$f":"IF(AI270<=0,0,IF($D270<=SUM($BK271:BQ271),0,IF(BF271+$D270-SUM($BK271:BQ271)>AI270+AT271,AI270+AT271-BF271,$D270-SUM($BK271:BQ271))))","v":0},{"$f":"IF(AJ270<=0,0,IF($D270<=SUM($BK271:BR271),0,IF(BG271+$D270-SUM($BK271:BR271)>AJ270+AU271,AJ270+AU271-BG271,$D270-SUM($BK271:BR271))))","v":0},{"$f":"IF(AK270<=0,0,IF($D270<=SUM($BK271:BS271),0,IF(BH271+$D270-SUM($BK271:BS271)>AK270+AV271,AK270+AV271-BH271,$D270-SUM($BK271:BS271))))","v":0}]
[null,"","1920-11-01",0,0,0,0,0,0,0,0,0,0,0,null,null,null,null,null,null,null,null,null,null,null,null,0,0,0,0,0,0,0,0,0,0,0,null,0,0,0,0,0,0,0,0,0,0,0,null,0,0,0,0,0,0,0,0,0,0,0,null,0,{"$f":"IF(AC271<=0,0,IF($D271<=SUM($BK272:BK272),0,IF(AZ272+$D271-SUM($BK272:BK272)>AC271+AN272,AC271+AN272-AZ272,$D271-SUM($BK272:BK272))))","v":0},{"$f":"IF(AD271<=0,0,IF($D271<=SUM($BK272:BL272),0,IF(BA272+$D271-SUM($BK272:BL272)>AD271+AO272,AD271+AO272-BA272,$D271-SUM($BK272:BL272))))","v":0},{"$f":"IF(AE271<=0,0,IF($D271<=SUM($BK272:BM272),0,IF(BB272+$D271-SUM($BK272:BM272)>AE271+AP272,AE271+AP272-BB272,$D271-SUM($BK272:BM272))))","v":0},{"$f":"IF(AF271<=0,0,IF($D271<=SUM($BK272:BN272),0,IF(BC272+$D271-SUM($BK272:BN272)>AF271+AQ272,AF271+AQ272-BC272,$D271-SUM($BK272:BN272))))","v":0},{"$f":"IF(AG271<=0,0,IF($D271<=SUM($BK272:BO272),0,IF(BD272+$D271-SUM($BK272:BO272)>AG271+AR272,AG271+AR272-BD272,$D271-SUM($BK272:BO272))))","v":0},{"$f":"IF(AH271<=0,0,IF($D271<=SUM($BK272:BP272),0,IF(BE272+$D271-SUM($BK272:BP272)>AH271+AS272,AH271+AS272-BE272,$D271-SUM($BK272:BP272))))","v":0},{"$f":"IF(AI271<=0,0,IF($D271<=SUM($BK272:BQ272),0,IF(BF272+$D271-SUM($BK272:BQ272)>AI271+AT272,AI271+AT272-BF272,$D271-SUM($BK272:BQ272))))","v":0},{"$f":"IF(AJ271<=0,0,IF($D271<=SUM($BK272:BR272),0,IF(BG272+$D271-SUM($BK272:BR272)>AJ271+AU272,AJ271+AU272-BG272,$D271-SUM($BK272:BR272))))","v":0},{"$f":"IF(AK271<=0,0,IF($D271<=SUM($BK272:BS272),0,IF(BH272+$D271-SUM($BK272:BS272)>AK271+AV272,AK271+AV272-BH272,$D271-SUM($BK272:BS272))))","v":0}]
[null,"","1920-12-01",0,0,0,0,0,0,0,0,0,0,0,null,null,null,null,null,null,null,null,null,null,null,null,0,0,0,0,0,0,0,0,0,0,0,null,0,0,0,0,0,0,0,0,0,0,0,null,0,0,0,0,0,0,0,0,0,0,0,null,0,{"$f":"IF(AC272<=0,0,IF($D272<=SUM($BK273:BK273),0,IF(AZ273+$D272-SUM($BK273:BK273)>AC272+AN273,AC272+AN273-AZ273,$D272-SUM($BK273:BK273))))","v":0},{"$f":"IF(AD272<=0,0,IF($D272<=SUM($BK273:BL273),0,IF(BA273+$D272-SUM($BK273:BL273)>AD272+AO273,AD272+AO273-BA273,$D272-SUM($BK273:BL273))))","v":0},{"$f":"IF(AE272<=0,0,IF($D272<=SUM($BK273:BM273),0,IF(BB273+$D272-SUM($BK273:BM273)>AE272+AP273,AE272+AP273-BB273,$D272-SUM($BK273:BM273))))","v":0},{"$f":"IF(AF272<=0,0,IF($D272<=SUM($BK273:BN273),0,IF(BC273+$D272-SUM($BK273:BN273)>AF272+AQ273,AF272+AQ273-BC273,$D272-SUM($BK273:BN273))))","v":0},{"$f":"IF(AG272<=0,0,IF($D272<=SUM($BK273:BO273),0,IF(BD273+$D272-SUM($BK273:BO273)>AG272+AR273,AG272+AR273-BD273,$D272-SUM($BK273:BO273))))","v":0},{"$f":"IF(AH272<=0,0,IF($D272<=SUM($BK273:BP273),0,IF(BE273+$D272-SUM($BK273:BP273)>AH272+AS273,AH272+AS273-BE273,$D272-SUM($BK273:BP273))))","v":0},{"$f":"IF(AI272<=0,0,IF($D272<=SUM($BK273:BQ273),0,IF(BF273+$D272-SUM($BK273:BQ273)>AI272+AT273,AI272+AT273-BF273,$D272-SUM($BK273:BQ273))))","v":0},{"$f":"IF(AJ272<=0,0,IF($D272<=SUM($BK273:BR273),0,IF(BG273+$D272-SUM($BK273:BR273)>AJ272+AU273,AJ272+AU273-BG273,$D272-SUM($BK273:BR273))))","v":0},{"$f":"IF(AK272<=0,0,IF($D272<=SUM($BK273:BS273),0,IF(BH273+$D272-SUM($BK273:BS273)>AK272+AV273,AK272+AV273-BH273,$D272-SUM($BK273:BS273))))","v":0}]
[null,"","1921-01-01",0,0,0,0,0,0,0,0,0,0,0,null,null,null,null,null,null,null,null,null,null,null,null,0,0,0,0,0,0,0,0,0,0,0,null,0,0,0,0,0,0,0,0,0,0,0,null,0,0,0,0,0,0,0,0,0,0,0,null,0,{"$f":"IF(AC273<=0,0,IF($D273<=SUM($BK274:BK274),0,IF(AZ274+$D273-SUM($BK274:BK274)>AC273+AN274,AC273+AN274-AZ274,$D273-SUM($BK274:BK274))))","v":0},{"$f":"IF(AD273<=0,0,IF($D273<=SUM($BK274:BL274),0,IF(BA274+$D273-SUM($BK274:BL274)>AD273+AO274,AD273+AO274-BA274,$D273-SUM($BK274:BL274))))","v":0},{"$f":"IF(AE273<=0,0,IF($D273<=SUM($BK274:BM274),0,IF(BB274+$D273-SUM($BK274:BM274)>AE273+AP274,AE273+AP274-BB274,$D273-SUM($BK274:BM274))))","v":0},{"$f":"IF(AF273<=0,0,IF($D273<=SUM($BK274:BN274),0,IF(BC274+$D273-SUM($BK274:BN274)>AF273+AQ274,AF273+AQ274-BC274,$D273-SUM($BK274:BN274))))","v":0},{"$f":"IF(AG273<=0,0,IF($D273<=SUM($BK274:BO274),0,IF(BD274+$D273-SUM($BK274:BO274)>AG273+AR274,AG273+AR274-BD274,$D273-SUM($BK274:BO274))))","v":0},{"$f":"IF(AH273<=0,0,IF($D273<=SUM($BK274:BP274),0,IF(BE274+$D273-SUM($BK274:BP274)>AH273+AS274,AH273+AS274-BE274,$D273-SUM($BK274:BP274))))","v":0},{"$f":"IF(AI273<=0,0,IF($D273<=SUM($BK274:BQ274),0,IF(BF274+$D273-SUM($BK274:BQ274)>AI273+AT274,AI273+AT274-BF274,$D273-SUM($BK274:BQ274))))","v":0},{"$f":"IF(AJ273<=0,0,IF($D273<=SUM($BK274:BR274),0,IF(BG274+$D273-SUM($BK274:BR274)>AJ273+AU274,AJ273+AU274-BG274,$D273-SUM($BK274:BR274))))","v":0},{"$f":"IF(AK273<=0,0,IF($D273<=SUM($BK274:BS274),0,IF(BH274+$D273-SUM($BK274:BS274)>AK273+AV274,AK273+AV274-BH274,$D273-SUM($BK274:BS274))))","v":0}]
[null,"","1921-02-01",0,0,0,0,0,0,0,0,0,0,0,null,null,null,null,null,null,null,null,null,null,null,null,0,0,0,0,0,0,0,0,0,0,0,null,0,0,0,0,0,0,0,0,0,0,0,null,0,0,0,0,0,0,0,0,0,0,0,null,0,{"$f":"IF(AC274<=0,0,IF($D274<=SUM($BK275:BK275),0,IF(AZ275+$D274-SUM($BK275:BK275)>AC274+AN275,AC274+AN275-AZ275,$D274-SUM($BK275:BK275))))","v":0},{"$f":"IF(AD274<=0,0,IF($D274<=SUM($BK275:BL275),0,IF(BA275+$D274-SUM($BK275:BL275)>AD274+AO275,AD274+AO275-BA275,$D274-SUM($BK275:BL275))))","v":0},{"$f":"IF(AE274<=0,0,IF($D274<=SUM($BK275:BM275),0,IF(BB275+$D274-SUM($BK275:BM275)>AE274+AP275,AE274+AP275-BB275,$D274-SUM($BK275:BM275))))","v":0},{"$f":"IF(AF274<=0,0,IF($D274<=SUM($BK275:BN275),0,IF(BC275+$D274-SUM($BK275:BN275)>AF274+AQ275,AF274+AQ275-BC275,$D274-SUM($BK275:BN275))))","v":0},{"$f":"IF(AG274<=0,0,IF($D274<=SUM($BK275:BO275),0,IF(BD275+$D274-SUM($BK275:BO275)>AG274+AR275,AG274+AR275-BD275,$D274-SUM($BK275:BO275))))","v":0},{"$f":"IF(AH274<=0,0,IF($D274<=SUM($BK275:BP275),0,IF(BE275+$D274-SUM($BK275:BP275)>AH274+AS275,AH274+AS275-BE275,$D274-SUM($BK275:BP275))))","v":0},{"$f":"IF(AI274<=0,0,IF($D274<=SUM($BK275:BQ275),0,IF(BF275+$D274-SUM($BK275:BQ275)>AI274+AT275,AI274+AT275-BF275,$D274-SUM($BK275:BQ275))))","v":0},{"$f":"IF(AJ274<=0,0,IF($D274<=SUM($BK275:BR275),0,IF(BG275+$D274-SUM($BK275:BR275)>AJ274+AU275,AJ274+AU275-BG275,$D274-SUM($BK275:BR275))))","v":0},{"$f":"IF(AK274<=0,0,IF($D274<=SUM($BK275:BS275),0,IF(BH275+$D274-SUM($BK275:BS275)>AK274+AV275,AK274+AV275-BH275,$D274-SUM($BK275:BS275))))","v":0}]
[null,"","1921-03-01",0,0,0,0,0,0,0,0,0,0,0,null,null,null,null,null,null,null,null,null,null,null,null,0,0,0,0,0,0,0,0,0,0,0,null,0,0,0,0,0,0,0,0,0,0,0,null,0,0,0,0,0,0,0,0,0,0,0,null,0,{"$f":"IF(AC275<=0,0,IF($D275<=SUM($BK276:BK276),0,IF(AZ276+$D275-SUM($BK276:BK276)>AC275+AN276,AC275+AN276-AZ276,$D275-SUM($BK276:BK276))))","v":0},{"$f":"IF(AD275<=0,0,IF($D275<=SUM($BK276:BL276),0,IF(BA276+$D275-SUM($BK276:BL276)>AD275+AO276,AD275+AO276-BA276,$D275-SUM($BK276:BL276))))","v":0},{"$f":"IF(AE275<=0,0,IF($D275<=SUM($BK276:BM276),0,IF(BB276+$D275-SUM($BK276:BM276)>AE275+AP276,AE275+AP276-BB276,$D275-SUM($BK276:BM276))))","v":0},{"$f":"IF(AF275<=0,0,IF($D275<=SUM($BK276:BN276),0,IF(BC276+$D275-SUM($BK276:BN276)>AF275+AQ276,AF275+AQ276-BC276,$D275-SUM($BK276:BN276))))","v":0},{"$f":"IF(AG275<=0,0,IF($D275<=SUM($BK276:BO276),0,IF(BD276+$D275-SUM($BK276:BO276)>AG275+AR276,AG275+AR276-BD276,$D275-SUM($BK276:BO276))))","v":0},{"$f":"IF(AH275<=0,0,IF($D275<=SUM($BK276:BP276),0,IF(BE276+$D275-SUM($BK276:BP276)>AH275+AS276,AH275+AS276-BE276,$D275-SUM($BK276:BP276))))","v":0},{"$f":"IF(AI275<=0,0,IF($D275<=SUM($BK276:BQ276),0,IF(BF276+$D275-SUM($BK276:BQ276)>AI275+AT276,AI275+AT276-BF276,$D275-SUM($BK276:BQ276))))","v":0},{"$f":"IF(AJ275<=0,0,IF($D275<=SUM($BK276:BR276),0,IF(BG276+$D275-SUM($BK276:BR276)>AJ275+AU276,AJ275+AU276-BG276,$D275-SUM($BK276:BR276))))","v":0},{"$f":"IF(AK275<=0,0,IF($D275<=SUM($BK276:BS276),0,IF(BH276+$D275-SUM($BK276:BS276)>AK275+AV276,AK275+AV276-BH276,$D275-SUM($BK276:BS276))))","v":0}]
[null,"","1921-04-01",0,0,0,0,0,0,0,0,0,0,0,null,null,null,null,null,null,null,null,null,null,null,null,0,0,0,0,0,0,0,0,0,0,0,null,0,0,0,0,0,0,0,0,0,0,0,null,0,0,0,0,0,0,0,0,0,0,0,null,0,{"$f":"IF(AC276<=0,0,IF($D276<=SUM($BK277:BK277),0,IF(AZ277+$D276-SUM($BK277:BK277)>AC276+AN277,AC276+AN277-AZ277,$D276-SUM($BK277:BK277))))","v":0},{"$f":"IF(AD276<=0,0,IF($D276<=SUM($BK277:BL277),0,IF(BA277+$D276-SUM($BK277:BL277)>AD276+AO277,AD276+AO277-BA277,$D276-SUM($BK277:BL277))))","v":0},{"$f":"IF(AE276<=0,0,IF($D276<=SUM($BK277:BM277),0,IF(BB277+$D276-SUM($BK277:BM277)>AE276+AP277,AE276+AP277-BB277,$D276-SUM($BK277:BM277))))","v":0},{"$f":"IF(AF276<=0,0,IF($D276<=SUM($BK277:BN277),0,IF(BC277+$D276-SUM($BK277:BN277)>AF276+AQ277,AF276+AQ277-BC277,$D276-SUM($BK277:BN277))))","v":0},{"$f":"IF(AG276<=0,0,IF($D276<=SUM($BK277:BO277),0,IF(BD277+$D276-SUM($BK277:BO277)>AG276+AR277,AG276+AR277-BD277,$D276-SUM($BK277:BO277))))","v":0},{"$f":"IF(AH276<=0,0,IF($D276<=SUM($BK277:BP277),0,IF(BE277+$D276-SUM($BK277:BP277)>AH276+AS277,AH276+AS277-BE277,$D276-SUM($BK277:BP277))))","v":0},{"$f":"IF(AI276<=0,0,IF($D276<=SUM($BK277:BQ277),0,IF(BF277+$D276-SUM($BK277:BQ277)>AI276+AT277,AI276+AT277-BF277,$D276-SUM($BK277:BQ277))))","v":0},{"$f":"IF(AJ276<=0,0,IF($D276<=SUM($BK277:BR277),0,IF(BG277+$D276-SUM($BK277:BR277)>AJ276+AU277,AJ276+AU277-BG277,$D276-SUM($BK277:BR277))))","v":0},{"$f":"IF(AK276<=0,0,IF($D276<=SUM($BK277:BS277),0,IF(BH277+$D276-SUM($BK277:BS277)>AK276+AV277,AK276+AV277-BH277,$D276-SUM($BK277:BS277))))","v":0}]
[null,"","1921-05-01",0,0,0,0,0,0,0,0,0,0,0,null,null,null,null,null,null,null,null,null,null,null,null,0,0,0,0,0,0,0,0,0,0,0,null,0,0,0,0,0,0,0,0,0,0,0,null,0,0,0,0,0,0,0,0,0,0,0,null,0,{"$f":"IF(AC277<=0,0,IF($D277<=SUM($BK278:BK278),0,IF(AZ278+$D277-SUM($BK278:BK278)>AC277+AN278,AC277+AN278-AZ278,$D277-SUM($BK278:BK278))))","v":0},{"$f":"IF(AD277<=0,0,IF($D277<=SUM($BK278:BL278),0,IF(BA278+$D277-SUM($BK278:BL278)>AD277+AO278,AD277+AO278-BA278,$D277-SUM($BK278:BL278))))","v":0},{"$f":"IF(AE277<=0,0,IF($D277<=SUM($BK278:BM278),0,IF(BB278+$D277-SUM($BK278:BM278)>AE277+AP278,AE277+AP278-BB278,$D277-SUM($BK278:BM278))))","v":0},{"$f":"IF(AF277<=0,0,IF($D277<=SUM($BK278:BN278),0,IF(BC278+$D277-SUM($BK278:BN278)>AF277+AQ278,AF277+AQ278-BC278,$D277-SUM($BK278:BN278))))","v":0},{"$f":"IF(AG277<=0,0,IF($D277<=SUM($BK278:BO278),0,IF(BD278+$D277-SUM($BK278:BO278)>AG277+AR278,AG277+AR278-BD278,$D277-SUM($BK278:BO278))))","v":0},{"$f":"IF(AH277<=0,0,IF($D277<=SUM($BK278:BP278),0,IF(BE278+$D277-SUM($BK278:BP278)>AH277+AS278,AH277+AS278-BE278,$D277-SUM($BK278:BP278))))","v":0},{"$f":"IF(AI277<=0,0,IF($D277<=SUM($BK278:BQ278),0,IF(BF278+$D277-SUM($BK278:BQ278)>AI277+AT278,AI277+AT278-BF278,$D277-SUM($BK278:BQ278))))","v":0},{"$f":"IF(AJ277<=0,0,IF($D277<=SUM($BK278:BR278),0,IF(BG278+$D277-SUM($BK278:BR278)>AJ277+AU278,AJ277+AU278-BG278,$D277-SUM($BK278:BR278))))","v":0},{"$f":"IF(AK277<=0,0,IF($D277<=SUM($BK278:BS278),0,IF(BH278+$D277-SUM($BK278:BS278)>AK277+AV278,AK277+AV278-BH278,$D277-SUM($BK278:BS278))))","v":0}]
[null,{"$f":"IF(SUM(AB279:AK279)<=0,\"\",B278+1)","v":""},"1921-06-01",{"$f":"IF(($F$4-BI280<0),$F$4,$F$4-BI280)","v":0},0,0,0,0,0,0,0,0,0,0,null,null,null,null,null,null,null,null,null,null,null,null,0,0,0,0,0,0,0,0,0,0,0,null,0,0,0,0,0,0,0,0,0,0,0,null,0,0,0,0,0,0,0,0,0,0,0,null,0,{"$f":"IF(AC278<=0,0,IF($D278<=SUM($BK279:BK279),0,IF(AZ279+$D278-SUM($BK279:BK279)>AC278+AN279,AC278+AN279-AZ279,$D278-SUM($BK279:BK279))))","v":0},{"$f":"IF(AD278<=0,0,IF($D278<=SUM($BK279:BL279),0,IF(BA279+$D278-SUM($BK279:BL279)>AD278+AO279,AD278+AO279-BA279,$D278-SUM($BK279:BL279))))","v":0},{"$f":"IF(AE278<=0,0,IF($D278<=SUM($BK279:BM279),0,IF(BB279+$D278-SUM($BK279:BM279)>AE278+AP279,AE278+AP279-BB279,$D278-SUM($BK279:BM279))))","v":0},{"$f":"IF(AF278<=0,0,IF($D278<=SUM($BK279:BN279),0,IF(BC279+$D278-SUM($BK279:BN279)>AF278+AQ279,AF278+AQ279-BC279,$D278-SUM($BK279:BN279))))","v":0},{"$f":"IF(AG278<=0,0,IF($D278<=SUM($BK279:BO279),0,IF(BD279+$D278-SUM($BK279:BO279)>AG278+AR279,AG278+AR279-BD279,$D278-SUM($BK279:BO279))))","v":0},{"$f":"IF(AH278<=0,0,IF($D278<=SUM($BK279:BP279),0,IF(BE279+$D278-SUM($BK279:BP279)>AH278+AS279,AH278+AS279-BE279,$D278-SUM($BK279:BP279))))","v":0},{"$f":"IF(AI278<=0,0,IF($D278<=SUM($BK279:BQ279),0,IF(BF279+$D278-SUM($BK279:BQ279)>AI278+AT279,AI278+AT279-BF279,$D278-SUM($BK279:BQ279))))","v":0},{"$f":"IF(AJ278<=0,0,IF($D278<=SUM($BK279:BR279),0,IF(BG279+$D278-SUM($BK279:BR279)>AJ278+AU279,AJ278+AU279-BG279,$D278-SUM($BK279:BR279))))","v":0},{"$f":"IF(AK278<=0,0,IF($D278<=SUM($BK279:BS279),0,IF(BH279+$D278-SUM($BK279:BS279)>AK278+AV279,AK278+AV279-BH279,$D278-SUM($BK279:BS279))))","v":0}]
[null,"","1921-07-01",0,0,0,0,0,0,0,0,0,0,0,null,null,null,null,null,null,null,null,null,null,null,null,0,{"$f":"IF(E$7=0,0,ROUND(AB279-(E279-AM280),2))","v":0},{"$f":"IF(F$7=0,0,ROUND(AC279-(F279-AN280),2))","v":0},{"$f":"IF(G$7=0,0,ROUND(AD279-(G279-AO280),2))","v":0},{"$f":"IF(H$7=0,0,ROUND(AE279-(H279-AP280),2))","v":0},{"$f":"IF(I$7=0,0,ROUND(AF279-(I279-AQ280),2))","v":0},{"$f":"IF(J$7=0,0,ROUND(AG279-(J279-AR280),2))","v":0},{"$f":"IF(K$7=0,0,ROUND(AH279-(K279-AS280),2))","v":0},{"$f":"IF(L$7=0,0,ROUND(AI279-(L279-AT280),2))","v":0},{"$f":"IF(M$7=0,0,ROUND(AJ279-(M279-AU280),2))","v":0},{"$f":"IF(N$7=0,0,ROUND(AK279-(N279-AV280),2))","v":0},null,{"$f":"IF((AB279=\"-\"),0,ROUND(AB279*E$8/12,2))","v":0},{"$f":"IF((AC279=\"-\"),0,ROUND(AC279*F$8/12,2))","v":0},{"$f":"IF((AD279=\"-\"),0,ROUND(AD279*G$8/12,2))","v":0},{"$f":"IF((AE279=\"-\"),0,ROUND(AE279*H$8/12,2))","v":0},{"$f":"IF((AF279=\"-\"),0,ROUND(AF279*I$8/12,2))","v":0},{"$f":"IF((AG279=\"-\"),0,ROUND(AG279*J$8/12,2))","v":0},{"$f":"IF((AH279=\"-\"),0,ROUND(AH279*K$8/12,2))","v":0},{"$f":"IF((AI279=\"-\"),0,ROUND(AI279*L$8/12,2))","v":0},{"$f":"IF((AJ279=\"-\"),0,ROUND(AJ279*M$8/12,2))","v":0},{"$f":"IF((AK279=\"-\"),0,ROUND(AK279*N$8/12,2))","v":0},0,null,0,0,0,0,0,0,0,0,0,0,0,null,0,{"$f":"IF(AC279<=0,0,IF($D279<=SUM($BK280:BK280),0,IF(AZ280+$D279-SUM($BK280:BK280)>AC279+AN280,AC279+AN280-AZ280,$D279-SUM($BK280:BK280))))","v":0},{"$f":"IF(AD279<=0,0,IF($D279<=SUM($BK280:BL280),0,IF(BA280+$D279-SUM($BK280:BL280)>AD279+AO280,AD279+AO280-BA280,$D279-SUM($BK280:BL280))))","v":0},{"$f":"IF(AE279<=0,0,IF($D279<=SUM($BK280:BM280),0,IF(BB280+$D279-SUM($BK280:BM280)>AE279+AP280,AE279+AP280-BB280,$D279-SUM($BK280:BM280))))","v":0},{"$f":"IF(AF279<=0,0,IF($D279<=SUM($BK280:BN280),0,IF(BC280+$D279-SUM($BK280:BN280)>AF279+AQ280,AF279+AQ280-BC280,$D279-SUM($BK280:BN280))))","v":0},{"$f":"IF(AG279<=0,0,IF($D279<=SUM($BK280:BO280),0,IF(BD280+$D279-SUM($BK280:BO280)>AG279+AR280,AG279+AR280-BD280,$D279-SUM($BK280:BO280))))","v":0},{"$f":"IF(AH279<=0,0,IF($D279<=SUM($BK280:BP280),0,IF(BE280+$D279-SUM($BK280:BP280)>AH279+AS280,AH279+AS280-BE280,$D279-SUM($BK280:BP280))))","v":0},{"$f":"IF(AI279<=0,0,IF($D279<=SUM($BK280:BQ280),0,IF(BF280+$D279-SUM($BK280:BQ280)>AI279+AT280,AI279+AT280-BF280,$D279-SUM($BK280:BQ280))))","v":0},{"$f":"IF(AJ279<=0,0,IF($D279<=SUM($BK280:BR280),0,IF(BG280+$D279-SUM($BK280:BR280)>AJ279+AU280,AJ279+AU280-BG280,$D279-SUM($BK280:BR280))))","v":0},{"$f":"IF(AK279<=0,0,IF($D279<=SUM($BK280:BS280),0,IF(BH280+$D279-SUM($BK280:BS280)>AK279+AV280,AK279+AV280-BH280,$D279-SUM($BK280:BS280))))","v":0}]
[null,"",{"$f":"IF(C280=\"\",NA(),DATE(YEAR(C280),MONTH(C280)+1,1))","v":"1921-08-01"},0,{"$f":"+AY282+BK282","v":0},0,0,0,0,0,0,0,0,0,null,null,null,null,null,null,null,null,null,null,null,null,{"$f":"SUM(AB281:AK281)","v":0},0,0,0,0,0,0,0,0,0,0,null,0,0,0,0,0,0,0,0,0,0,{"$f":"SUM(AM281:AV281)","v":0},null,{"$f":"IF(AB280>0,IF((AB280+AM281)<E$9,AB280+AM281,E$9),0)","v":0},{"$f":"IF(AC280>0,IF((AC280+AN281)<F$9,AC280+AN281,F$9),0)","v":0},{"$f":"IF(AD280>0,IF((AD280+AO281)<G$9,AD280+AO281,G$9),0)","v":0},{"$f":"IF(AE280>0,IF((AE280+AP281)<H$9,AE280+AP281,H$9),0)","v":0},{"$f":"IF(AF280>0,IF((AF280+AQ281)<I$9,AF280+AQ281,I$9),0)","v":0},{"$f":"IF(AG280>0,IF((AG280+AR281)<J$9,AG280+AR281,J$9),0)","v":0},{"$f":"IF(AH280>0,IF((AH280+AS281)<K$9,AH280+AS281,K$9),0)","v":0},{"$f":"IF(AI280>0,IF((AI280+AT281)<L$9,AI280+AT281,L$9),0)","v":0},{"$f":"IF(AJ280>0,IF((AJ280+AU281)<M$9,AJ280+AU281,M$9),0)","v":0},{"$f":"IF(AK280>0,IF((AK280+AV281)<N$9,AK280+AV281,N$9),0)","v":0},0,null,0,{"$f":"IF(AC280<=0,0,IF($D280<=SUM($BK281:BK281),0,IF(AZ281+$D280-SUM($BK281:BK281)>AC280+AN281,AC280+AN281-AZ281,$D280-SUM($BK281:BK281))))","v":0},{"$f":"IF(AD280<=0,0,IF($D280<=SUM($BK281:BL281),0,IF(BA281+$D280-SUM($BK281:BL281)>AD280+AO281,AD280+AO281-BA281,$D280-SUM($BK281:BL281))))","v":0},{"$f":"IF(AE280<=0,0,IF($D280<=SUM($BK281:BM281),0,IF(BB281+$D280-SUM($BK281:BM281)>AE280+AP281,AE280+AP281-BB281,$D280-SUM($BK281:BM281))))","v":0},{"$f":"IF(AF280<=0,0,IF($D280<=SUM($BK281:BN281),0,IF(BC281+$D280-SUM($BK281:BN281)>AF280+AQ281,AF280+AQ281-BC281,$D280-SUM($BK281:BN281))))","v":0},{"$f":"IF(AG280<=0,0,IF($D280<=SUM($BK281:BO281),0,IF(BD281+$D280-SUM($BK281:BO281)>AG280+AR281,AG280+AR281-BD281,$D280-SUM($BK281:BO281))))","v":0},{"$f":"IF(AH280<=0,0,IF($D280<=SUM($BK281:BP281),0,IF(BE281+$D280-SUM($BK281:BP281)>AH280+AS281,AH280+AS281-BE281,$D280-SUM($BK281:BP281))))","v":0},{"$f":"IF(AI280<=0,0,IF($D280<=SUM($BK281:BQ281),0,IF(BF281+$D280-SUM($BK281:BQ281)>AI280+AT281,AI280+AT281-BF281,$D280-SUM($BK281:BQ281))))","v":0},{"$f":"IF(AJ280<=0,0,IF($D280<=SUM($BK281:BR281),0,IF(BG281+$D280-SUM($BK281:BR281)>AJ280+AU281,AJ280+AU281-BG281,$D280-SUM($BK281:BR281))))","v":0},{"$f":"IF(AK280<=0,0,IF($D280<=SUM($BK281:BS281),0,IF(BH281+$D280-SUM($BK281:BS281)>AK280+AV281,AK280+AV281-BH281,$D280-SUM($BK281:BS281))))","v":0}]
[null,"","1921-09-01",0,0,0,0,0,0,0,0,0,0,0,null,null,null,null,null,null,null,null,null,null,null,null,0,0,0,0,0,0,0,0,0,0,0,null,0,0,0,0,0,0,0,0,0,0,0,null,0,0,0,0,0,0,0,0,0,0,0,null,{"$f":"IF(AB281<=0,0,IF(AY282+$D281>AB281+AM282,AB281+AM282-AY282,$D281))","v":0},{"$f":"IF(AC281<=0,0,IF($D281<=SUM($BK282:BK282),0,IF(AZ282+$D281-SUM($BK282:BK282)>AC281+AN282,AC281+AN282-AZ282,$D281-SUM($BK282:BK282))))","v":0},{"$f":"IF(AD281<=0,0,IF($D281<=SUM($BK282:BL282),0,IF(BA282+$D281-SUM($BK282:BL282)>AD281+AO282,AD281+AO282-BA282,$D281-SUM($BK282:BL282))))","v":0},{"$f":"IF(AE281<=0,0,IF($D281<=SUM($BK282:BM282),0,IF(BB282+$D281-SUM($BK282:BM282)>AE281+AP282,AE281+AP282-BB282,$D281-SUM($BK282:BM282))))","v":0},{"$f":"IF(AF281<=0,0,IF($D281<=SUM($BK282:BN282),0,IF(BC282+$D281-SUM($BK282:BN282)>AF281+AQ282,AF281+AQ282-BC282,$D281-SUM($BK282:BN282))))","v":0},{"$f":"IF(AG281<=0,0,IF($D281<=SUM($BK282:BO282),0,IF(BD282+$D281-SUM($BK282:BO282)>AG281+AR282,AG281+AR282-BD282,$D281-SUM($BK282:BO282))))","v":0},{"$f":"IF(AH281<=0,0,IF($D281<=SUM($BK282:BP282),0,IF(BE282+$D281-SUM($BK282:BP282)>AH281+AS282,AH281+AS282-BE282,$D281-SUM($BK282:BP282))))","v":0},{"$f":"IF(AI281<=0,0,IF($D281<=SUM($BK282:BQ282),0,IF(BF282+$D281-SUM($BK282:BQ282)>AI281+AT282,AI281+AT282-BF282,$D281-SUM($BK282:BQ282))))","v":0},{"$f":"IF(AJ281<=0,0,IF($D281<=SUM($BK282:BR282),0,IF(BG282+$D281-SUM($BK282:BR282)>AJ281+AU282,AJ281+AU282-BG282,$D281-SUM($BK282:BR282))))","v":0},{"$f":"IF(AK281<=0,0,IF($D281<=SUM($BK282:BS282),0,IF(BH282+$D281-SUM($BK282:BS282)>AK281+AV282,AK281+AV282-BH282,$D281-SUM($BK282:BS282))))","v":0}]
[null,"","1921-10-01",0,0,0,0,0,0,0,0,0,0,0,null,null,null,null,null,null,null,null,null,null,null,null,0,0,0,0,0,0,0,0,0,0,0,null,0,0,0,0,0,0,0,0,0,0,0,null,0,0,0,0,0,0,0,0,0,0,0,null,0,{"$f":"IF(AC282<=0,0,IF($D282<=SUM($BK283:BK283),0,IF(AZ283+$D282-SUM($BK283:BK283)>AC282+AN283,AC282+AN283-AZ283,$D282-SUM($BK283:BK283))))","v":0},{"$f":"IF(AD282<=0,0,IF($D282<=SUM($BK283:BL283),0,IF(BA283+$D282-SUM($BK283:BL283)>AD282+AO283,AD282+AO283-BA283,$D282-SUM($BK283:BL283))))","v":0},{"$f":"IF(AE282<=0,0,IF($D282<=SUM($BK283:BM283),0,IF(BB283+$D282-SUM($BK283:BM283)>AE282+AP283,AE282+AP283-BB283,$D282-SUM($BK283:BM283))))","v":0},{"$f":"IF(AF282<=0,0,IF($D282<=SUM($BK283:BN283),0,IF(BC283+$D282-SUM($BK283:BN283)>AF282+AQ283,AF282+AQ283-BC283,$D282-SUM($BK283:BN283))))","v":0},{"$f":"IF(AG282<=0,0,IF($D282<=SUM($BK283:BO283),0,IF(BD283+$D282-SUM($BK283:BO283)>AG282+AR283,AG282+AR283-BD283,$D282-SUM($BK283:BO283))))","v":0},{"$f":"IF(AH282<=0,0,IF($D282<=SUM($BK283:BP283),0,IF(BE283+$D282-SUM($BK283:BP283)>AH282+AS283,AH282+AS283-BE283,$D282-SUM($BK283:BP283))))","v":0},{"$f":"IF(AI282<=0,0,IF($D282<=SUM($BK283:BQ283),0,IF(BF283+$D282-SUM($BK283:BQ283)>AI282+AT283,AI282+AT283-BF283,$D282-SUM($BK283:BQ283))))","v":0},{"$f":"IF(AJ282<=0,0,IF($D282<=SUM($BK283:BR283),0,IF(BG283+$D282-SUM($BK283:BR283)>AJ282+AU283,AJ282+AU283-BG283,$D282-SUM($BK283:BR283))))","v":0},{"$f":"IF(AK282<=0,0,IF($D282<=SUM($BK283:BS283),0,IF(BH283+$D282-SUM($BK283:BS283)>AK282+AV283,AK282+AV283-BH283,$D282-SUM($BK283:BS283))))","v":0}]
[null,"","1921-11-01",0,0,0,0,0,0,0,0,0,0,0,null,null,null,null,null,null,null,null,null,null,null,null,0,0,0,0,0,0,0,0,0,0,0,null,0,0,0,0,0,0,0,0,0,0,0,null,0,0,0,0,0,0,0,0,0,0,0,null,0,{"$f":"IF(AC283<=0,0,IF($D283<=SUM($BK284:BK284),0,IF(AZ284+$D283-SUM($BK284:BK284)>AC283+AN284,AC283+AN284-AZ284,$D283-SUM($BK284:BK284))))","v":0},{"$f":"IF(AD283<=0,0,IF($D283<=SUM($BK284:BL284),0,IF(BA284+$D283-SUM($BK284:BL284)>AD283+AO284,AD283+AO284-BA284,$D283-SUM($BK284:BL284))))","v":0},{"$f":"IF(AE283<=0,0,IF($D283<=SUM($BK284:BM284),0,IF(BB284+$D283-SUM($BK284:BM284)>AE283+AP284,AE283+AP284-BB284,$D283-SUM($BK284:BM284))))","v":0},{"$f":"IF(AF283<=0,0,IF($D283<=SUM($BK284:BN284),0,IF(BC284+$D283-SUM($BK284:BN284)>AF283+AQ284,AF283+AQ284-BC284,$D283-SUM($BK284:BN284))))","v":0},{"$f":"IF(AG283<=0,0,IF($D283<=SUM($BK284:BO284),0,IF(BD284+$D283-SUM($BK284:BO284)>AG283+AR284,AG283+AR284-BD284,$D283-SUM($BK284:BO284))))","v":0},{"$f":"IF(AH283<=0,0,IF($D283<=SUM($BK284:BP284),0,IF(BE284+$D283-SUM($BK284:BP284)>AH283+AS284,AH283+AS284-BE284,$D283-SUM($BK284:BP284))))","v":0},{"$f":"IF(AI283<=0,0,IF($D283<=SUM($BK284:BQ284),0,IF(BF284+$D283-SUM($BK284:BQ284)>AI283+AT284,AI283+AT284-BF284,$D283-SUM($BK284:BQ284))))","v":0},{"$f":"IF(AJ283<=0,0,IF($D283<=SUM($BK284:BR284),0,IF(BG284+$D283-SUM($BK284:BR284)>AJ283+AU284,AJ283+AU284-BG284,$D283-SUM($BK284:BR284))))","v":0},{"$f":"IF(AK283<=0,0,IF($D283<=SUM($BK284:BS284),0,IF(BH284+$D283-SUM($BK284:BS284)>AK283+AV284,AK283+AV284-BH284,$D283-SUM($BK284:BS284))))","v":0}]
[null,"","1921-12-01",0,0,0,0,0,0,0,0,0,0,0,null,null,null,null,null,null,null,null,null,null,null,null,0,0,0,0,0,0,0,0,0,0,0,null,0,0,0,0,0,0,0,0,0,0,0,null,0,0,0,0,0,0,0,0,0,0,0,null,0,{"$f":"IF(AC284<=0,0,IF($D284<=SUM($BK285:BK285),0,IF(AZ285+$D284-SUM($BK285:BK285)>AC284+AN285,AC284+AN285-AZ285,$D284-SUM($BK285:BK285))))","v":0},{"$f":"IF(AD284<=0,0,IF($D284<=SUM($BK285:BL285),0,IF(BA285+$D284-SUM($BK285:BL285)>AD284+AO285,AD284+AO285-BA285,$D284-SUM($BK285:BL285))))","v":0},{"$f":"IF(AE284<=0,0,IF($D284<=SUM($BK285:BM285),0,IF(BB285+$D284-SUM($BK285:BM285)>AE284+AP285,AE284+AP285-BB285,$D284-SUM($BK285:BM285))))","v":0},{"$f":"IF(AF284<=0,0,IF($D284<=SUM($BK285:BN285),0,IF(BC285+$D284-SUM($BK285:BN285)>AF284+AQ285,AF284+AQ285-BC285,$D284-SUM($BK285:BN285))))","v":0},{"$f":"IF(AG284<=0,0,IF($D284<=SUM($BK285:BO285),0,IF(BD285+$D284-SUM($BK285:BO285)>AG284+AR285,AG284+AR285-BD285,$D284-SUM($BK285:BO285))))","v":0},{"$f":"IF(AH284<=0,0,IF($D284<=SUM($BK285:BP285),0,IF(BE285+$D284-SUM($BK285:BP285)>AH284+AS285,AH284+AS285-BE285,$D284-SUM($BK285:BP285))))","v":0},{"$f":"IF(AI284<=0,0,IF($D284<=SUM($BK285:BQ285),0,IF(BF285+$D284-SUM($BK285:BQ285)>AI284+AT285,AI284+AT285-BF285,$D284-SUM($BK285:BQ285))))","v":0},{"$f":"IF(AJ284<=0,0,IF($D284<=SUM($BK285:BR285),0,IF(BG285+$D284-SUM($BK285:BR285)>AJ284+AU285,AJ284+AU285-BG285,$D284-SUM($BK285:BR285))))","v":0},{"$f":"IF(AK284<=0,0,IF($D284<=SUM($BK285:BS285),0,IF(BH285+$D284-SUM($BK285:BS285)>AK284+AV285,AK284+AV285-BH285,$D284-SUM($BK285:BS285))))","v":0}]
[null,"","1922-01-01",0,0,0,0,0,0,0,0,0,0,0,null,null,null,null,null,null,null,null,null,null,null,null,0,0,0,0,0,0,0,0,0,0,0,null,0,0,0,0,0,0,0,0,0,0,0,null,0,0,0,0,0,0,0,0,0,0,0,null,0,{"$f":"IF(AC285<=0,0,IF($D285<=SUM($BK286:BK286),0,IF(AZ286+$D285-SUM($BK286:BK286)>AC285+AN286,AC285+AN286-AZ286,$D285-SUM($BK286:BK286))))","v":0},{"$f":"IF(AD285<=0,0,IF($D285<=SUM($BK286:BL286),0,IF(BA286+$D285-SUM($BK286:BL286)>AD285+AO286,AD285+AO286-BA286,$D285-SUM($BK286:BL286))))","v":0},{"$f":"IF(AE285<=0,0,IF($D285<=SUM($BK286:BM286),0,IF(BB286+$D285-SUM($BK286:BM286)>AE285+AP286,AE285+AP286-BB286,$D285-SUM($BK286:BM286))))","v":0},{"$f":"IF(AF285<=0,0,IF($D285<=SUM($BK286:BN286),0,IF(BC286+$D285-SUM($BK286:BN286)>AF285+AQ286,AF285+AQ286-BC286,$D285-SUM($BK286:BN286))))","v":0},{"$f":"IF(AG285<=0,0,IF($D285<=SUM($BK286:BO286),0,IF(BD286+$D285-SUM($BK286:BO286)>AG285+AR286,AG285+AR286-BD286,$D285-SUM($BK286:BO286))))","v":0},{"$f":"IF(AH285<=0,0,IF($D285<=SUM($BK286:BP286),0,IF(BE286+$D285-SUM($BK286:BP286)>AH285+AS286,AH285+AS286-BE286,$D285-SUM($BK286:BP286))))","v":0},{"$f":"IF(AI285<=0,0,IF($D285<=SUM($BK286:BQ286),0,IF(BF286+$D285-SUM($BK286:BQ286)>AI285+AT286,AI285+AT286-BF286,$D285-SUM($BK286:BQ286))))","v":0},{"$f":"IF(AJ285<=0,0,IF($D285<=SUM($BK286:BR286),0,IF(BG286+$D285-SUM($BK286:BR286)>AJ285+AU286,AJ285+AU286-BG286,$D285-SUM($BK286:BR286))))","v":0},{"$f":"IF(AK285<=0,0,IF($D285<=SUM($BK286:BS286),0,IF(BH286+$D285-SUM($BK286:BS286)>AK285+AV286,AK285+AV286-BH286,$D285-SUM($BK286:BS286))))","v":0}]
[null,"","1922-02-01",0,0,0,0,0,0,0,0,0,0,0,null,null,null,null,null,null,null,null,null,null,null,null,0,0,0,0,0,0,0,0,0,0,0,null,0,0,0,0,0,0,0,0,0,0,0,null,0,0,0,0,0,0,0,0,0,0,0,null,0,{"$f":"IF(AC286<=0,0,IF($D286<=SUM($BK287:BK287),0,IF(AZ287+$D286-SUM($BK287:BK287)>AC286+AN287,AC286+AN287-AZ287,$D286-SUM($BK287:BK287))))","v":0},{"$f":"IF(AD286<=0,0,IF($D286<=SUM($BK287:BL287),0,IF(BA287+$D286-SUM($BK287:BL287)>AD286+AO287,AD286+AO287-BA287,$D286-SUM($BK287:BL287))))","v":0},{"$f":"IF(AE286<=0,0,IF($D286<=SUM($BK287:BM287),0,IF(BB287+$D286-SUM($BK287:BM287)>AE286+AP287,AE286+AP287-BB287,$D286-SUM($BK287:BM287))))","v":0},{"$f":"IF(AF286<=0,0,IF($D286<=SUM($BK287:BN287),0,IF(BC287+$D286-SUM($BK287:BN287)>AF286+AQ287,AF286+AQ287-BC287,$D286-SUM($BK287:BN287))))","v":0},{"$f":"IF(AG286<=0,0,IF($D286<=SUM($BK287:BO287),0,IF(BD287+$D286-SUM($BK287:BO287)>AG286+AR287,AG286+AR287-BD287,$D286-SUM($BK287:BO287))))","v":0},{"$f":"IF(AH286<=0,0,IF($D286<=SUM($BK287:BP287),0,IF(BE287+$D286-SUM($BK287:BP287)>AH286+AS287,AH286+AS287-BE287,$D286-SUM($BK287:BP287))))","v":0},{"$f":"IF(AI286<=0,0,IF($D286<=SUM($BK287:BQ287),0,IF(BF287+$D286-SUM($BK287:BQ287)>AI286+AT287,AI286+AT287-BF287,$D286-SUM($BK287:BQ287))))","v":0},{"$f":"IF(AJ286<=0,0,IF($D286<=SUM($BK287:BR287),0,IF(BG287+$D286-SUM($BK287:BR287)>AJ286+AU287,AJ286+AU287-BG287,$D286-SUM($BK287:BR287))))","v":0},{"$f":"IF(AK286<=0,0,IF($D286<=SUM($BK287:BS287),0,IF(BH287+$D286-SUM($BK287:BS287)>AK286+AV287,AK286+AV287-BH287,$D286-SUM($BK287:BS287))))","v":0}]
[null,"","1922-03-01",0,0,0,0,0,0,0,0,0,0,0,null,null,null,null,null,null,null,null,null,null,null,null,0,0,0,0,0,0,0,0,0,0,0,null,0,0,0,0,0,0,0,0,0,0,0,null,0,0,0,0,0,0,0,0,0,0,0,null,0,{"$f":"IF(AC287<=0,0,IF($D287<=SUM($BK288:BK288),0,IF(AZ288+$D287-SUM($BK288:BK288)>AC287+AN288,AC287+AN288-AZ288,$D287-SUM($BK288:BK288))))","v":0},{"$f":"IF(AD287<=0,0,IF($D287<=SUM($BK288:BL288),0,IF(BA288+$D287-SUM($BK288:BL288)>AD287+AO288,AD287+AO288-BA288,$D287-SUM($BK288:BL288))))","v":0},{"$f":"IF(AE287<=0,0,IF($D287<=SUM($BK288:BM288),0,IF(BB288+$D287-SUM($BK288:BM288)>AE287+AP288,AE287+AP288-BB288,$D287-SUM($BK288:BM288))))","v":0},{"$f":"IF(AF287<=0,0,IF($D287<=SUM($BK288:BN288),0,IF(BC288+$D287-SUM($BK288:BN288)>AF287+AQ288,AF287+AQ288-BC288,$D287-SUM($BK288:BN288))))","v":0},{"$f":"IF(AG287<=0,0,IF($D287<=SUM($BK288:BO288),0,IF(BD288+$D287-SUM($BK288:BO288)>AG287+AR288,AG287+AR288-BD288,$D287-SUM($BK288:BO288))))","v":0},{"$f":"IF(AH287<=0,0,IF($D287<=SUM($BK288:BP288),0,IF(BE288+$D287-SUM($BK288:BP288)>AH287+AS288,AH287+AS288-BE288,$D287-SUM($BK288:BP288))))","v":0},{"$f":"IF(AI287<=0,0,IF($D287<=SUM($BK288:BQ288),0,IF(BF288+$D287-SUM($BK288:BQ288)>AI287+AT288,AI287+AT288-BF288,$D287-SUM($BK288:BQ288))))","v":0},{"$f":"IF(AJ287<=0,0,IF($D287<=SUM($BK288:BR288),0,IF(BG288+$D287-SUM($BK288:BR288)>AJ287+AU288,AJ287+AU288-BG288,$D287-SUM($BK288:BR288))))","v":0},{"$f":"IF(AK287<=0,0,IF($D287<=SUM($BK288:BS288),0,IF(BH288+$D287-SUM($BK288:BS288)>AK287+AV288,AK287+AV288-BH288,$D287-SUM($BK288:BS288))))","v":0}]
[null,"","1922-04-01",0,0,0,0,0,0,0,0,0,0,0,null,null,null,null,null,null,null,null,null,null,null,null,0,0,0,0,0,0,0,0,0,0,0,null,0,0,0,0,0,0,0,0,0,0,0,null,0,0,0,0,0,0,0,0,0,0,0,null,0,{"$f":"IF(AC288<=0,0,IF($D288<=SUM($BK289:BK289),0,IF(AZ289+$D288-SUM($BK289:BK289)>AC288+AN289,AC288+AN289-AZ289,$D288-SUM($BK289:BK289))))","v":0},{"$f":"IF(AD288<=0,0,IF($D288<=SUM($BK289:BL289),0,IF(BA289+$D288-SUM($BK289:BL289)>AD288+AO289,AD288+AO289-BA289,$D288-SUM($BK289:BL289))))","v":0},{"$f":"IF(AE288<=0,0,IF($D288<=SUM($BK289:BM289),0,IF(BB289+$D288-SUM($BK289:BM289)>AE288+AP289,AE288+AP289-BB289,$D288-SUM($BK289:BM289))))","v":0},{"$f":"IF(AF288<=0,0,IF($D288<=SUM($BK289:BN289),0,IF(BC289+$D288-SUM($BK289:BN289)>AF288+AQ289,AF288+AQ289-BC289,$D288-SUM($BK289:BN289))))","v":0},{"$f":"IF(AG288<=0,0,IF($D288<=SUM($BK289:BO289),0,IF(BD289+$D288-SUM($BK289:BO289)>AG288+AR289,AG288+AR289-BD289,$D288-SUM($BK289:BO289))))","v":0},{"$f":"IF(AH288<=0,0,IF($D288<=SUM($BK289:BP289),0,IF(BE289+$D288-SUM($BK289:BP289)>AH288+AS289,AH288+AS289-BE289,$D288-SUM($BK289:BP289))))","v":0},{"$f":"IF(AI288<=0,0,IF($D288<=SUM($BK289:BQ289),0,IF(BF289+$D288-SUM($BK289:BQ289)>AI288+AT289,AI288+AT289-BF289,$D288-SUM($BK289:BQ289))))","v":0},{"$f":"IF(AJ288<=0,0,IF($D288<=SUM($BK289:BR289),0,IF(BG289+$D288-SUM($BK289:BR289)>AJ288+AU289,AJ288+AU289-BG289,$D288-SUM($BK289:BR289))))","v":0},{"$f":"IF(AK288<=0,0,IF($D288<=SUM($BK289:BS289),0,IF(BH289+$D288-SUM($BK289:BS289)>AK288+AV289,AK288+AV289-BH289,$D288-SUM($BK289:BS289))))","v":0}]
[null,"","1922-05-01",0,0,0,0,0,0,0,0,0,0,0,null,null,null,null,null,null,null,null,null,null,null,null,0,0,0,0,0,0,0,0,0,0,0,null,0,0,0,0,0,0,0,0,0,0,0,null,0,0,0,0,0,0,0,0,0,0,0,null,0,{"$f":"IF(AC289<=0,0,IF($D289<=SUM($BK290:BK290),0,IF(AZ290+$D289-SUM($BK290:BK290)>AC289+AN290,AC289+AN290-AZ290,$D289-SUM($BK290:BK290))))","v":0},{"$f":"IF(AD289<=0,0,IF($D289<=SUM($BK290:BL290),0,IF(BA290+$D289-SUM($BK290:BL290)>AD289+AO290,AD289+AO290-BA290,$D289-SUM($BK290:BL290))))","v":0},{"$f":"IF(AE289<=0,0,IF($D289<=SUM($BK290:BM290),0,IF(BB290+$D289-SUM($BK290:BM290)>AE289+AP290,AE289+AP290-BB290,$D289-SUM($BK290:BM290))))","v":0},{"$f":"IF(AF289<=0,0,IF($D289<=SUM($BK290:BN290),0,IF(BC290+$D289-SUM($BK290:BN290)>AF289+AQ290,AF289+AQ290-BC290,$D289-SUM($BK290:BN290))))","v":0},{"$f":"IF(AG289<=0,0,IF($D289<=SUM($BK290:BO290),0,IF(BD290+$D289-SUM($BK290:BO290)>AG289+AR290,AG289+AR290-BD290,$D289-SUM($BK290:BO290))))","v":0},{"$f":"IF(AH289<=0,0,IF($D289<=SUM($BK290:BP290),0,IF(BE290+$D289-SUM($BK290:BP290)>AH289+AS290,AH289+AS290-BE290,$D289-SUM($BK290:BP290))))","v":0},{"$f":"IF(AI289<=0,0,IF($D289<=SUM($BK290:BQ290),0,IF(BF290+$D289-SUM($BK290:BQ290)>AI289+AT290,AI289+AT290-BF290,$D289-SUM($BK290:BQ290))))","v":0},{"$f":"IF(AJ289<=0,0,IF($D289<=SUM($BK290:BR290),0,IF(BG290+$D289-SUM($BK290:BR290)>AJ289+AU290,AJ289+AU290-BG290,$D289-SUM($BK290:BR290))))","v":0},{"$f":"IF(AK289<=0,0,IF($D289<=SUM($BK290:BS290),0,IF(BH290+$D289-SUM($BK290:BS290)>AK289+AV290,AK289+AV290-BH290,$D289-SUM($BK290:BS290))))","v":0}]
[null,"","1922-06-01",0,0,0,0,0,0,0,0,0,0,0,null,null,null,null,null,null,null,null,null,null,null,null,0,0,0,0,0,0,0,0,0,0,0,null,0,0,0,0,0,0,0,0,0,0,0,null,0,0,0,0,0,0,0,0,0,0,0,null,0,{"$f":"IF(AC290<=0,0,IF($D290<=SUM($BK291:BK291),0,IF(AZ291+$D290-SUM($BK291:BK291)>AC290+AN291,AC290+AN291-AZ291,$D290-SUM($BK291:BK291))))","v":0},{"$f":"IF(AD290<=0,0,IF($D290<=SUM($BK291:BL291),0,IF(BA291+$D290-SUM($BK291:BL291)>AD290+AO291,AD290+AO291-BA291,$D290-SUM($BK291:BL291))))","v":0},{"$f":"IF(AE290<=0,0,IF($D290<=SUM($BK291:BM291),0,IF(BB291+$D290-SUM($BK291:BM291)>AE290+AP291,AE290+AP291-BB291,$D290-SUM($BK291:BM291))))","v":0},{"$f":"IF(AF290<=0,0,IF($D290<=SUM($BK291:BN291),0,IF(BC291+$D290-SUM($BK291:BN291)>AF290+AQ291,AF290+AQ291-BC291,$D290-SUM($BK291:BN291))))","v":0},{"$f":"IF(AG290<=0,0,IF($D290<=SUM($BK291:BO291),0,IF(BD291+$D290-SUM($BK291:BO291)>AG290+AR291,AG290+AR291-BD291,$D290-SUM($BK291:BO291))))","v":0},{"$f":"IF(AH290<=0,0,IF($D290<=SUM($BK291:BP291),0,IF(BE291+$D290-SUM($BK291:BP291)>AH290+AS291,AH290+AS291-BE291,$D290-SUM($BK291:BP291))))","v":0},{"$f":"IF(AI290<=0,0,IF($D290<=SUM($BK291:BQ291),0,IF(BF291+$D290-SUM($BK291:BQ291)>AI290+AT291,AI290+AT291-BF291,$D290-SUM($BK291:BQ291))))","v":0},{"$f":"IF(AJ290<=0,0,IF($D290<=SUM($BK291:BR291),0,IF(BG291+$D290-SUM($BK291:BR291)>AJ290+AU291,AJ290+AU291-BG291,$D290-SUM($BK291:BR291))))","v":0},{"$f":"IF(AK290<=0,0,IF($D290<=SUM($BK291:BS291),0,IF(BH291+$D290-SUM($BK291:BS291)>AK290+AV291,AK290+AV291-BH291,$D290-SUM($BK291:BS291))))","v":0}]
[null,"","1922-07-01",0,0,0,0,0,0,0,0,0,0,0,null,null,null,null,null,null,null,null,null,null,null,null,0,0,0,0,0,0,0,0,0,0,0,null,0,0,0,0,0,0,0,0,0,0,0,null,0,0,0,0,0,0,0,0,0,0,0,null,0,{"$f":"IF(AC291<=0,0,IF($D291<=SUM($BK292:BK292),0,IF(AZ292+$D291-SUM($BK292:BK292)>AC291+AN292,AC291+AN292-AZ292,$D291-SUM($BK292:BK292))))","v":0},{"$f":"IF(AD291<=0,0,IF($D291<=SUM($BK292:BL292),0,IF(BA292+$D291-SUM($BK292:BL292)>AD291+AO292,AD291+AO292-BA292,$D291-SUM($BK292:BL292))))","v":0},{"$f":"IF(AE291<=0,0,IF($D291<=SUM($BK292:BM292),0,IF(BB292+$D291-SUM($BK292:BM292)>AE291+AP292,AE291+AP292-BB292,$D291-SUM($BK292:BM292))))","v":0},{"$f":"IF(AF291<=0,0,IF($D291<=SUM($BK292:BN292),0,IF(BC292+$D291-SUM($BK292:BN292)>AF291+AQ292,AF291+AQ292-BC292,$D291-SUM($BK292:BN292))))","v":0},{"$f":"IF(AG291<=0,0,IF($D291<=SUM($BK292:BO292),0,IF(BD292+$D291-SUM($BK292:BO292)>AG291+AR292,AG291+AR292-BD292,$D291-SUM($BK292:BO292))))","v":0},{"$f":"IF(AH291<=0,0,IF($D291<=SUM($BK292:BP292),0,IF(BE292+$D291-SUM($BK292:BP292)>AH291+AS292,AH291+AS292-BE292,$D291-SUM($BK292:BP292))))","v":0},{"$f":"IF(AI291<=0,0,IF($D291<=SUM($BK292:BQ292),0,IF(BF292+$D291-SUM($BK292:BQ292)>AI291+AT292,AI291+AT292-BF292,$D291-SUM($BK292:BQ292))))","v":0},{"$f":"IF(AJ291<=0,0,IF($D291<=SUM($BK292:BR292),0,IF(BG292+$D291-SUM($BK292:BR292)>AJ291+AU292,AJ291+AU292-BG292,$D291-SUM($BK292:BR292))))","v":0},{"$f":"IF(AK291<=0,0,IF($D291<=SUM($BK292:BS292),0,IF(BH292+$D291-SUM($BK292:BS292)>AK291+AV292,AK291+AV292-BH292,$D291-SUM($BK292:BS292))))","v":0}]
[null,"","1922-08-01",0,0,0,0,0,0,0,0,0,0,0,null,null,null,null,null,null,null,null,null,null,null,null,0,0,0,0,0,0,0,0,0,0,0,null,0,0,0,0,0,0,0,0,0,0,0,null,0,0,0,0,0,0,0,0,0,0,0,null,0,{"$f":"IF(AC292<=0,0,IF($D292<=SUM($BK293:BK293),0,IF(AZ293+$D292-SUM($BK293:BK293)>AC292+AN293,AC292+AN293-AZ293,$D292-SUM($BK293:BK293))))","v":0},{"$f":"IF(AD292<=0,0,IF($D292<=SUM($BK293:BL293),0,IF(BA293+$D292-SUM($BK293:BL293)>AD292+AO293,AD292+AO293-BA293,$D292-SUM($BK293:BL293))))","v":0},{"$f":"IF(AE292<=0,0,IF($D292<=SUM($BK293:BM293),0,IF(BB293+$D292-SUM($BK293:BM293)>AE292+AP293,AE292+AP293-BB293,$D292-SUM($BK293:BM293))))","v":0},{"$f":"IF(AF292<=0,0,IF($D292<=SUM($BK293:BN293),0,IF(BC293+$D292-SUM($BK293:BN293)>AF292+AQ293,AF292+AQ293-BC293,$D292-SUM($BK293:BN293))))","v":0},{"$f":"IF(AG292<=0,0,IF($D292<=SUM($BK293:BO293),0,IF(BD293+$D292-SUM($BK293:BO293)>AG292+AR293,AG292+AR293-BD293,$D292-SUM($BK293:BO293))))","v":0},{"$f":"IF(AH292<=0,0,IF($D292<=SUM($BK293:BP293),0,IF(BE293+$D292-SUM($BK293:BP293)>AH292+AS293,AH292+AS293-BE293,$D292-SUM($BK293:BP293))))","v":0},{"$f":"IF(AI292<=0,0,IF($D292<=SUM($BK293:BQ293),0,IF(BF293+$D292-SUM($BK293:BQ293)>AI292+AT293,AI292+AT293-BF293,$D292-SUM($BK293:BQ293))))","v":0},{"$f":"IF(AJ292<=0,0,IF($D292<=SUM($BK293:BR293),0,IF(BG293+$D292-SUM($BK293:BR293)>AJ292+AU293,AJ292+AU293-BG293,$D292-SUM($BK293:BR293))))","v":0},{"$f":"IF(AK292<=0,0,IF($D292<=SUM($BK293:BS293),0,IF(BH293+$D292-SUM($BK293:BS293)>AK292+AV293,AK292+AV293-BH293,$D292-SUM($BK293:BS293))))","v":0}]
[null,"","1922-09-01",0,0,0,0,0,0,0,0,0,0,0,null,null,null,null,null,null,null,null,null,null,null,null,0,0,0,0,0,0,0,0,0,0,0,null,0,0,0,0,0,0,0,0,0,0,0,null,0,0,0,0,0,0,0,0,0,0,0,null,0,{"$f":"IF(AC293<=0,0,IF($D293<=SUM($BK294:BK294),0,IF(AZ294+$D293-SUM($BK294:BK294)>AC293+AN294,AC293+AN294-AZ294,$D293-SUM($BK294:BK294))))","v":0},{"$f":"IF(AD293<=0,0,IF($D293<=SUM($BK294:BL294),0,IF(BA294+$D293-SUM($BK294:BL294)>AD293+AO294,AD293+AO294-BA294,$D293-SUM($BK294:BL294))))","v":0},{"$f":"IF(AE293<=0,0,IF($D293<=SUM($BK294:BM294),0,IF(BB294+$D293-SUM($BK294:BM294)>AE293+AP294,AE293+AP294-BB294,$D293-SUM($BK294:BM294))))","v":0},{"$f":"IF(AF293<=0,0,IF($D293<=SUM($BK294:BN294),0,IF(BC294+$D293-SUM($BK294:BN294)>AF293+AQ294,AF293+AQ294-BC294,$D293-SUM($BK294:BN294))))","v":0},{"$f":"IF(AG293<=0,0,IF($D293<=SUM($BK294:BO294),0,IF(BD294+$D293-SUM($BK294:BO294)>AG293+AR294,AG293+AR294-BD294,$D293-SUM($BK294:BO294))))","v":0},{"$f":"IF(AH293<=0,0,IF($D293<=SUM($BK294:BP294),0,IF(BE294+$D293-SUM($BK294:BP294)>AH293+AS294,AH293+AS294-BE294,$D293-SUM($BK294:BP294))))","v":0},{"$f":"IF(AI293<=0,0,IF($D293<=SUM($BK294:BQ294),0,IF(BF294+$D293-SUM($BK294:BQ294)>AI293+AT294,AI293+AT294-BF294,$D293-SUM($BK294:BQ294))))","v":0},{"$f":"IF(AJ293<=0,0,IF($D293<=SUM($BK294:BR294),0,IF(BG294+$D293-SUM($BK294:BR294)>AJ293+AU294,AJ293+AU294-BG294,$D293-SUM($BK294:BR294))))","v":0},{"$f":"IF(AK293<=0,0,IF($D293<=SUM($BK294:BS294),0,IF(BH294+$D293-SUM($BK294:BS294)>AK293+AV294,AK293+AV294-BH294,$D293-SUM($BK294:BS294))))","v":0}]
[null,"","1922-10-01",0,0,{"$f":"+AZ296+BL296","v":0},{"$f":"+BA296+BM296","v":0},{"$f":"+BB296+BN296","v":0},{"$f":"+BC296+BO296","v":0},{"$f":"+BD296+BP296","v":0},{"$f":"+BE296+BQ296","v":0},{"$f":"+BF296+BR296","v":0},{"$f":"+BG296+BS296","v":0},{"$f":"+BH296+BT296","v":0},null,null,null,null,null,null,null,null,null,null,null,null,0,0,0,0,0,0,0,0,0,0,0,null,0,0,0,0,0,0,0,0,0,0,0,null,0,0,0,0,0,0,0,0,0,0,0,null,0,{"$f":"IF(AC294<=0,0,IF($D294<=SUM($BK295:BK295),0,IF(AZ295+$D294-SUM($BK295:BK295)>AC294+AN295,AC294+AN295-AZ295,$D294-SUM($BK295:BK295))))","v":0},{"$f":"IF(AD294<=0,0,IF($D294<=SUM($BK295:BL295),0,IF(BA295+$D294-SUM($BK295:BL295)>AD294+AO295,AD294+AO295-BA295,$D294-SUM($BK295:BL295))))","v":0},{"$f":"IF(AE294<=0,0,IF($D294<=SUM($BK295:BM295),0,IF(BB295+$D294-SUM($BK295:BM295)>AE294+AP295,AE294+AP295-BB295,$D294-SUM($BK295:BM295))))","v":0},{"$f":"IF(AF294<=0,0,IF($D294<=SUM($BK295:BN295),0,IF(BC295+$D294-SUM($BK295:BN295)>AF294+AQ295,AF294+AQ295-BC295,$D294-SUM($BK295:BN295))))","v":0},{"$f":"IF(AG294<=0,0,IF($D294<=SUM($BK295:BO295),0,IF(BD295+$D294-SUM($BK295:BO295)>AG294+AR295,AG294+AR295-BD295,$D294-SUM($BK295:BO295))))","v":0},{"$f":"IF(AH294<=0,0,IF($D294<=SUM($BK295:BP295),0,IF(BE295+$D294-SUM($BK295:BP295)>AH294+AS295,AH294+AS295-BE295,$D294-SUM($BK295:BP295))))","v":0},{"$f":"IF(AI294<=0,0,IF($D294<=SUM($BK295:BQ295),0,IF(BF295+$D294-SUM($BK295:BQ295)>AI294+AT295,AI294+AT295-BF295,$D294-SUM($BK295:BQ295))))","v":0},{"$f":"IF(AJ294<=0,0,IF($D294<=SUM($BK295:BR295),0,IF(BG295+$D294-SUM($BK295:BR295)>AJ294+AU295,AJ294+AU295-BG295,$D294-SUM($BK295:BR295))))","v":0},{"$f":"IF(AK294<=0,0,IF($D294<=SUM($BK295:BS295),0,IF(BH295+$D294-SUM($BK295:BS295)>AK294+AV295,AK294+AV295-BH295,$D294-SUM($BK295:BS295))))","v":0}]
[null,"","1922-11-01",0,0,0,0,0,0,0,0,0,0,0,null,null,null,null,null,null,null,null,null,null,null,null,0,0,0,0,0,0,0,0,0,0,0,null,0,0,0,0,0,0,0,0,0,0,0,null,0,0,0,0,0,0,0,0,0,0,0,null,0,{"$f":"IF(AC295<=0,0,IF($D295<=SUM($BK296:BK296),0,IF(AZ296+$D295-SUM($BK296:BK296)>AC295+AN296,AC295+AN296-AZ296,$D295-SUM($BK296:BK296))))","v":0},{"$f":"IF(AD295<=0,0,IF($D295<=SUM($BK296:BL296),0,IF(BA296+$D295-SUM($BK296:BL296)>AD295+AO296,AD295+AO296-BA296,$D295-SUM($BK296:BL296))))","v":0},{"$f":"IF(AE295<=0,0,IF($D295<=SUM($BK296:BM296),0,IF(BB296+$D295-SUM($BK296:BM296)>AE295+AP296,AE295+AP296-BB296,$D295-SUM($BK296:BM296))))","v":0},{"$f":"IF(AF295<=0,0,IF($D295<=SUM($BK296:BN296),0,IF(BC296+$D295-SUM($BK296:BN296)>AF295+AQ296,AF295+AQ296-BC296,$D295-SUM($BK296:BN296))))","v":0},{"$f":"IF(AG295<=0,0,IF($D295<=SUM($BK296:BO296),0,IF(BD296+$D295-SUM($BK296:BO296)>AG295+AR296,AG295+AR296-BD296,$D295-SUM($BK296:BO296))))","v":0},{"$f":"IF(AH295<=0,0,IF($D295<=SUM($BK296:BP296),0,IF(BE296+$D295-SUM($BK296:BP296)>AH295+AS296,AH295+AS296-BE296,$D295-SUM($BK296:BP296))))","v":0},{"$f":"IF(AI295<=0,0,IF($D295<=SUM($BK296:BQ296),0,IF(BF296+$D295-SUM($BK296:BQ296)>AI295+AT296,AI295+AT296-BF296,$D295-SUM($BK296:BQ296))))","v":0},{"$f":"IF(AJ295<=0,0,IF($D295<=SUM($BK296:BR296),0,IF(BG296+$D295-SUM($BK296:BR296)>AJ295+AU296,AJ295+AU296-BG296,$D295-SUM($BK296:BR296))))","v":0},{"$f":"IF(AK295<=0,0,IF($D295<=SUM($BK296:BS296),0,IF(BH296+$D295-SUM($BK296:BS296)>AK295+AV296,AK295+AV296-BH296,$D295-SUM($BK296:BS296))))","v":0}]
[null,"","1922-12-01",0,0,0,0,0,0,0,0,0,0,0,null,null,null,null,null,null,null,null,null,null,null,null,0,0,0,0,0,0,0,0,0,0,0,null,0,0,0,0,0,0,0,0,0,0,0,null,0,0,0,0,0,0,0,0,0,0,0,null,0,{"$f":"IF(AC296<=0,0,IF($D296<=SUM($BK297:BK297),0,IF(AZ297+$D296-SUM($BK297:BK297)>AC296+AN297,AC296+AN297-AZ297,$D296-SUM($BK297:BK297))))","v":0},{"$f":"IF(AD296<=0,0,IF($D296<=SUM($BK297:BL297),0,IF(BA297+$D296-SUM($BK297:BL297)>AD296+AO297,AD296+AO297-BA297,$D296-SUM($BK297:BL297))))","v":0},{"$f":"IF(AE296<=0,0,IF($D296<=SUM($BK297:BM297),0,IF(BB297+$D296-SUM($BK297:BM297)>AE296+AP297,AE296+AP297-BB297,$D296-SUM($BK297:BM297))))","v":0},{"$f":"IF(AF296<=0,0,IF($D296<=SUM($BK297:BN297),0,IF(BC297+$D296-SUM($BK297:BN297)>AF296+AQ297,AF296+AQ297-BC297,$D296-SUM($BK297:BN297))))","v":0},{"$f":"IF(AG296<=0,0,IF($D296<=SUM($BK297:BO297),0,IF(BD297+$D296-SUM($BK297:BO297)>AG296+AR297,AG296+AR297-BD297,$D296-SUM($BK297:BO297))))","v":0},{"$f":"IF(AH296<=0,0,IF($D296<=SUM($BK297:BP297),0,IF(BE297+$D296-SUM($BK297:BP297)>AH296+AS297,AH296+AS297-BE297,$D296-SUM($BK297:BP297))))","v":0},{"$f":"IF(AI296<=0,0,IF($D296<=SUM($BK297:BQ297),0,IF(BF297+$D296-SUM($BK297:BQ297)>AI296+AT297,AI296+AT297-BF297,$D296-SUM($BK297:BQ297))))","v":0},{"$f":"IF(AJ296<=0,0,IF($D296<=SUM($BK297:BR297),0,IF(BG297+$D296-SUM($BK297:BR297)>AJ296+AU297,AJ296+AU297-BG297,$D296-SUM($BK297:BR297))))","v":0},{"$f":"IF(AK296<=0,0,IF($D296<=SUM($BK297:BS297),0,IF(BH297+$D296-SUM($BK297:BS297)>AK296+AV297,AK296+AV297-BH297,$D296-SUM($BK297:BS297))))","v":0}]
[null,"","1923-01-01",0,0,0,0,0,0,0,0,0,0,0,null,null,null,null,null,null,null,null,null,null,null,null,0,0,0,0,0,0,0,0,0,0,0,null,0,0,0,0,0,0,0,0,0,0,0,null,0,0,0,0,0,0,0,0,0,0,0,null,0,{"$f":"IF(AC297<=0,0,IF($D297<=SUM($BK298:BK298),0,IF(AZ298+$D297-SUM($BK298:BK298)>AC297+AN298,AC297+AN298-AZ298,$D297-SUM($BK298:BK298))))","v":0},{"$f":"IF(AD297<=0,0,IF($D297<=SUM($BK298:BL298),0,IF(BA298+$D297-SUM($BK298:BL298)>AD297+AO298,AD297+AO298-BA298,$D297-SUM($BK298:BL298))))","v":0},{"$f":"IF(AE297<=0,0,IF($D297<=SUM($BK298:BM298),0,IF(BB298+$D297-SUM($BK298:BM298)>AE297+AP298,AE297+AP298-BB298,$D297-SUM($BK298:BM298))))","v":0},{"$f":"IF(AF297<=0,0,IF($D297<=SUM($BK298:BN298),0,IF(BC298+$D297-SUM($BK298:BN298)>AF297+AQ298,AF297+AQ298-BC298,$D297-SUM($BK298:BN298))))","v":0},{"$f":"IF(AG297<=0,0,IF($D297<=SUM($BK298:BO298),0,IF(BD298+$D297-SUM($BK298:BO298)>AG297+AR298,AG297+AR298-BD298,$D297-SUM($BK298:BO298))))","v":0},{"$f":"IF(AH297<=0,0,IF($D297<=SUM($BK298:BP298),0,IF(BE298+$D297-SUM($BK298:BP298)>AH297+AS298,AH297+AS298-BE298,$D297-SUM($BK298:BP298))))","v":0},{"$f":"IF(AI297<=0,0,IF($D297<=SUM($BK298:BQ298),0,IF(BF298+$D297-SUM($BK298:BQ298)>AI297+AT298,AI297+AT298-BF298,$D297-SUM($BK298:BQ298))))","v":0},{"$f":"IF(AJ297<=0,0,IF($D297<=SUM($BK298:BR298),0,IF(BG298+$D297-SUM($BK298:BR298)>AJ297+AU298,AJ297+AU298-BG298,$D297-SUM($BK298:BR298))))","v":0},{"$f":"IF(AK297<=0,0,IF($D297<=SUM($BK298:BS298),0,IF(BH298+$D297-SUM($BK298:BS298)>AK297+AV298,AK297+AV298-BH298,$D297-SUM($BK298:BS298))))","v":0}]
[null,"","1923-02-01",0,0,0,0,0,0,0,0,0,0,0,null,null,null,null,null,null,null,null,null,null,null,null,0,0,0,0,0,0,0,0,0,0,0,null,0,0,0,0,0,0,0,0,0,0,0,null,0,0,0,0,0,0,0,0,0,0,0,null,0,{"$f":"IF(AC298<=0,0,IF($D298<=SUM($BK299:BK299),0,IF(AZ299+$D298-SUM($BK299:BK299)>AC298+AN299,AC298+AN299-AZ299,$D298-SUM($BK299:BK299))))","v":0},{"$f":"IF(AD298<=0,0,IF($D298<=SUM($BK299:BL299),0,IF(BA299+$D298-SUM($BK299:BL299)>AD298+AO299,AD298+AO299-BA299,$D298-SUM($BK299:BL299))))","v":0},{"$f":"IF(AE298<=0,0,IF($D298<=SUM($BK299:BM299),0,IF(BB299+$D298-SUM($BK299:BM299)>AE298+AP299,AE298+AP299-BB299,$D298-SUM($BK299:BM299))))","v":0},{"$f":"IF(AF298<=0,0,IF($D298<=SUM($BK299:BN299),0,IF(BC299+$D298-SUM($BK299:BN299)>AF298+AQ299,AF298+AQ299-BC299,$D298-SUM($BK299:BN299))))","v":0},{"$f":"IF(AG298<=0,0,IF($D298<=SUM($BK299:BO299),0,IF(BD299+$D298-SUM($BK299:BO299)>AG298+AR299,AG298+AR299-BD299,$D298-SUM($BK299:BO299))))","v":0},{"$f":"IF(AH298<=0,0,IF($D298<=SUM($BK299:BP299),0,IF(BE299+$D298-SUM($BK299:BP299)>AH298+AS299,AH298+AS299-BE299,$D298-SUM($BK299:BP299))))","v":0},{"$f":"IF(AI298<=0,0,IF($D298<=SUM($BK299:BQ299),0,IF(BF299+$D298-SUM($BK299:BQ299)>AI298+AT299,AI298+AT299-BF299,$D298-SUM($BK299:BQ299))))","v":0},{"$f":"IF(AJ298<=0,0,IF($D298<=SUM($BK299:BR299),0,IF(BG299+$D298-SUM($BK299:BR299)>AJ298+AU299,AJ298+AU299-BG299,$D298-SUM($BK299:BR299))))","v":0},{"$f":"IF(AK298<=0,0,IF($D298<=SUM($BK299:BS299),0,IF(BH299+$D298-SUM($BK299:BS299)>AK298+AV299,AK298+AV299-BH299,$D298-SUM($BK299:BS299))))","v":0}]
[null,"","1923-03-01",0,0,0,0,0,0,0,0,0,0,0,null,null,null,null,null,null,null,null,null,null,null,null,0,0,0,0,0,0,0,0,0,0,0,null,0,0,0,0,0,0,0,0,0,0,0,null,0,0,0,0,0,0,0,0,0,0,0,null,0,{"$f":"IF(AC299<=0,0,IF($D299<=SUM($BK300:BK300),0,IF(AZ300+$D299-SUM($BK300:BK300)>AC299+AN300,AC299+AN300-AZ300,$D299-SUM($BK300:BK300))))","v":0},{"$f":"IF(AD299<=0,0,IF($D299<=SUM($BK300:BL300),0,IF(BA300+$D299-SUM($BK300:BL300)>AD299+AO300,AD299+AO300-BA300,$D299-SUM($BK300:BL300))))","v":0},{"$f":"IF(AE299<=0,0,IF($D299<=SUM($BK300:BM300),0,IF(BB300+$D299-SUM($BK300:BM300)>AE299+AP300,AE299+AP300-BB300,$D299-SUM($BK300:BM300))))","v":0},{"$f":"IF(AF299<=0,0,IF($D299<=SUM($BK300:BN300),0,IF(BC300+$D299-SUM($BK300:BN300)>AF299+AQ300,AF299+AQ300-BC300,$D299-SUM($BK300:BN300))))","v":0},{"$f":"IF(AG299<=0,0,IF($D299<=SUM($BK300:BO300),0,IF(BD300+$D299-SUM($BK300:BO300)>AG299+AR300,AG299+AR300-BD300,$D299-SUM($BK300:BO300))))","v":0},{"$f":"IF(AH299<=0,0,IF($D299<=SUM($BK300:BP300),0,IF(BE300+$D299-SUM($BK300:BP300)>AH299+AS300,AH299+AS300-BE300,$D299-SUM($BK300:BP300))))","v":0},{"$f":"IF(AI299<=0,0,IF($D299<=SUM($BK300:BQ300),0,IF(BF300+$D299-SUM($BK300:BQ300)>AI299+AT300,AI299+AT300-BF300,$D299-SUM($BK300:BQ300))))","v":0},{"$f":"IF(AJ299<=0,0,IF($D299<=SUM($BK300:BR300),0,IF(BG300+$D299-SUM($BK300:BR300)>AJ299+AU300,AJ299+AU300-BG300,$D299-SUM($BK300:BR300))))","v":0},{"$f":"IF(AK299<=0,0,IF($D299<=SUM($BK300:BS300),0,IF(BH300+$D299-SUM($BK300:BS300)>AK299+AV300,AK299+AV300-BH300,$D299-SUM($BK300:BS300))))","v":0}]
[null,"","1923-04-01",0,0,0,0,0,0,0,0,0,0,0,null,null,null,null,null,null,null,null,null,null,null,null,0,0,0,0,0,0,0,0,0,0,0,null,0,0,0,0,0,0,0,0,0,0,0,null,0,0,0,0,0,0,0,0,0,0,0,null,0,{"$f":"IF(AC300<=0,0,IF($D300<=SUM($BK301:BK301),0,IF(AZ301+$D300-SUM($BK301:BK301)>AC300+AN301,AC300+AN301-AZ301,$D300-SUM($BK301:BK301))))","v":0},{"$f":"IF(AD300<=0,0,IF($D300<=SUM($BK301:BL301),0,IF(BA301+$D300-SUM($BK301:BL301)>AD300+AO301,AD300+AO301-BA301,$D300-SUM($BK301:BL301))))","v":0},{"$f":"IF(AE300<=0,0,IF($D300<=SUM($BK301:BM301),0,IF(BB301+$D300-SUM($BK301:BM301)>AE300+AP301,AE300+AP301-BB301,$D300-SUM($BK301:BM301))))","v":0},{"$f":"IF(AF300<=0,0,IF($D300<=SUM($BK301:BN301),0,IF(BC301+$D300-SUM($BK301:BN301)>AF300+AQ301,AF300+AQ301-BC301,$D300-SUM($BK301:BN301))))","v":0},{"$f":"IF(AG300<=0,0,IF($D300<=SUM($BK301:BO301),0,IF(BD301+$D300-SUM($BK301:BO301)>AG300+AR301,AG300+AR301-BD301,$D300-SUM($BK301:BO301))))","v":0},{"$f":"IF(AH300<=0,0,IF($D300<=SUM($BK301:BP301),0,IF(BE301+$D300-SUM($BK301:BP301)>AH300+AS301,AH300+AS301-BE301,$D300-SUM($BK301:BP301))))","v":0},{"$f":"IF(AI300<=0,0,IF($D300<=SUM($BK301:BQ301),0,IF(BF301+$D300-SUM($BK301:BQ301)>AI300+AT301,AI300+AT301-BF301,$D300-SUM($BK301:BQ301))))","v":0},{"$f":"IF(AJ300<=0,0,IF($D300<=SUM($BK301:BR301),0,IF(BG301+$D300-SUM($BK301:BR301)>AJ300+AU301,AJ300+AU301-BG301,$D300-SUM($BK301:BR301))))","v":0},{"$f":"IF(AK300<=0,0,IF($D300<=SUM($BK301:BS301),0,IF(BH301+$D300-SUM($BK301:BS301)>AK300+AV301,AK300+AV301-BH301,$D300-SUM($BK301:BS301))))","v":0}]
[null,"","1923-05-01",0,0,0,0,0,0,0,0,0,0,0,null,null,null,null,null,null,null,null,null,null,null,null,0,0,0,0,0,0,0,0,0,0,0,null,0,0,0,0,0,0,0,0,0,0,0,null,0,0,0,0,0,0,0,0,0,0,{"$f":"SUM(AY302:BH302)","v":0},null,0,{"$f":"IF(AC301<=0,0,IF($D301<=SUM($BK302:BK302),0,IF(AZ302+$D301-SUM($BK302:BK302)>AC301+AN302,AC301+AN302-AZ302,$D301-SUM($BK302:BK302))))","v":0},{"$f":"IF(AD301<=0,0,IF($D301<=SUM($BK302:BL302),0,IF(BA302+$D301-SUM($BK302:BL302)>AD301+AO302,AD301+AO302-BA302,$D301-SUM($BK302:BL302))))","v":0},{"$f":"IF(AE301<=0,0,IF($D301<=SUM($BK302:BM302),0,IF(BB302+$D301-SUM($BK302:BM302)>AE301+AP302,AE301+AP302-BB302,$D301-SUM($BK302:BM302))))","v":0},{"$f":"IF(AF301<=0,0,IF($D301<=SUM($BK302:BN302),0,IF(BC302+$D301-SUM($BK302:BN302)>AF301+AQ302,AF301+AQ302-BC302,$D301-SUM($BK302:BN302))))","v":0},{"$f":"IF(AG301<=0,0,IF($D301<=SUM($BK302:BO302),0,IF(BD302+$D301-SUM($BK302:BO302)>AG301+AR302,AG301+AR302-BD302,$D301-SUM($BK302:BO302))))","v":0},{"$f":"IF(AH301<=0,0,IF($D301<=SUM($BK302:BP302),0,IF(BE302+$D301-SUM($BK302:BP302)>AH301+AS302,AH301+AS302-BE302,$D301-SUM($BK302:BP302))))","v":0},{"$f":"IF(AI301<=0,0,IF($D301<=SUM($BK302:BQ302),0,IF(BF302+$D301-SUM($BK302:BQ302)>AI301+AT302,AI301+AT302-BF302,$D301-SUM($BK302:BQ302))))","v":0},{"$f":"IF(AJ301<=0,0,IF($D301<=SUM($BK302:BR302),0,IF(BG302+$D301-SUM($BK302:BR302)>AJ301+AU302,AJ301+AU302-BG302,$D301-SUM($BK302:BR302))))","v":0},{"$f":"IF(AK301<=0,0,IF($D301<=SUM($BK302:BS302),0,IF(BH302+$D301-SUM($BK302:BS302)>AK301+AV302,AK301+AV302-BH302,$D301-SUM($BK302:BS302))))","v":0}]
[null,"","1923-06-01",0,0,0,0,0,0,0,0,0,0,0,null,null,null,null,null,null,null,null,null,null,null,null,0,0,0,0,0,0,0,0,0,0,0,null,0,0,0,0,0,0,0,0,0,0,0,null,0,0,0,0,0,0,0,0,0,0,0,null,0,{"$f":"IF(AC302<=0,0,IF($D302<=SUM($BK303:BK303),0,IF(AZ303+$D302-SUM($BK303:BK303)>AC302+AN303,AC302+AN303-AZ303,$D302-SUM($BK303:BK303))))","v":0},{"$f":"IF(AD302<=0,0,IF($D302<=SUM($BK303:BL303),0,IF(BA303+$D302-SUM($BK303:BL303)>AD302+AO303,AD302+AO303-BA303,$D302-SUM($BK303:BL303))))","v":0},{"$f":"IF(AE302<=0,0,IF($D302<=SUM($BK303:BM303),0,IF(BB303+$D302-SUM($BK303:BM303)>AE302+AP303,AE302+AP303-BB303,$D302-SUM($BK303:BM303))))","v":0},{"$f":"IF(AF302<=0,0,IF($D302<=SUM($BK303:BN303),0,IF(BC303+$D302-SUM($BK303:BN303)>AF302+AQ303,AF302+AQ303-BC303,$D302-SUM($BK303:BN303))))","v":0},{"$f":"IF(AG302<=0,0,IF($D302<=SUM($BK303:BO303),0,IF(BD303+$D302-SUM($BK303:BO303)>AG302+AR303,AG302+AR303-BD303,$D302-SUM($BK303:BO303))))","v":0},{"$f":"IF(AH302<=0,0,IF($D302<=SUM($BK303:BP303),0,IF(BE303+$D302-SUM($BK303:BP303)>AH302+AS303,AH302+AS303-BE303,$D302-SUM($BK303:BP303))))","v":0},{"$f":"IF(AI302<=0,0,IF($D302<=SUM($BK303:BQ303),0,IF(BF303+$D302-SUM($BK303:BQ303)>AI302+AT303,AI302+AT303-BF303,$D302-SUM($BK303:BQ303))))","v":0},{"$f":"IF(AJ302<=0,0,IF($D302<=SUM($BK303:BR303),0,IF(BG303+$D302-SUM($BK303:BR303)>AJ302+AU303,AJ302+AU303-BG303,$D302-SUM($BK303:BR303))))","v":0},{"$f":"IF(AK302<=0,0,IF($D302<=SUM($BK303:BS303),0,IF(BH303+$D302-SUM($BK303:BS303)>AK302+AV303,AK302+AV303-BH303,$D302-SUM($BK303:BS303))))","v":0}]
[null,"","1923-07-01",0,0,0,0,0,0,0,0,0,0,0,null,null,null,null,null,null,null,null,null,null,null,null,0,0,0,0,0,0,0,0,0,0,0,null,0,0,0,0,0,0,0,0,0,0,0,null,0,0,0,0,0,0,0,0,0,0,0,null,0,{"$f":"IF(AC303<=0,0,IF($D303<=SUM($BK304:BK304),0,IF(AZ304+$D303-SUM($BK304:BK304)>AC303+AN304,AC303+AN304-AZ304,$D303-SUM($BK304:BK304))))","v":0},{"$f":"IF(AD303<=0,0,IF($D303<=SUM($BK304:BL304),0,IF(BA304+$D303-SUM($BK304:BL304)>AD303+AO304,AD303+AO304-BA304,$D303-SUM($BK304:BL304))))","v":0},{"$f":"IF(AE303<=0,0,IF($D303<=SUM($BK304:BM304),0,IF(BB304+$D303-SUM($BK304:BM304)>AE303+AP304,AE303+AP304-BB304,$D303-SUM($BK304:BM304))))","v":0},{"$f":"IF(AF303<=0,0,IF($D303<=SUM($BK304:BN304),0,IF(BC304+$D303-SUM($BK304:BN304)>AF303+AQ304,AF303+AQ304-BC304,$D303-SUM($BK304:BN304))))","v":0},{"$f":"IF(AG303<=0,0,IF($D303<=SUM($BK304:BO304),0,IF(BD304+$D303-SUM($BK304:BO304)>AG303+AR304,AG303+AR304-BD304,$D303-SUM($BK304:BO304))))","v":0},{"$f":"IF(AH303<=0,0,IF($D303<=SUM($BK304:BP304),0,IF(BE304+$D303-SUM($BK304:BP304)>AH303+AS304,AH303+AS304-BE304,$D303-SUM($BK304:BP304))))","v":0},{"$f":"IF(AI303<=0,0,IF($D303<=SUM($BK304:BQ304),0,IF(BF304+$D303-SUM($BK304:BQ304)>AI303+AT304,AI303+AT304-BF304,$D303-SUM($BK304:BQ304))))","v":0},{"$f":"IF(AJ303<=0,0,IF($D303<=SUM($BK304:BR304),0,IF(BG304+$D303-SUM($BK304:BR304)>AJ303+AU304,AJ303+AU304-BG304,$D303-SUM($BK304:BR304))))","v":0},{"$f":"IF(AK303<=0,0,IF($D303<=SUM($BK304:BS304),0,IF(BH304+$D303-SUM($BK304:BS304)>AK303+AV304,AK303+AV304-BH304,$D303-SUM($BK304:BS304))))","v":0}]
[null,"","1923-08-01",0,0,0,0,0,0,0,0,0,0,0,null,null,null,null,null,null,null,null,null,null,null,null,0,0,0,0,0,0,0,0,0,0,0,null,0,0,0,0,0,0,0,0,0,0,0,null,0,0,0,0,0,0,0,0,0,0,0,null,0,{"$f":"IF(AC304<=0,0,IF($D304<=SUM($BK305:BK305),0,IF(AZ305+$D304-SUM($BK305:BK305)>AC304+AN305,AC304+AN305-AZ305,$D304-SUM($BK305:BK305))))","v":0},{"$f":"IF(AD304<=0,0,IF($D304<=SUM($BK305:BL305),0,IF(BA305+$D304-SUM($BK305:BL305)>AD304+AO305,AD304+AO305-BA305,$D304-SUM($BK305:BL305))))","v":0},{"$f":"IF(AE304<=0,0,IF($D304<=SUM($BK305:BM305),0,IF(BB305+$D304-SUM($BK305:BM305)>AE304+AP305,AE304+AP305-BB305,$D304-SUM($BK305:BM305))))","v":0},{"$f":"IF(AF304<=0,0,IF($D304<=SUM($BK305:BN305),0,IF(BC305+$D304-SUM($BK305:BN305)>AF304+AQ305,AF304+AQ305-BC305,$D304-SUM($BK305:BN305))))","v":0},{"$f":"IF(AG304<=0,0,IF($D304<=SUM($BK305:BO305),0,IF(BD305+$D304-SUM($BK305:BO305)>AG304+AR305,AG304+AR305-BD305,$D304-SUM($BK305:BO305))))","v":0},{"$f":"IF(AH304<=0,0,IF($D304<=SUM($BK305:BP305),0,IF(BE305+$D304-SUM($BK305:BP305)>AH304+AS305,AH304+AS305-BE305,$D304-SUM($BK305:BP305))))","v":0},{"$f":"IF(AI304<=0,0,IF($D304<=SUM($BK305:BQ305),0,IF(BF305+$D304-SUM($BK305:BQ305)>AI304+AT305,AI304+AT305-BF305,$D304-SUM($BK305:BQ305))))","v":0},{"$f":"IF(AJ304<=0,0,IF($D304<=SUM($BK305:BR305),0,IF(BG305+$D304-SUM($BK305:BR305)>AJ304+AU305,AJ304+AU305-BG305,$D304-SUM($BK305:BR305))))","v":0},{"$f":"IF(AK304<=0,0,IF($D304<=SUM($BK305:BS305),0,IF(BH305+$D304-SUM($BK305:BS305)>AK304+AV305,AK304+AV305-BH305,$D304-SUM($BK305:BS305))))","v":0}]
[null,"","1923-09-01",0,0,0,0,0,0,0,0,0,0,0,null,null,null,null,null,null,null,null,null,null,null,null,0,0,0,0,0,0,0,0,0,0,0,null,0,0,0,0,0,0,0,0,0,0,0,null,0,0,0,0,0,0,0,0,0,0,0,null,0,{"$f":"IF(AC305<=0,0,IF($D305<=SUM($BK306:BK306),0,IF(AZ306+$D305-SUM($BK306:BK306)>AC305+AN306,AC305+AN306-AZ306,$D305-SUM($BK306:BK306))))","v":0},{"$f":"IF(AD305<=0,0,IF($D305<=SUM($BK306:BL306),0,IF(BA306+$D305-SUM($BK306:BL306)>AD305+AO306,AD305+AO306-BA306,$D305-SUM($BK306:BL306))))","v":0},{"$f":"IF(AE305<=0,0,IF($D305<=SUM($BK306:BM306),0,IF(BB306+$D305-SUM($BK306:BM306)>AE305+AP306,AE305+AP306-BB306,$D305-SUM($BK306:BM306))))","v":0},{"$f":"IF(AF305<=0,0,IF($D305<=SUM($BK306:BN306),0,IF(BC306+$D305-SUM($BK306:BN306)>AF305+AQ306,AF305+AQ306-BC306,$D305-SUM($BK306:BN306))))","v":0},{"$f":"IF(AG305<=0,0,IF($D305<=SUM($BK306:BO306),0,IF(BD306+$D305-SUM($BK306:BO306)>AG305+AR306,AG305+AR306-BD306,$D305-SUM($BK306:BO306))))","v":0},{"$f":"IF(AH305<=0,0,IF($D305<=SUM($BK306:BP306),0,IF(BE306+$D305-SUM($BK306:BP306)>AH305+AS306,AH305+AS306-BE306,$D305-SUM($BK306:BP306))))","v":0},{"$f":"IF(AI305<=0,0,IF($D305<=SUM($BK306:BQ306),0,IF(BF306+$D305-SUM($BK306:BQ306)>AI305+AT306,AI305+AT306-BF306,$D305-SUM($BK306:BQ306))))","v":0},{"$f":"IF(AJ305<=0,0,IF($D305<=SUM($BK306:BR306),0,IF(BG306+$D305-SUM($BK306:BR306)>AJ305+AU306,AJ305+AU306-BG306,$D305-SUM($BK306:BR306))))","v":0},{"$f":"IF(AK305<=0,0,IF($D305<=SUM($BK306:BS306),0,IF(BH306+$D305-SUM($BK306:BS306)>AK305+AV306,AK305+AV306-BH306,$D305-SUM($BK306:BS306))))","v":0}]
[null,"","1923-10-01",0,0,0,0,0,0,0,0,0,0,0,null,null,null,null,null,null,null,null,null,null,null,null,0,0,0,0,0,0,0,0,0,0,0,null,0,0,0,0,0,0,0,0,0,0,0,null,0,0,0,0,0,0,0,0,0,0,0,null,0,{"$f":"IF(AC306<=0,0,IF($D306<=SUM($BK307:BK307),0,IF(AZ307+$D306-SUM($BK307:BK307)>AC306+AN307,AC306+AN307-AZ307,$D306-SUM($BK307:BK307))))","v":0},{"$f":"IF(AD306<=0,0,IF($D306<=SUM($BK307:BL307),0,IF(BA307+$D306-SUM($BK307:BL307)>AD306+AO307,AD306+AO307-BA307,$D306-SUM($BK307:BL307))))","v":0},{"$f":"IF(AE306<=0,0,IF($D306<=SUM($BK307:BM307),0,IF(BB307+$D306-SUM($BK307:BM307)>AE306+AP307,AE306+AP307-BB307,$D306-SUM($BK307:BM307))))","v":0},{"$f":"IF(AF306<=0,0,IF($D306<=SUM($BK307:BN307),0,IF(BC307+$D306-SUM($BK307:BN307)>AF306+AQ307,AF306+AQ307-BC307,$D306-SUM($BK307:BN307))))","v":0},{"$f":"IF(AG306<=0,0,IF($D306<=SUM($BK307:BO307),0,IF(BD307+$D306-SUM($BK307:BO307)>AG306+AR307,AG306+AR307-BD307,$D306-SUM($BK307:BO307))))","v":0},{"$f":"IF(AH306<=0,0,IF($D306<=SUM($BK307:BP307),0,IF(BE307+$D306-SUM($BK307:BP307)>AH306+AS307,AH306+AS307-BE307,$D306-SUM($BK307:BP307))))","v":0},{"$f":"IF(AI306<=0,0,IF($D306<=SUM($BK307:BQ307),0,IF(BF307+$D306-SUM($BK307:BQ307)>AI306+AT307,AI306+AT307-BF307,$D306-SUM($BK307:BQ307))))","v":0},{"$f":"IF(AJ306<=0,0,IF($D306<=SUM($BK307:BR307),0,IF(BG307+$D306-SUM($BK307:BR307)>AJ306+AU307,AJ306+AU307-BG307,$D306-SUM($BK307:BR307))))","v":0},{"$f":"IF(AK306<=0,0,IF($D306<=SUM($BK307:BS307),0,IF(BH307+$D306-SUM($BK307:BS307)>AK306+AV307,AK306+AV307-BH307,$D306-SUM($BK307:BS307))))","v":0}]
[null,"","1923-11-01",0,0,0,0,0,0,0,0,0,0,0,null,null,null,null,null,null,null,null,null,null,null,null,0,0,0,0,0,0,0,0,0,0,0,null,0,0,0,0,0,0,0,0,0,0,0,null,0,0,0,0,0,0,0,0,0,0,0,null,0,{"$f":"IF(AC307<=0,0,IF($D307<=SUM($BK308:BK308),0,IF(AZ308+$D307-SUM($BK308:BK308)>AC307+AN308,AC307+AN308-AZ308,$D307-SUM($BK308:BK308))))","v":0},{"$f":"IF(AD307<=0,0,IF($D307<=SUM($BK308:BL308),0,IF(BA308+$D307-SUM($BK308:BL308)>AD307+AO308,AD307+AO308-BA308,$D307-SUM($BK308:BL308))))","v":0},{"$f":"IF(AE307<=0,0,IF($D307<=SUM($BK308:BM308),0,IF(BB308+$D307-SUM($BK308:BM308)>AE307+AP308,AE307+AP308-BB308,$D307-SUM($BK308:BM308))))","v":0},{"$f":"IF(AF307<=0,0,IF($D307<=SUM($BK308:BN308),0,IF(BC308+$D307-SUM($BK308:BN308)>AF307+AQ308,AF307+AQ308-BC308,$D307-SUM($BK308:BN308))))","v":0},{"$f":"IF(AG307<=0,0,IF($D307<=SUM($BK308:BO308),0,IF(BD308+$D307-SUM($BK308:BO308)>AG307+AR308,AG307+AR308-BD308,$D307-SUM($BK308:BO308))))","v":0},{"$f":"IF(AH307<=0,0,IF($D307<=SUM($BK308:BP308),0,IF(BE308+$D307-SUM($BK308:BP308)>AH307+AS308,AH307+AS308-BE308,$D307-SUM($BK308:BP308))))","v":0},{"$f":"IF(AI307<=0,0,IF($D307<=SUM($BK308:BQ308),0,IF(BF308+$D307-SUM($BK308:BQ308)>AI307+AT308,AI307+AT308-BF308,$D307-SUM($BK308:BQ308))))","v":0},{"$f":"IF(AJ307<=0,0,IF($D307<=SUM($BK308:BR308),0,IF(BG308+$D307-SUM($BK308:BR308)>AJ307+AU308,AJ307+AU308-BG308,$D307-SUM($BK308:BR308))))","v":0},{"$f":"IF(AK307<=0,0,IF($D307<=SUM($BK308:BS308),0,IF(BH308+$D307-SUM($BK308:BS308)>AK307+AV308,AK307+AV308-BH308,$D307-SUM($BK308:BS308))))","v":0}]
[null,"","1923-12-01",0,0,0,0,0,0,0,0,0,0,0,null,null,null,null,null,null,null,null,null,null,null,null,0,0,0,0,0,0,0,0,0,0,0,null,0,0,0,0,0,0,0,0,0,0,0,null,0,0,0,0,0,0,0,0,0,0,0,null,0,{"$f":"IF(AC308<=0,0,IF($D308<=SUM($BK309:BK309),0,IF(AZ309+$D308-SUM($BK309:BK309)>AC308+AN309,AC308+AN309-AZ309,$D308-SUM($BK309:BK309))))","v":0},{"$f":"IF(AD308<=0,0,IF($D308<=SUM($BK309:BL309),0,IF(BA309+$D308-SUM($BK309:BL309)>AD308+AO309,AD308+AO309-BA309,$D308-SUM($BK309:BL309))))","v":0},{"$f":"IF(AE308<=0,0,IF($D308<=SUM($BK309:BM309),0,IF(BB309+$D308-SUM($BK309:BM309)>AE308+AP309,AE308+AP309-BB309,$D308-SUM($BK309:BM309))))","v":0},{"$f":"IF(AF308<=0,0,IF($D308<=SUM($BK309:BN309),0,IF(BC309+$D308-SUM($BK309:BN309)>AF308+AQ309,AF308+AQ309-BC309,$D308-SUM($BK309:BN309))))","v":0},{"$f":"IF(AG308<=0,0,IF($D308<=SUM($BK309:BO309),0,IF(BD309+$D308-SUM($BK309:BO309)>AG308+AR309,AG308+AR309-BD309,$D308-SUM($BK309:BO309))))","v":0},{"$f":"IF(AH308<=0,0,IF($D308<=SUM($BK309:BP309),0,IF(BE309+$D308-SUM($BK309:BP309)>AH308+AS309,AH308+AS309-BE309,$D308-SUM($BK309:BP309))))","v":0},{"$f":"IF(AI308<=0,0,IF($D308<=SUM($BK309:BQ309),0,IF(BF309+$D308-SUM($BK309:BQ309)>AI308+AT309,AI308+AT309-BF309,$D308-SUM($BK309:BQ309))))","v":0},{"$f":"IF(AJ308<=0,0,IF($D308<=SUM($BK309:BR309),0,IF(BG309+$D308-SUM($BK309:BR309)>AJ308+AU309,AJ308+AU309-BG309,$D308-SUM($BK309:BR309))))","v":0},{"$f":"IF(AK308<=0,0,IF($D308<=SUM($BK309:BS309),0,IF(BH309+$D308-SUM($BK309:BS309)>AK308+AV309,AK308+AV309-BH309,$D308-SUM($BK309:BS309))))","v":0}]
[null,"","1924-01-01",0,0,0,0,0,0,0,0,0,0,0,null,null,null,null,null,null,null,null,null,null,null,null,0,0,0,0,0,0,0,0,0,0,0,null,0,0,0,0,0,0,0,0,0,0,0,null,0,0,0,0,0,0,0,0,0,0,0,null,0,{"$f":"IF(AC309<=0,0,IF($D309<=SUM($BK310:BK310),0,IF(AZ310+$D309-SUM($BK310:BK310)>AC309+AN310,AC309+AN310-AZ310,$D309-SUM($BK310:BK310))))","v":0},{"$f":"IF(AD309<=0,0,IF($D309<=SUM($BK310:BL310),0,IF(BA310+$D309-SUM($BK310:BL310)>AD309+AO310,AD309+AO310-BA310,$D309-SUM($BK310:BL310))))","v":0},{"$f":"IF(AE309<=0,0,IF($D309<=SUM($BK310:BM310),0,IF(BB310+$D309-SUM($BK310:BM310)>AE309+AP310,AE309+AP310-BB310,$D309-SUM($BK310:BM310))))","v":0},{"$f":"IF(AF309<=0,0,IF($D309<=SUM($BK310:BN310),0,IF(BC310+$D309-SUM($BK310:BN310)>AF309+AQ310,AF309+AQ310-BC310,$D309-SUM($BK310:BN310))))","v":0},{"$f":"IF(AG309<=0,0,IF($D309<=SUM($BK310:BO310),0,IF(BD310+$D309-SUM($BK310:BO310)>AG309+AR310,AG309+AR310-BD310,$D309-SUM($BK310:BO310))))","v":0},{"$f":"IF(AH309<=0,0,IF($D309<=SUM($BK310:BP310),0,IF(BE310+$D309-SUM($BK310:BP310)>AH309+AS310,AH309+AS310-BE310,$D309-SUM($BK310:BP310))))","v":0},{"$f":"IF(AI309<=0,0,IF($D309<=SUM($BK310:BQ310),0,IF(BF310+$D309-SUM($BK310:BQ310)>AI309+AT310,AI309+AT310-BF310,$D309-SUM($BK310:BQ310))))","v":0},{"$f":"IF(AJ309<=0,0,IF($D309<=SUM($BK310:BR310),0,IF(BG310+$D309-SUM($BK310:BR310)>AJ309+AU310,AJ309+AU310-BG310,$D309-SUM($BK310:BR310))))","v":0},{"$f":"IF(AK309<=0,0,IF($D309<=SUM($BK310:BS310),0,IF(BH310+$D309-SUM($BK310:BS310)>AK309+AV310,AK309+AV310-BH310,$D309-SUM($BK310:BS310))))","v":0}]
[null,"","1924-02-01",0,0,0,0,0,0,0,0,0,0,0,null,null,null,null,null,null,null,null,null,null,null,null,0,0,0,0,0,0,0,0,0,0,0,null,0,0,0,0,0,0,0,0,0,0,0,null,0,0,0,0,0,0,0,0,0,0,0,null,0,{"$f":"IF(AC310<=0,0,IF($D310<=SUM($BK311:BK311),0,IF(AZ311+$D310-SUM($BK311:BK311)>AC310+AN311,AC310+AN311-AZ311,$D310-SUM($BK311:BK311))))","v":0},{"$f":"IF(AD310<=0,0,IF($D310<=SUM($BK311:BL311),0,IF(BA311+$D310-SUM($BK311:BL311)>AD310+AO311,AD310+AO311-BA311,$D310-SUM($BK311:BL311))))","v":0},{"$f":"IF(AE310<=0,0,IF($D310<=SUM($BK311:BM311),0,IF(BB311+$D310-SUM($BK311:BM311)>AE310+AP311,AE310+AP311-BB311,$D310-SUM($BK311:BM311))))","v":0},{"$f":"IF(AF310<=0,0,IF($D310<=SUM($BK311:BN311),0,IF(BC311+$D310-SUM($BK311:BN311)>AF310+AQ311,AF310+AQ311-BC311,$D310-SUM($BK311:BN311))))","v":0},{"$f":"IF(AG310<=0,0,IF($D310<=SUM($BK311:BO311),0,IF(BD311+$D310-SUM($BK311:BO311)>AG310+AR311,AG310+AR311-BD311,$D310-SUM($BK311:BO311))))","v":0},{"$f":"IF(AH310<=0,0,IF($D310<=SUM($BK311:BP311),0,IF(BE311+$D310-SUM($BK311:BP311)>AH310+AS311,AH310+AS311-BE311,$D310-SUM($BK311:BP311))))","v":0},{"$f":"IF(AI310<=0,0,IF($D310<=SUM($BK311:BQ311),0,IF(BF311+$D310-SUM($BK311:BQ311)>AI310+AT311,AI310+AT311-BF311,$D310-SUM($BK311:BQ311))))","v":0},{"$f":"IF(AJ310<=0,0,IF($D310<=SUM($BK311:BR311),0,IF(BG311+$D310-SUM($BK311:BR311)>AJ310+AU311,AJ310+AU311-BG311,$D310-SUM($BK311:BR311))))","v":0},{"$f":"IF(AK310<=0,0,IF($D310<=SUM($BK311:BS311),0,IF(BH311+$D310-SUM($BK311:BS311)>AK310+AV311,AK310+AV311-BH311,$D310-SUM($BK311:BS311))))","v":0}]
[null,"","1924-03-01",0,0,0,0,0,0,0,0,0,0,0,null,null,null,null,null,null,null,null,null,null,null,null,0,0,0,0,0,0,0,0,0,0,0,null,0,0,0,0,0,0,0,0,0,0,0,null,0,0,0,0,0,0,0,0,0,0,0,null,0,{"$f":"IF(AC311<=0,0,IF($D311<=SUM($BK312:BK312),0,IF(AZ312+$D311-SUM($BK312:BK312)>AC311+AN312,AC311+AN312-AZ312,$D311-SUM($BK312:BK312))))","v":0},{"$f":"IF(AD311<=0,0,IF($D311<=SUM($BK312:BL312),0,IF(BA312+$D311-SUM($BK312:BL312)>AD311+AO312,AD311+AO312-BA312,$D311-SUM($BK312:BL312))))","v":0},{"$f":"IF(AE311<=0,0,IF($D311<=SUM($BK312:BM312),0,IF(BB312+$D311-SUM($BK312:BM312)>AE311+AP312,AE311+AP312-BB312,$D311-SUM($BK312:BM312))))","v":0},{"$f":"IF(AF311<=0,0,IF($D311<=SUM($BK312:BN312),0,IF(BC312+$D311-SUM($BK312:BN312)>AF311+AQ312,AF311+AQ312-BC312,$D311-SUM($BK312:BN312))))","v":0},{"$f":"IF(AG311<=0,0,IF($D311<=SUM($BK312:BO312),0,IF(BD312+$D311-SUM($BK312:BO312)>AG311+AR312,AG311+AR312-BD312,$D311-SUM($BK312:BO312))))","v":0},{"$f":"IF(AH311<=0,0,IF($D311<=SUM($BK312:BP312),0,IF(BE312+$D311-SUM($BK312:BP312)>AH311+AS312,AH311+AS312-BE312,$D311-SUM($BK312:BP312))))","v":0},{"$f":"IF(AI311<=0,0,IF($D311<=SUM($BK312:BQ312),0,IF(BF312+$D311-SUM($BK312:BQ312)>AI311+AT312,AI311+AT312-BF312,$D311-SUM($BK312:BQ312))))","v":0},{"$f":"IF(AJ311<=0,0,IF($D311<=SUM($BK312:BR312),0,IF(BG312+$D311-SUM($BK312:BR312)>AJ311+AU312,AJ311+AU312-BG312,$D311-SUM($BK312:BR312))))","v":0},{"$f":"IF(AK311<=0,0,IF($D311<=SUM($BK312:BS312),0,IF(BH312+$D311-SUM($BK312:BS312)>AK311+AV312,AK311+AV312-BH312,$D311-SUM($BK312:BS312))))","v":0}]
[null,"","1924-04-01",0,0,0,0,0,0,0,0,0,0,0,null,null,null,null,null,null,null,null,null,null,null,null,0,0,0,0,0,0,0,0,0,0,0,null,0,0,0,0,0,0,0,0,0,0,0,null,0,0,0,0,0,0,0,0,0,0,0,null,0,{"$f":"IF(AC312<=0,0,IF($D312<=SUM($BK313:BK313),0,IF(AZ313+$D312-SUM($BK313:BK313)>AC312+AN313,AC312+AN313-AZ313,$D312-SUM($BK313:BK313))))","v":0},{"$f":"IF(AD312<=0,0,IF($D312<=SUM($BK313:BL313),0,IF(BA313+$D312-SUM($BK313:BL313)>AD312+AO313,AD312+AO313-BA313,$D312-SUM($BK313:BL313))))","v":0},{"$f":"IF(AE312<=0,0,IF($D312<=SUM($BK313:BM313),0,IF(BB313+$D312-SUM($BK313:BM313)>AE312+AP313,AE312+AP313-BB313,$D312-SUM($BK313:BM313))))","v":0},{"$f":"IF(AF312<=0,0,IF($D312<=SUM($BK313:BN313),0,IF(BC313+$D312-SUM($BK313:BN313)>AF312+AQ313,AF312+AQ313-BC313,$D312-SUM($BK313:BN313))))","v":0},{"$f":"IF(AG312<=0,0,IF($D312<=SUM($BK313:BO313),0,IF(BD313+$D312-SUM($BK313:BO313)>AG312+AR313,AG312+AR313-BD313,$D312-SUM($BK313:BO313))))","v":0},{"$f":"IF(AH312<=0,0,IF($D312<=SUM($BK313:BP313),0,IF(BE313+$D312-SUM($BK313:BP313)>AH312+AS313,AH312+AS313-BE313,$D312-SUM($BK313:BP313))))","v":0},{"$f":"IF(AI312<=0,0,IF($D312<=SUM($BK313:BQ313),0,IF(BF313+$D312-SUM($BK313:BQ313)>AI312+AT313,AI312+AT313-BF313,$D312-SUM($BK313:BQ313))))","v":0},{"$f":"IF(AJ312<=0,0,IF($D312<=SUM($BK313:BR313),0,IF(BG313+$D312-SUM($BK313:BR313)>AJ312+AU313,AJ312+AU313-BG313,$D312-SUM($BK313:BR313))))","v":0},{"$f":"IF(AK312<=0,0,IF($D312<=SUM($BK313:BS313),0,IF(BH313+$D312-SUM($BK313:BS313)>AK312+AV313,AK312+AV313-BH313,$D312-SUM($BK313:BS313))))","v":0}]
[null,"","1924-05-01",0,0,0,0,0,0,0,0,0,0,0,null,null,null,null,null,null,null,null,null,null,null,null,0,0,0,0,0,0,0,0,0,0,0,null,0,0,0,0,0,0,0,0,0,0,0,null,0,0,0,0,0,0,0,0,0,0,0,null,0,{"$f":"IF(AC313<=0,0,IF($D313<=SUM($BK314:BK314),0,IF(AZ314+$D313-SUM($BK314:BK314)>AC313+AN314,AC313+AN314-AZ314,$D313-SUM($BK314:BK314))))","v":0},{"$f":"IF(AD313<=0,0,IF($D313<=SUM($BK314:BL314),0,IF(BA314+$D313-SUM($BK314:BL314)>AD313+AO314,AD313+AO314-BA314,$D313-SUM($BK314:BL314))))","v":0},{"$f":"IF(AE313<=0,0,IF($D313<=SUM($BK314:BM314),0,IF(BB314+$D313-SUM($BK314:BM314)>AE313+AP314,AE313+AP314-BB314,$D313-SUM($BK314:BM314))))","v":0},{"$f":"IF(AF313<=0,0,IF($D313<=SUM($BK314:BN314),0,IF(BC314+$D313-SUM($BK314:BN314)>AF313+AQ314,AF313+AQ314-BC314,$D313-SUM($BK314:BN314))))","v":0},{"$f":"IF(AG313<=0,0,IF($D313<=SUM($BK314:BO314),0,IF(BD314+$D313-SUM($BK314:BO314)>AG313+AR314,AG313+AR314-BD314,$D313-SUM($BK314:BO314))))","v":0},{"$f":"IF(AH313<=0,0,IF($D313<=SUM($BK314:BP314),0,IF(BE314+$D313-SUM($BK314:BP314)>AH313+AS314,AH313+AS314-BE314,$D313-SUM($BK314:BP314))))","v":0},{"$f":"IF(AI313<=0,0,IF($D313<=SUM($BK314:BQ314),0,IF(BF314+$D313-SUM($BK314:BQ314)>AI313+AT314,AI313+AT314-BF314,$D313-SUM($BK314:BQ314))))","v":0},{"$f":"IF(AJ313<=0,0,IF($D313<=SUM($BK314:BR314),0,IF(BG314+$D313-SUM($BK314:BR314)>AJ313+AU314,AJ313+AU314-BG314,$D313-SUM($BK314:BR314))))","v":0},{"$f":"IF(AK313<=0,0,IF($D313<=SUM($BK314:BS314),0,IF(BH314+$D313-SUM($BK314:BS314)>AK313+AV314,AK313+AV314-BH314,$D313-SUM($BK314:BS314))))","v":0}]
[null,"","1924-06-01",0,0,0,0,0,0,0,0,0,0,0,null,null,null,null,null,null,null,null,null,null,null,null,0,0,0,0,0,0,0,0,0,0,0,null,0,0,0,0,0,0,0,0,0,0,0,null,0,0,0,0,0,0,0,0,0,0,0,null,0,{"$f":"IF(AC314<=0,0,IF($D314<=SUM($BK315:BK315),0,IF(AZ315+$D314-SUM($BK315:BK315)>AC314+AN315,AC314+AN315-AZ315,$D314-SUM($BK315:BK315))))","v":0},{"$f":"IF(AD314<=0,0,IF($D314<=SUM($BK315:BL315),0,IF(BA315+$D314-SUM($BK315:BL315)>AD314+AO315,AD314+AO315-BA315,$D314-SUM($BK315:BL315))))","v":0},{"$f":"IF(AE314<=0,0,IF($D314<=SUM($BK315:BM315),0,IF(BB315+$D314-SUM($BK315:BM315)>AE314+AP315,AE314+AP315-BB315,$D314-SUM($BK315:BM315))))","v":0},{"$f":"IF(AF314<=0,0,IF($D314<=SUM($BK315:BN315),0,IF(BC315+$D314-SUM($BK315:BN315)>AF314+AQ315,AF314+AQ315-BC315,$D314-SUM($BK315:BN315))))","v":0},{"$f":"IF(AG314<=0,0,IF($D314<=SUM($BK315:BO315),0,IF(BD315+$D314-SUM($BK315:BO315)>AG314+AR315,AG314+AR315-BD315,$D314-SUM($BK315:BO315))))","v":0},{"$f":"IF(AH314<=0,0,IF($D314<=SUM($BK315:BP315),0,IF(BE315+$D314-SUM($BK315:BP315)>AH314+AS315,AH314+AS315-BE315,$D314-SUM($BK315:BP315))))","v":0},{"$f":"IF(AI314<=0,0,IF($D314<=SUM($BK315:BQ315),0,IF(BF315+$D314-SUM($BK315:BQ315)>AI314+AT315,AI314+AT315-BF315,$D314-SUM($BK315:BQ315))))","v":0},{"$f":"IF(AJ314<=0,0,IF($D314<=SUM($BK315:BR315),0,IF(BG315+$D314-SUM($BK315:BR315)>AJ314+AU315,AJ314+AU315-BG315,$D314-SUM($BK315:BR315))))","v":0},{"$f":"IF(AK314<=0,0,IF($D314<=SUM($BK315:BS315),0,IF(BH315+$D314-SUM($BK315:BS315)>AK314+AV315,AK314+AV315-BH315,$D314-SUM($BK315:BS315))))","v":0}]
[null,"","1924-07-01",0,0,0,0,0,0,0,0,0,0,0,null,null,null,null,null,null,null,null,null,null,null,null,0,0,0,0,0,0,0,0,0,0,0,null,0,0,0,0,0,0,0,0,0,0,0,null,0,0,0,0,0,0,0,0,0,0,0,null,0,{"$f":"IF(AC315<=0,0,IF($D315<=SUM($BK316:BK316),0,IF(AZ316+$D315-SUM($BK316:BK316)>AC315+AN316,AC315+AN316-AZ316,$D315-SUM($BK316:BK316))))","v":0},{"$f":"IF(AD315<=0,0,IF($D315<=SUM($BK316:BL316),0,IF(BA316+$D315-SUM($BK316:BL316)>AD315+AO316,AD315+AO316-BA316,$D315-SUM($BK316:BL316))))","v":0},{"$f":"IF(AE315<=0,0,IF($D315<=SUM($BK316:BM316),0,IF(BB316+$D315-SUM($BK316:BM316)>AE315+AP316,AE315+AP316-BB316,$D315-SUM($BK316:BM316))))","v":0},{"$f":"IF(AF315<=0,0,IF($D315<=SUM($BK316:BN316),0,IF(BC316+$D315-SUM($BK316:BN316)>AF315+AQ316,AF315+AQ316-BC316,$D315-SUM($BK316:BN316))))","v":0},{"$f":"IF(AG315<=0,0,IF($D315<=SUM($BK316:BO316),0,IF(BD316+$D315-SUM($BK316:BO316)>AG315+AR316,AG315+AR316-BD316,$D315-SUM($BK316:BO316))))","v":0},{"$f":"IF(AH315<=0,0,IF($D315<=SUM($BK316:BP316),0,IF(BE316+$D315-SUM($BK316:BP316)>AH315+AS316,AH315+AS316-BE316,$D315-SUM($BK316:BP316))))","v":0},{"$f":"IF(AI315<=0,0,IF($D315<=SUM($BK316:BQ316),0,IF(BF316+$D315-SUM($BK316:BQ316)>AI315+AT316,AI315+AT316-BF316,$D315-SUM($BK316:BQ316))))","v":0},{"$f":"IF(AJ315<=0,0,IF($D315<=SUM($BK316:BR316),0,IF(BG316+$D315-SUM($BK316:BR316)>AJ315+AU316,AJ315+AU316-BG316,$D315-SUM($BK316:BR316))))","v":0},{"$f":"IF(AK315<=0,0,IF($D315<=SUM($BK316:BS316),0,IF(BH316+$D315-SUM($BK316:BS316)>AK315+AV316,AK315+AV316-BH316,$D315-SUM($BK316:BS316))))","v":0}]
[null,"","1924-08-01",0,0,0,0,0,0,0,0,0,0,0,null,null,null,null,null,null,null,null,null,null,null,null,0,0,0,0,0,0,0,0,0,0,0,null,0,0,0,0,0,0,0,0,0,0,0,null,0,0,0,0,0,0,0,0,0,0,0,null,0,{"$f":"IF(AC316<=0,0,IF($D316<=SUM($BK317:BK317),0,IF(AZ317+$D316-SUM($BK317:BK317)>AC316+AN317,AC316+AN317-AZ317,$D316-SUM($BK317:BK317))))","v":0},{"$f":"IF(AD316<=0,0,IF($D316<=SUM($BK317:BL317),0,IF(BA317+$D316-SUM($BK317:BL317)>AD316+AO317,AD316+AO317-BA317,$D316-SUM($BK317:BL317))))","v":0},{"$f":"IF(AE316<=0,0,IF($D316<=SUM($BK317:BM317),0,IF(BB317+$D316-SUM($BK317:BM317)>AE316+AP317,AE316+AP317-BB317,$D316-SUM($BK317:BM317))))","v":0},{"$f":"IF(AF316<=0,0,IF($D316<=SUM($BK317:BN317),0,IF(BC317+$D316-SUM($BK317:BN317)>AF316+AQ317,AF316+AQ317-BC317,$D316-SUM($BK317:BN317))))","v":0},{"$f":"IF(AG316<=0,0,IF($D316<=SUM($BK317:BO317),0,IF(BD317+$D316-SUM($BK317:BO317)>AG316+AR317,AG316+AR317-BD317,$D316-SUM($BK317:BO317))))","v":0},{"$f":"IF(AH316<=0,0,IF($D316<=SUM($BK317:BP317),0,IF(BE317+$D316-SUM($BK317:BP317)>AH316+AS317,AH316+AS317-BE317,$D316-SUM($BK317:BP317))))","v":0},{"$f":"IF(AI316<=0,0,IF($D316<=SUM($BK317:BQ317),0,IF(BF317+$D316-SUM($BK317:BQ317)>AI316+AT317,AI316+AT317-BF317,$D316-SUM($BK317:BQ317))))","v":0},{"$f":"IF(AJ316<=0,0,IF($D316<=SUM($BK317:BR317),0,IF(BG317+$D316-SUM($BK317:BR317)>AJ316+AU317,AJ316+AU317-BG317,$D316-SUM($BK317:BR317))))","v":0},{"$f":"IF(AK316<=0,0,IF($D316<=SUM($BK317:BS317),0,IF(BH317+$D316-SUM($BK317:BS317)>AK316+AV317,AK316+AV317-BH317,$D316-SUM($BK317:BS317))))","v":0}]
[null,"","1924-09-01",0,0,0,0,0,0,0,0,0,0,0,null,null,null,null,null,null,null,null,null,null,null,null,0,0,0,0,0,0,0,0,0,0,0,null,0,0,0,0,0,0,0,0,0,0,0,null,0,0,0,0,0,0,0,0,0,0,0,null,0,{"$f":"IF(AC317<=0,0,IF($D317<=SUM($BK318:BK318),0,IF(AZ318+$D317-SUM($BK318:BK318)>AC317+AN318,AC317+AN318-AZ318,$D317-SUM($BK318:BK318))))","v":0},{"$f":"IF(AD317<=0,0,IF($D317<=SUM($BK318:BL318),0,IF(BA318+$D317-SUM($BK318:BL318)>AD317+AO318,AD317+AO318-BA318,$D317-SUM($BK318:BL318))))","v":0},{"$f":"IF(AE317<=0,0,IF($D317<=SUM($BK318:BM318),0,IF(BB318+$D317-SUM($BK318:BM318)>AE317+AP318,AE317+AP318-BB318,$D317-SUM($BK318:BM318))))","v":0},{"$f":"IF(AF317<=0,0,IF($D317<=SUM($BK318:BN318),0,IF(BC318+$D317-SUM($BK318:BN318)>AF317+AQ318,AF317+AQ318-BC318,$D317-SUM($BK318:BN318))))","v":0},{"$f":"IF(AG317<=0,0,IF($D317<=SUM($BK318:BO318),0,IF(BD318+$D317-SUM($BK318:BO318)>AG317+AR318,AG317+AR318-BD318,$D317-SUM($BK318:BO318))))","v":0},{"$f":"IF(AH317<=0,0,IF($D317<=SUM($BK318:BP318),0,IF(BE318+$D317-SUM($BK318:BP318)>AH317+AS318,AH317+AS318-BE318,$D317-SUM($BK318:BP318))))","v":0},{"$f":"IF(AI317<=0,0,IF($D317<=SUM($BK318:BQ318),0,IF(BF318+$D317-SUM($BK318:BQ318)>AI317+AT318,AI317+AT318-BF318,$D317-SUM($BK318:BQ318))))","v":0},{"$f":"IF(AJ317<=0,0,IF($D317<=SUM($BK318:BR318),0,IF(BG318+$D317-SUM($BK318:BR318)>AJ317+AU318,AJ317+AU318-BG318,$D317-SUM($BK318:BR318))))","v":0},{"$f":"IF(AK317<=0,0,IF($D317<=SUM($BK318:BS318),0,IF(BH318+$D317-SUM($BK318:BS318)>AK317+AV318,AK317+AV318-BH318,$D317-SUM($BK318:BS318))))","v":0}]
[null,"","1924-10-01",0,0,0,0,0,0,0,0,0,0,0,null,null,null,null,null,null,null,null,null,null,null,null,0,0,0,0,0,0,0,0,0,0,0,null,0,0,0,0,0,0,0,0,0,0,0,null,0,0,0,0,0,0,0,0,0,0,0,null,0,{"$f":"IF(AC318<=0,0,IF($D318<=SUM($BK319:BK319),0,IF(AZ319+$D318-SUM($BK319:BK319)>AC318+AN319,AC318+AN319-AZ319,$D318-SUM($BK319:BK319))))","v":0},{"$f":"IF(AD318<=0,0,IF($D318<=SUM($BK319:BL319),0,IF(BA319+$D318-SUM($BK319:BL319)>AD318+AO319,AD318+AO319-BA319,$D318-SUM($BK319:BL319))))","v":0},{"$f":"IF(AE318<=0,0,IF($D318<=SUM($BK319:BM319),0,IF(BB319+$D318-SUM($BK319:BM319)>AE318+AP319,AE318+AP319-BB319,$D318-SUM($BK319:BM319))))","v":0},{"$f":"IF(AF318<=0,0,IF($D318<=SUM($BK319:BN319),0,IF(BC319+$D318-SUM($BK319:BN319)>AF318+AQ319,AF318+AQ319-BC319,$D318-SUM($BK319:BN319))))","v":0},{"$f":"IF(AG318<=0,0,IF($D318<=SUM($BK319:BO319),0,IF(BD319+$D318-SUM($BK319:BO319)>AG318+AR319,AG318+AR319-BD319,$D318-SUM($BK319:BO319))))","v":0},{"$f":"IF(AH318<=0,0,IF($D318<=SUM($BK319:BP319),0,IF(BE319+$D318-SUM($BK319:BP319)>AH318+AS319,AH318+AS319-BE319,$D318-SUM($BK319:BP319))))","v":0},{"$f":"IF(AI318<=0,0,IF($D318<=SUM($BK319:BQ319),0,IF(BF319+$D318-SUM($BK319:BQ319)>AI318+AT319,AI318+AT319-BF319,$D318-SUM($BK319:BQ319))))","v":0},{"$f":"IF(AJ318<=0,0,IF($D318<=SUM($BK319:BR319),0,IF(BG319+$D318-SUM($BK319:BR319)>AJ318+AU319,AJ318+AU319-BG319,$D318-SUM($BK319:BR319))))","v":0},{"$f":"IF(AK318<=0,0,IF($D318<=SUM($BK319:BS319),0,IF(BH319+$D318-SUM($BK319:BS319)>AK318+AV319,AK318+AV319-BH319,$D318-SUM($BK319:BS319))))","v":0}]
[null,"","1924-11-01",0,0,0,0,0,0,0,0,0,0,0,null,null,null,null,null,null,null,null,null,null,null,null,0,0,0,0,0,0,0,0,0,0,0,null,0,0,0,0,0,0,0,0,0,0,0,null,0,0,0,0,0,0,0,0,0,0,0,null,0,{"$f":"IF(AC319<=0,0,IF($D319<=SUM($BK320:BK320),0,IF(AZ320+$D319-SUM($BK320:BK320)>AC319+AN320,AC319+AN320-AZ320,$D319-SUM($BK320:BK320))))","v":0},{"$f":"IF(AD319<=0,0,IF($D319<=SUM($BK320:BL320),0,IF(BA320+$D319-SUM($BK320:BL320)>AD319+AO320,AD319+AO320-BA320,$D319-SUM($BK320:BL320))))","v":0},{"$f":"IF(AE319<=0,0,IF($D319<=SUM($BK320:BM320),0,IF(BB320+$D319-SUM($BK320:BM320)>AE319+AP320,AE319+AP320-BB320,$D319-SUM($BK320:BM320))))","v":0},{"$f":"IF(AF319<=0,0,IF($D319<=SUM($BK320:BN320),0,IF(BC320+$D319-SUM($BK320:BN320)>AF319+AQ320,AF319+AQ320-BC320,$D319-SUM($BK320:BN320))))","v":0},{"$f":"IF(AG319<=0,0,IF($D319<=SUM($BK320:BO320),0,IF(BD320+$D319-SUM($BK320:BO320)>AG319+AR320,AG319+AR320-BD320,$D319-SUM($BK320:BO320))))","v":0},{"$f":"IF(AH319<=0,0,IF($D319<=SUM($BK320:BP320),0,IF(BE320+$D319-SUM($BK320:BP320)>AH319+AS320,AH319+AS320-BE320,$D319-SUM($BK320:BP320))))","v":0},{"$f":"IF(AI319<=0,0,IF($D319<=SUM($BK320:BQ320),0,IF(BF320+$D319-SUM($BK320:BQ320)>AI319+AT320,AI319+AT320-BF320,$D319-SUM($BK320:BQ320))))","v":0},{"$f":"IF(AJ319<=0,0,IF($D319<=SUM($BK320:BR320),0,IF(BG320+$D319-SUM($BK320:BR320)>AJ319+AU320,AJ319+AU320-BG320,$D319-SUM($BK320:BR320))))","v":0},{"$f":"IF(AK319<=0,0,IF($D319<=SUM($BK320:BS320),0,IF(BH320+$D319-SUM($BK320:BS320)>AK319+AV320,AK319+AV320-BH320,$D319-SUM($BK320:BS320))))","v":0}]
[null,"","1924-12-01",0,0,0,0,0,0,0,0,0,0,0,null,null,null,null,null,null,null,null,null,null,null,null,0,0,0,0,0,0,0,0,0,0,0,null,0,0,0,0,0,0,0,0,0,0,0,null,0,0,0,0,0,0,0,0,0,0,0,null,0,{"$f":"IF(AC320<=0,0,IF($D320<=SUM($BK321:BK321),0,IF(AZ321+$D320-SUM($BK321:BK321)>AC320+AN321,AC320+AN321-AZ321,$D320-SUM($BK321:BK321))))","v":0},{"$f":"IF(AD320<=0,0,IF($D320<=SUM($BK321:BL321),0,IF(BA321+$D320-SUM($BK321:BL321)>AD320+AO321,AD320+AO321-BA321,$D320-SUM($BK321:BL321))))","v":0},{"$f":"IF(AE320<=0,0,IF($D320<=SUM($BK321:BM321),0,IF(BB321+$D320-SUM($BK321:BM321)>AE320+AP321,AE320+AP321-BB321,$D320-SUM($BK321:BM321))))","v":0},{"$f":"IF(AF320<=0,0,IF($D320<=SUM($BK321:BN321),0,IF(BC321+$D320-SUM($BK321:BN321)>AF320+AQ321,AF320+AQ321-BC321,$D320-SUM($BK321:BN321))))","v":0},{"$f":"IF(AG320<=0,0,IF($D320<=SUM($BK321:BO321),0,IF(BD321+$D320-SUM($BK321:BO321)>AG320+AR321,AG320+AR321-BD321,$D320-SUM($BK321:BO321))))","v":0},{"$f":"IF(AH320<=0,0,IF($D320<=SUM($BK321:BP321),0,IF(BE321+$D320-SUM($BK321:BP321)>AH320+AS321,AH320+AS321-BE321,$D320-SUM($BK321:BP321))))","v":0},{"$f":"IF(AI320<=0,0,IF($D320<=SUM($BK321:BQ321),0,IF(BF321+$D320-SUM($BK321:BQ321)>AI320+AT321,AI320+AT321-BF321,$D320-SUM($BK321:BQ321))))","v":0},{"$f":"IF(AJ320<=0,0,IF($D320<=SUM($BK321:BR321),0,IF(BG321+$D320-SUM($BK321:BR321)>AJ320+AU321,AJ320+AU321-BG321,$D320-SUM($BK321:BR321))))","v":0},{"$f":"IF(AK320<=0,0,IF($D320<=SUM($BK321:BS321),0,IF(BH321+$D320-SUM($BK321:BS321)>AK320+AV321,AK320+AV321-BH321,$D320-SUM($BK321:BS321))))","v":0}]
[null,"","1925-01-01",0,0,0,0,0,0,0,0,0,0,0,null,null,null,null,null,null,null,null,null,null,null,null,0,0,0,0,0,0,0,0,0,0,0,null,0,0,0,0,0,0,0,0,0,0,0,null,0,0,0,0,0,0,0,0,0,0,0,null,0,{"$f":"IF(AC321<=0,0,IF($D321<=SUM($BK322:BK322),0,IF(AZ322+$D321-SUM($BK322:BK322)>AC321+AN322,AC321+AN322-AZ322,$D321-SUM($BK322:BK322))))","v":0},{"$f":"IF(AD321<=0,0,IF($D321<=SUM($BK322:BL322),0,IF(BA322+$D321-SUM($BK322:BL322)>AD321+AO322,AD321+AO322-BA322,$D321-SUM($BK322:BL322))))","v":0},{"$f":"IF(AE321<=0,0,IF($D321<=SUM($BK322:BM322),0,IF(BB322+$D321-SUM($BK322:BM322)>AE321+AP322,AE321+AP322-BB322,$D321-SUM($BK322:BM322))))","v":0},{"$f":"IF(AF321<=0,0,IF($D321<=SUM($BK322:BN322),0,IF(BC322+$D321-SUM($BK322:BN322)>AF321+AQ322,AF321+AQ322-BC322,$D321-SUM($BK322:BN322))))","v":0},{"$f":"IF(AG321<=0,0,IF($D321<=SUM($BK322:BO322),0,IF(BD322+$D321-SUM($BK322:BO322)>AG321+AR322,AG321+AR322-BD322,$D321-SUM($BK322:BO322))))","v":0},{"$f":"IF(AH321<=0,0,IF($D321<=SUM($BK322:BP322),0,IF(BE322+$D321-SUM($BK322:BP322)>AH321+AS322,AH321+AS322-BE322,$D321-SUM($BK322:BP322))))","v":0},{"$f":"IF(AI321<=0,0,IF($D321<=SUM($BK322:BQ322),0,IF(BF322+$D321-SUM($BK322:BQ322)>AI321+AT322,AI321+AT322-BF322,$D321-SUM($BK322:BQ322))))","v":0},{"$f":"IF(AJ321<=0,0,IF($D321<=SUM($BK322:BR322),0,IF(BG322+$D321-SUM($BK322:BR322)>AJ321+AU322,AJ321+AU322-BG322,$D321-SUM($BK322:BR322))))","v":0},{"$f":"IF(AK321<=0,0,IF($D321<=SUM($BK322:BS322),0,IF(BH322+$D321-SUM($BK322:BS322)>AK321+AV322,AK321+AV322-BH322,$D321-SUM($BK322:BS322))))","v":0}]
[null,"","1925-02-01",0,0,0,0,0,0,0,0,0,0,0,null,null,null,null,null,null,null,null,null,null,null,null,0,0,0,0,0,0,0,0,0,0,0,null,0,0,0,0,0,0,0,0,0,0,0,null,0,0,0,0,0,0,0,0,0,0,0,null,0,{"$f":"IF(AC322<=0,0,IF($D322<=SUM($BK323:BK323),0,IF(AZ323+$D322-SUM($BK323:BK323)>AC322+AN323,AC322+AN323-AZ323,$D322-SUM($BK323:BK323))))","v":0},{"$f":"IF(AD322<=0,0,IF($D322<=SUM($BK323:BL323),0,IF(BA323+$D322-SUM($BK323:BL323)>AD322+AO323,AD322+AO323-BA323,$D322-SUM($BK323:BL323))))","v":0},{"$f":"IF(AE322<=0,0,IF($D322<=SUM($BK323:BM323),0,IF(BB323+$D322-SUM($BK323:BM323)>AE322+AP323,AE322+AP323-BB323,$D322-SUM($BK323:BM323))))","v":0},{"$f":"IF(AF322<=0,0,IF($D322<=SUM($BK323:BN323),0,IF(BC323+$D322-SUM($BK323:BN323)>AF322+AQ323,AF322+AQ323-BC323,$D322-SUM($BK323:BN323))))","v":0},{"$f":"IF(AG322<=0,0,IF($D322<=SUM($BK323:BO323),0,IF(BD323+$D322-SUM($BK323:BO323)>AG322+AR323,AG322+AR323-BD323,$D322-SUM($BK323:BO323))))","v":0},{"$f":"IF(AH322<=0,0,IF($D322<=SUM($BK323:BP323),0,IF(BE323+$D322-SUM($BK323:BP323)>AH322+AS323,AH322+AS323-BE323,$D322-SUM($BK323:BP323))))","v":0},{"$f":"IF(AI322<=0,0,IF($D322<=SUM($BK323:BQ323),0,IF(BF323+$D322-SUM($BK323:BQ323)>AI322+AT323,AI322+AT323-BF323,$D322-SUM($BK323:BQ323))))","v":0},{"$f":"IF(AJ322<=0,0,IF($D322<=SUM($BK323:BR323),0,IF(BG323+$D322-SUM($BK323:BR323)>AJ322+AU323,AJ322+AU323-BG323,$D322-SUM($BK323:BR323))))","v":0},{"$f":"IF(AK322<=0,0,IF($D322<=SUM($BK323:BS323),0,IF(BH323+$D322-SUM($BK323:BS323)>AK322+AV323,AK322+AV323-BH323,$D322-SUM($BK323:BS323))))","v":0}]
[null,"","1925-03-01",0,0,0,0,0,0,0,0,0,0,0,null,null,null,null,null,null,null,null,null,null,null,null,0,0,0,0,0,0,0,0,0,0,0,null,0,0,0,0,0,0,0,0,0,0,0,null,0,0,0,0,0,0,0,0,0,0,0,null,0,{"$f":"IF(AC323<=0,0,IF($D323<=SUM($BK324:BK324),0,IF(AZ324+$D323-SUM($BK324:BK324)>AC323+AN324,AC323+AN324-AZ324,$D323-SUM($BK324:BK324))))","v":0},{"$f":"IF(AD323<=0,0,IF($D323<=SUM($BK324:BL324),0,IF(BA324+$D323-SUM($BK324:BL324)>AD323+AO324,AD323+AO324-BA324,$D323-SUM($BK324:BL324))))","v":0},{"$f":"IF(AE323<=0,0,IF($D323<=SUM($BK324:BM324),0,IF(BB324+$D323-SUM($BK324:BM324)>AE323+AP324,AE323+AP324-BB324,$D323-SUM($BK324:BM324))))","v":0},{"$f":"IF(AF323<=0,0,IF($D323<=SUM($BK324:BN324),0,IF(BC324+$D323-SUM($BK324:BN324)>AF323+AQ324,AF323+AQ324-BC324,$D323-SUM($BK324:BN324))))","v":0},{"$f":"IF(AG323<=0,0,IF($D323<=SUM($BK324:BO324),0,IF(BD324+$D323-SUM($BK324:BO324)>AG323+AR324,AG323+AR324-BD324,$D323-SUM($BK324:BO324))))","v":0},{"$f":"IF(AH323<=0,0,IF($D323<=SUM($BK324:BP324),0,IF(BE324+$D323-SUM($BK324:BP324)>AH323+AS324,AH323+AS324-BE324,$D323-SUM($BK324:BP324))))","v":0},{"$f":"IF(AI323<=0,0,IF($D323<=SUM($BK324:BQ324),0,IF(BF324+$D323-SUM($BK324:BQ324)>AI323+AT324,AI323+AT324-BF324,$D323-SUM($BK324:BQ324))))","v":0},{"$f":"IF(AJ323<=0,0,IF($D323<=SUM($BK324:BR324),0,IF(BG324+$D323-SUM($BK324:BR324)>AJ323+AU324,AJ323+AU324-BG324,$D323-SUM($BK324:BR324))))","v":0},{"$f":"IF(AK323<=0,0,IF($D323<=SUM($BK324:BS324),0,IF(BH324+$D323-SUM($BK324:BS324)>AK323+AV324,AK323+AV324-BH324,$D323-SUM($BK324:BS324))))","v":0}]
[null,"","1925-04-01",0,0,0,0,0,0,0,0,0,0,0,null,null,null,null,null,null,null,null,null,null,null,null,0,0,0,0,0,0,0,0,0,0,0,null,0,0,0,0,0,0,0,0,0,0,0,null,0,0,0,0,0,0,0,0,0,0,0,null,0,{"$f":"IF(AC324<=0,0,IF($D324<=SUM($BK325:BK325),0,IF(AZ325+$D324-SUM($BK325:BK325)>AC324+AN325,AC324+AN325-AZ325,$D324-SUM($BK325:BK325))))","v":0},{"$f":"IF(AD324<=0,0,IF($D324<=SUM($BK325:BL325),0,IF(BA325+$D324-SUM($BK325:BL325)>AD324+AO325,AD324+AO325-BA325,$D324-SUM($BK325:BL325))))","v":0},{"$f":"IF(AE324<=0,0,IF($D324<=SUM($BK325:BM325),0,IF(BB325+$D324-SUM($BK325:BM325)>AE324+AP325,AE324+AP325-BB325,$D324-SUM($BK325:BM325))))","v":0},{"$f":"IF(AF324<=0,0,IF($D324<=SUM($BK325:BN325),0,IF(BC325+$D324-SUM($BK325:BN325)>AF324+AQ325,AF324+AQ325-BC325,$D324-SUM($BK325:BN325))))","v":0},{"$f":"IF(AG324<=0,0,IF($D324<=SUM($BK325:BO325),0,IF(BD325+$D324-SUM($BK325:BO325)>AG324+AR325,AG324+AR325-BD325,$D324-SUM($BK325:BO325))))","v":0},{"$f":"IF(AH324<=0,0,IF($D324<=SUM($BK325:BP325),0,IF(BE325+$D324-SUM($BK325:BP325)>AH324+AS325,AH324+AS325-BE325,$D324-SUM($BK325:BP325))))","v":0},{"$f":"IF(AI324<=0,0,IF($D324<=SUM($BK325:BQ325),0,IF(BF325+$D324-SUM($BK325:BQ325)>AI324+AT325,AI324+AT325-BF325,$D324-SUM($BK325:BQ325))))","v":0},{"$f":"IF(AJ324<=0,0,IF($D324<=SUM($BK325:BR325),0,IF(BG325+$D324-SUM($BK325:BR325)>AJ324+AU325,AJ324+AU325-BG325,$D324-SUM($BK325:BR325))))","v":0},{"$f":"IF(AK324<=0,0,IF($D324<=SUM($BK325:BS325),0,IF(BH325+$D324-SUM($BK325:BS325)>AK324+AV325,AK324+AV325-BH325,$D324-SUM($BK325:BS325))))","v":0}]
[null,"","1925-05-01",0,0,0,0,0,0,0,0,0,0,0,null,null,null,null,null,null,null,null,null,null,null,null,0,0,0,0,0,0,0,0,0,0,0,null,0,0,0,0,0,0,0,0,0,0,0,null,0,0,0,0,0,0,0,0,0,0,0,null,0,{"$f":"IF(AC325<=0,0,IF($D325<=SUM($BK326:BK326),0,IF(AZ326+$D325-SUM($BK326:BK326)>AC325+AN326,AC325+AN326-AZ326,$D325-SUM($BK326:BK326))))","v":0},{"$f":"IF(AD325<=0,0,IF($D325<=SUM($BK326:BL326),0,IF(BA326+$D325-SUM($BK326:BL326)>AD325+AO326,AD325+AO326-BA326,$D325-SUM($BK326:BL326))))","v":0},{"$f":"IF(AE325<=0,0,IF($D325<=SUM($BK326:BM326),0,IF(BB326+$D325-SUM($BK326:BM326)>AE325+AP326,AE325+AP326-BB326,$D325-SUM($BK326:BM326))))","v":0},{"$f":"IF(AF325<=0,0,IF($D325<=SUM($BK326:BN326),0,IF(BC326+$D325-SUM($BK326:BN326)>AF325+AQ326,AF325+AQ326-BC326,$D325-SUM($BK326:BN326))))","v":0},{"$f":"IF(AG325<=0,0,IF($D325<=SUM($BK326:BO326),0,IF(BD326+$D325-SUM($BK326:BO326)>AG325+AR326,AG325+AR326-BD326,$D325-SUM($BK326:BO326))))","v":0},{"$f":"IF(AH325<=0,0,IF($D325<=SUM($BK326:BP326),0,IF(BE326+$D325-SUM($BK326:BP326)>AH325+AS326,AH325+AS326-BE326,$D325-SUM($BK326:BP326))))","v":0},{"$f":"IF(AI325<=0,0,IF($D325<=SUM($BK326:BQ326),0,IF(BF326+$D325-SUM($BK326:BQ326)>AI325+AT326,AI325+AT326-BF326,$D325-SUM($BK326:BQ326))))","v":0},{"$f":"IF(AJ325<=0,0,IF($D325<=SUM($BK326:BR326),0,IF(BG326+$D325-SUM($BK326:BR326)>AJ325+AU326,AJ325+AU326-BG326,$D325-SUM($BK326:BR326))))","v":0},{"$f":"IF(AK325<=0,0,IF($D325<=SUM($BK326:BS326),0,IF(BH326+$D325-SUM($BK326:BS326)>AK325+AV326,AK325+AV326-BH326,$D325-SUM($BK326:BS326))))","v":0}]
[null,"","1925-06-01",0,0,0,0,0,0,0,0,0,0,0,null,null,null,null,null,null,null,null,null,null,null,null,0,0,0,0,0,0,0,0,0,0,0,null,0,0,0,0,0,0,0,0,0,0,0,null,0,0,0,0,0,0,0,0,0,0,0,null,0,{"$f":"IF(AC326<=0,0,IF($D326<=SUM($BK327:BK327),0,IF(AZ327+$D326-SUM($BK327:BK327)>AC326+AN327,AC326+AN327-AZ327,$D326-SUM($BK327:BK327))))","v":0},{"$f":"IF(AD326<=0,0,IF($D326<=SUM($BK327:BL327),0,IF(BA327+$D326-SUM($BK327:BL327)>AD326+AO327,AD326+AO327-BA327,$D326-SUM($BK327:BL327))))","v":0},{"$f":"IF(AE326<=0,0,IF($D326<=SUM($BK327:BM327),0,IF(BB327+$D326-SUM($BK327:BM327)>AE326+AP327,AE326+AP327-BB327,$D326-SUM($BK327:BM327))))","v":0},{"$f":"IF(AF326<=0,0,IF($D326<=SUM($BK327:BN327),0,IF(BC327+$D326-SUM($BK327:BN327)>AF326+AQ327,AF326+AQ327-BC327,$D326-SUM($BK327:BN327))))","v":0},{"$f":"IF(AG326<=0,0,IF($D326<=SUM($BK327:BO327),0,IF(BD327+$D326-SUM($BK327:BO327)>AG326+AR327,AG326+AR327-BD327,$D326-SUM($BK327:BO327))))","v":0},{"$f":"IF(AH326<=0,0,IF($D326<=SUM($BK327:BP327),0,IF(BE327+$D326-SUM($BK327:BP327)>AH326+AS327,AH326+AS327-BE327,$D326-SUM($BK327:BP327))))","v":0},{"$f":"IF(AI326<=0,0,IF($D326<=SUM($BK327:BQ327),0,IF(BF327+$D326-SUM($BK327:BQ327)>AI326+AT327,AI326+AT327-BF327,$D326-SUM($BK327:BQ327))))","v":0},{"$f":"IF(AJ326<=0,0,IF($D326<=SUM($BK327:BR327),0,IF(BG327+$D326-SUM($BK327:BR327)>AJ326+AU327,AJ326+AU327-BG327,$D326-SUM($BK327:BR327))))","v":0},{"$f":"IF(AK326<=0,0,IF($D326<=SUM($BK327:BS327),0,IF(BH327+$D326-SUM($BK327:BS327)>AK326+AV327,AK326+AV327-BH327,$D326-SUM($BK327:BS327))))","v":0}]
[null,"","1925-07-01",0,0,0,0,0,0,0,0,0,0,0,null,null,null,null,null,null,null,null,null,null,null,null,0,0,0,0,0,0,0,0,0,0,0,null,0,0,0,0,0,0,0,0,0,0,0,null,0,0,0,0,0,0,0,0,0,0,0,null,0,{"$f":"IF(AC327<=0,0,IF($D327<=SUM($BK328:BK328),0,IF(AZ328+$D327-SUM($BK328:BK328)>AC327+AN328,AC327+AN328-AZ328,$D327-SUM($BK328:BK328))))","v":0},{"$f":"IF(AD327<=0,0,IF($D327<=SUM($BK328:BL328),0,IF(BA328+$D327-SUM($BK328:BL328)>AD327+AO328,AD327+AO328-BA328,$D327-SUM($BK328:BL328))))","v":0},{"$f":"IF(AE327<=0,0,IF($D327<=SUM($BK328:BM328),0,IF(BB328+$D327-SUM($BK328:BM328)>AE327+AP328,AE327+AP328-BB328,$D327-SUM($BK328:BM328))))","v":0},{"$f":"IF(AF327<=0,0,IF($D327<=SUM($BK328:BN328),0,IF(BC328+$D327-SUM($BK328:BN328)>AF327+AQ328,AF327+AQ328-BC328,$D327-SUM($BK328:BN328))))","v":0},{"$f":"IF(AG327<=0,0,IF($D327<=SUM($BK328:BO328),0,IF(BD328+$D327-SUM($BK328:BO328)>AG327+AR328,AG327+AR328-BD328,$D327-SUM($BK328:BO328))))","v":0},{"$f":"IF(AH327<=0,0,IF($D327<=SUM($BK328:BP328),0,IF(BE328+$D327-SUM($BK328:BP328)>AH327+AS328,AH327+AS328-BE328,$D327-SUM($BK328:BP328))))","v":0},{"$f":"IF(AI327<=0,0,IF($D327<=SUM($BK328:BQ328),0,IF(BF328+$D327-SUM($BK328:BQ328)>AI327+AT328,AI327+AT328-BF328,$D327-SUM($BK328:BQ328))))","v":0},{"$f":"IF(AJ327<=0,0,IF($D327<=SUM($BK328:BR328),0,IF(BG328+$D327-SUM($BK328:BR328)>AJ327+AU328,AJ327+AU328-BG328,$D327-SUM($BK328:BR328))))","v":0},{"$f":"IF(AK327<=0,0,IF($D327<=SUM($BK328:BS328),0,IF(BH328+$D327-SUM($BK328:BS328)>AK327+AV328,AK327+AV328-BH328,$D327-SUM($BK328:BS328))))","v":0}]
[null,"","1925-08-01",0,0,0,0,0,0,0,0,0,0,0,null,null,null,null,null,null,null,null,null,null,null,null,0,0,0,0,0,0,0,0,0,0,0,null,0,0,0,0,0,0,0,0,0,0,0,null,0,0,0,0,0,0,0,0,0,0,0,null,0,{"$f":"IF(AC328<=0,0,IF($D328<=SUM($BK329:BK329),0,IF(AZ329+$D328-SUM($BK329:BK329)>AC328+AN329,AC328+AN329-AZ329,$D328-SUM($BK329:BK329))))","v":0},{"$f":"IF(AD328<=0,0,IF($D328<=SUM($BK329:BL329),0,IF(BA329+$D328-SUM($BK329:BL329)>AD328+AO329,AD328+AO329-BA329,$D328-SUM($BK329:BL329))))","v":0},{"$f":"IF(AE328<=0,0,IF($D328<=SUM($BK329:BM329),0,IF(BB329+$D328-SUM($BK329:BM329)>AE328+AP329,AE328+AP329-BB329,$D328-SUM($BK329:BM329))))","v":0},{"$f":"IF(AF328<=0,0,IF($D328<=SUM($BK329:BN329),0,IF(BC329+$D328-SUM($BK329:BN329)>AF328+AQ329,AF328+AQ329-BC329,$D328-SUM($BK329:BN329))))","v":0},{"$f":"IF(AG328<=0,0,IF($D328<=SUM($BK329:BO329),0,IF(BD329+$D328-SUM($BK329:BO329)>AG328+AR329,AG328+AR329-BD329,$D328-SUM($BK329:BO329))))","v":0},{"$f":"IF(AH328<=0,0,IF($D328<=SUM($BK329:BP329),0,IF(BE329+$D328-SUM($BK329:BP329)>AH328+AS329,AH328+AS329-BE329,$D328-SUM($BK329:BP329))))","v":0},{"$f":"IF(AI328<=0,0,IF($D328<=SUM($BK329:BQ329),0,IF(BF329+$D328-SUM($BK329:BQ329)>AI328+AT329,AI328+AT329-BF329,$D328-SUM($BK329:BQ329))))","v":0},{"$f":"IF(AJ328<=0,0,IF($D328<=SUM($BK329:BR329),0,IF(BG329+$D328-SUM($BK329:BR329)>AJ328+AU329,AJ328+AU329-BG329,$D328-SUM($BK329:BR329))))","v":0},{"$f":"IF(AK328<=0,0,IF($D328<=SUM($BK329:BS329),0,IF(BH329+$D328-SUM($BK329:BS329)>AK328+AV329,AK328+AV329-BH329,$D328-SUM($BK329:BS329))))","v":0}]
[null,"","1925-09-01",0,0,0,0,0,0,0,0,0,0,0,null,null,null,null,null,null,null,null,null,null,null,null,0,0,0,0,0,0,0,0,0,0,0,null,0,0,0,0,0,0,0,0,0,0,0,null,0,0,0,0,0,0,0,0,0,0,0,null,0,{"$f":"IF(AC329<=0,0,IF($D329<=SUM($BK330:BK330),0,IF(AZ330+$D329-SUM($BK330:BK330)>AC329+AN330,AC329+AN330-AZ330,$D329-SUM($BK330:BK330))))","v":0},{"$f":"IF(AD329<=0,0,IF($D329<=SUM($BK330:BL330),0,IF(BA330+$D329-SUM($BK330:BL330)>AD329+AO330,AD329+AO330-BA330,$D329-SUM($BK330:BL330))))","v":0},{"$f":"IF(AE329<=0,0,IF($D329<=SUM($BK330:BM330),0,IF(BB330+$D329-SUM($BK330:BM330)>AE329+AP330,AE329+AP330-BB330,$D329-SUM($BK330:BM330))))","v":0},{"$f":"IF(AF329<=0,0,IF($D329<=SUM($BK330:BN330),0,IF(BC330+$D329-SUM($BK330:BN330)>AF329+AQ330,AF329+AQ330-BC330,$D329-SUM($BK330:BN330))))","v":0},{"$f":"IF(AG329<=0,0,IF($D329<=SUM($BK330:BO330),0,IF(BD330+$D329-SUM($BK330:BO330)>AG329+AR330,AG329+AR330-BD330,$D329-SUM($BK330:BO330))))","v":0},{"$f":"IF(AH329<=0,0,IF($D329<=SUM($BK330:BP330),0,IF(BE330+$D329-SUM($BK330:BP330)>AH329+AS330,AH329+AS330-BE330,$D329-SUM($BK330:BP330))))","v":0},{"$f":"IF(AI329<=0,0,IF($D329<=SUM($BK330:BQ330),0,IF(BF330+$D329-SUM($BK330:BQ330)>AI329+AT330,AI329+AT330-BF330,$D329-SUM($BK330:BQ330))))","v":0},{"$f":"IF(AJ329<=0,0,IF($D329<=SUM($BK330:BR330),0,IF(BG330+$D329-SUM($BK330:BR330)>AJ329+AU330,AJ329+AU330-BG330,$D329-SUM($BK330:BR330))))","v":0},{"$f":"IF(AK329<=0,0,IF($D329<=SUM($BK330:BS330),0,IF(BH330+$D329-SUM($BK330:BS330)>AK329+AV330,AK329+AV330-BH330,$D329-SUM($BK330:BS330))))","v":0}]
[null,"","1925-10-01",0,0,0,0,0,0,0,0,0,0,0,null,null,null,null,null,null,null,null,null,null,null,null,0,0,0,0,0,0,0,0,0,0,0,null,0,0,0,0,0,0,0,0,0,0,0,null,0,0,0,0,0,0,0,0,0,0,0,null,0,{"$f":"IF(AC330<=0,0,IF($D330<=SUM($BK331:BK331),0,IF(AZ331+$D330-SUM($BK331:BK331)>AC330+AN331,AC330+AN331-AZ331,$D330-SUM($BK331:BK331))))","v":0},{"$f":"IF(AD330<=0,0,IF($D330<=SUM($BK331:BL331),0,IF(BA331+$D330-SUM($BK331:BL331)>AD330+AO331,AD330+AO331-BA331,$D330-SUM($BK331:BL331))))","v":0},{"$f":"IF(AE330<=0,0,IF($D330<=SUM($BK331:BM331),0,IF(BB331+$D330-SUM($BK331:BM331)>AE330+AP331,AE330+AP331-BB331,$D330-SUM($BK331:BM331))))","v":0},{"$f":"IF(AF330<=0,0,IF($D330<=SUM($BK331:BN331),0,IF(BC331+$D330-SUM($BK331:BN331)>AF330+AQ331,AF330+AQ331-BC331,$D330-SUM($BK331:BN331))))","v":0},{"$f":"IF(AG330<=0,0,IF($D330<=SUM($BK331:BO331),0,IF(BD331+$D330-SUM($BK331:BO331)>AG330+AR331,AG330+AR331-BD331,$D330-SUM($BK331:BO331))))","v":0},{"$f":"IF(AH330<=0,0,IF($D330<=SUM($BK331:BP331),0,IF(BE331+$D330-SUM($BK331:BP331)>AH330+AS331,AH330+AS331-BE331,$D330-SUM($BK331:BP331))))","v":0},{"$f":"IF(AI330<=0,0,IF($D330<=SUM($BK331:BQ331),0,IF(BF331+$D330-SUM($BK331:BQ331)>AI330+AT331,AI330+AT331-BF331,$D330-SUM($BK331:BQ331))))","v":0},{"$f":"IF(AJ330<=0,0,IF($D330<=SUM($BK331:BR331),0,IF(BG331+$D330-SUM($BK331:BR331)>AJ330+AU331,AJ330+AU331-BG331,$D330-SUM($BK331:BR331))))","v":0},{"$f":"IF(AK330<=0,0,IF($D330<=SUM($BK331:BS331),0,IF(BH331+$D330-SUM($BK331:BS331)>AK330+AV331,AK330+AV331-BH331,$D330-SUM($BK331:BS331))))","v":0}]
[null,"","1925-11-01",0,0,0,0,0,0,0,0,0,0,0,null,null,null,null,null,null,null,null,null,null,null,null,0,0,0,0,0,0,0,0,0,0,0,null,0,0,0,0,0,0,0,0,0,0,0,null,0,0,0,0,0,0,0,0,0,0,0,null,0,{"$f":"IF(AC331<=0,0,IF($D331<=SUM($BK332:BK332),0,IF(AZ332+$D331-SUM($BK332:BK332)>AC331+AN332,AC331+AN332-AZ332,$D331-SUM($BK332:BK332))))","v":0},{"$f":"IF(AD331<=0,0,IF($D331<=SUM($BK332:BL332),0,IF(BA332+$D331-SUM($BK332:BL332)>AD331+AO332,AD331+AO332-BA332,$D331-SUM($BK332:BL332))))","v":0},{"$f":"IF(AE331<=0,0,IF($D331<=SUM($BK332:BM332),0,IF(BB332+$D331-SUM($BK332:BM332)>AE331+AP332,AE331+AP332-BB332,$D331-SUM($BK332:BM332))))","v":0},{"$f":"IF(AF331<=0,0,IF($D331<=SUM($BK332:BN332),0,IF(BC332+$D331-SUM($BK332:BN332)>AF331+AQ332,AF331+AQ332-BC332,$D331-SUM($BK332:BN332))))","v":0},{"$f":"IF(AG331<=0,0,IF($D331<=SUM($BK332:BO332),0,IF(BD332+$D331-SUM($BK332:BO332)>AG331+AR332,AG331+AR332-BD332,$D331-SUM($BK332:BO332))))","v":0},{"$f":"IF(AH331<=0,0,IF($D331<=SUM($BK332:BP332),0,IF(BE332+$D331-SUM($BK332:BP332)>AH331+AS332,AH331+AS332-BE332,$D331-SUM($BK332:BP332))))","v":0},{"$f":"IF(AI331<=0,0,IF($D331<=SUM($BK332:BQ332),0,IF(BF332+$D331-SUM($BK332:BQ332)>AI331+AT332,AI331+AT332-BF332,$D331-SUM($BK332:BQ332))))","v":0},{"$f":"IF(AJ331<=0,0,IF($D331<=SUM($BK332:BR332),0,IF(BG332+$D331-SUM($BK332:BR332)>AJ331+AU332,AJ331+AU332-BG332,$D331-SUM($BK332:BR332))))","v":0},{"$f":"IF(AK331<=0,0,IF($D331<=SUM($BK332:BS332),0,IF(BH332+$D331-SUM($BK332:BS332)>AK331+AV332,AK331+AV332-BH332,$D331-SUM($BK332:BS332))))","v":0}]
[null,"","1925-12-01",0,0,0,0,0,0,0,0,0,0,0,null,null,null,null,null,null,null,null,null,null,null,null,0,0,0,0,0,0,0,0,0,0,0,null,0,0,0,0,0,0,0,0,0,0,0,null,0,0,0,0,0,0,0,0,0,0,0,null,0,{"$f":"IF(AC332<=0,0,IF($D332<=SUM($BK333:BK333),0,IF(AZ333+$D332-SUM($BK333:BK333)>AC332+AN333,AC332+AN333-AZ333,$D332-SUM($BK333:BK333))))","v":0},{"$f":"IF(AD332<=0,0,IF($D332<=SUM($BK333:BL333),0,IF(BA333+$D332-SUM($BK333:BL333)>AD332+AO333,AD332+AO333-BA333,$D332-SUM($BK333:BL333))))","v":0},{"$f":"IF(AE332<=0,0,IF($D332<=SUM($BK333:BM333),0,IF(BB333+$D332-SUM($BK333:BM333)>AE332+AP333,AE332+AP333-BB333,$D332-SUM($BK333:BM333))))","v":0},{"$f":"IF(AF332<=0,0,IF($D332<=SUM($BK333:BN333),0,IF(BC333+$D332-SUM($BK333:BN333)>AF332+AQ333,AF332+AQ333-BC333,$D332-SUM($BK333:BN333))))","v":0},{"$f":"IF(AG332<=0,0,IF($D332<=SUM($BK333:BO333),0,IF(BD333+$D332-SUM($BK333:BO333)>AG332+AR333,AG332+AR333-BD333,$D332-SUM($BK333:BO333))))","v":0},{"$f":"IF(AH332<=0,0,IF($D332<=SUM($BK333:BP333),0,IF(BE333+$D332-SUM($BK333:BP333)>AH332+AS333,AH332+AS333-BE333,$D332-SUM($BK333:BP333))))","v":0},{"$f":"IF(AI332<=0,0,IF($D332<=SUM($BK333:BQ333),0,IF(BF333+$D332-SUM($BK333:BQ333)>AI332+AT333,AI332+AT333-BF333,$D332-SUM($BK333:BQ333))))","v":0},{"$f":"IF(AJ332<=0,0,IF($D332<=SUM($BK333:BR333),0,IF(BG333+$D332-SUM($BK333:BR333)>AJ332+AU333,AJ332+AU333-BG333,$D332-SUM($BK333:BR333))))","v":0},{"$f":"IF(AK332<=0,0,IF($D332<=SUM($BK333:BS333),0,IF(BH333+$D332-SUM($BK333:BS333)>AK332+AV333,AK332+AV333-BH333,$D332-SUM($BK333:BS333))))","v":0}]
[null,"","1926-01-01",0,0,0,0,0,0,0,0,0,0,0,null,null,null,null,null,null,null,null,null,null,null,null,0,0,0,0,0,0,0,0,0,0,0,null,0,0,0,0,0,0,0,0,0,0,0,null,0,0,0,0,0,0,0,0,0,0,0,null,0,{"$f":"IF(AC333<=0,0,IF($D333<=SUM($BK334:BK334),0,IF(AZ334+$D333-SUM($BK334:BK334)>AC333+AN334,AC333+AN334-AZ334,$D333-SUM($BK334:BK334))))","v":0},{"$f":"IF(AD333<=0,0,IF($D333<=SUM($BK334:BL334),0,IF(BA334+$D333-SUM($BK334:BL334)>AD333+AO334,AD333+AO334-BA334,$D333-SUM($BK334:BL334))))","v":0},{"$f":"IF(AE333<=0,0,IF($D333<=SUM($BK334:BM334),0,IF(BB334+$D333-SUM($BK334:BM334)>AE333+AP334,AE333+AP334-BB334,$D333-SUM($BK334:BM334))))","v":0},{"$f":"IF(AF333<=0,0,IF($D333<=SUM($BK334:BN334),0,IF(BC334+$D333-SUM($BK334:BN334)>AF333+AQ334,AF333+AQ334-BC334,$D333-SUM($BK334:BN334))))","v":0},{"$f":"IF(AG333<=0,0,IF($D333<=SUM($BK334:BO334),0,IF(BD334+$D333-SUM($BK334:BO334)>AG333+AR334,AG333+AR334-BD334,$D333-SUM($BK334:BO334))))","v":0},{"$f":"IF(AH333<=0,0,IF($D333<=SUM($BK334:BP334),0,IF(BE334+$D333-SUM($BK334:BP334)>AH333+AS334,AH333+AS334-BE334,$D333-SUM($BK334:BP334))))","v":0},{"$f":"IF(AI333<=0,0,IF($D333<=SUM($BK334:BQ334),0,IF(BF334+$D333-SUM($BK334:BQ334)>AI333+AT334,AI333+AT334-BF334,$D333-SUM($BK334:BQ334))))","v":0},{"$f":"IF(AJ333<=0,0,IF($D333<=SUM($BK334:BR334),0,IF(BG334+$D333-SUM($BK334:BR334)>AJ333+AU334,AJ333+AU334-BG334,$D333-SUM($BK334:BR334))))","v":0},{"$f":"IF(AK333<=0,0,IF($D333<=SUM($BK334:BS334),0,IF(BH334+$D333-SUM($BK334:BS334)>AK333+AV334,AK333+AV334-BH334,$D333-SUM($BK334:BS334))))","v":0}]
[null,"","1926-02-01",0,0,0,0,0,0,0,0,0,0,0,null,null,null,null,null,null,null,null,null,null,null,null,0,0,0,0,0,0,0,0,0,0,0,null,0,0,0,0,0,0,0,0,0,0,0,null,0,0,0,0,0,0,0,0,0,0,0,null,0,{"$f":"IF(AC334<=0,0,IF($D334<=SUM($BK335:BK335),0,IF(AZ335+$D334-SUM($BK335:BK335)>AC334+AN335,AC334+AN335-AZ335,$D334-SUM($BK335:BK335))))","v":0},{"$f":"IF(AD334<=0,0,IF($D334<=SUM($BK335:BL335),0,IF(BA335+$D334-SUM($BK335:BL335)>AD334+AO335,AD334+AO335-BA335,$D334-SUM($BK335:BL335))))","v":0},{"$f":"IF(AE334<=0,0,IF($D334<=SUM($BK335:BM335),0,IF(BB335+$D334-SUM($BK335:BM335)>AE334+AP335,AE334+AP335-BB335,$D334-SUM($BK335:BM335))))","v":0},{"$f":"IF(AF334<=0,0,IF($D334<=SUM($BK335:BN335),0,IF(BC335+$D334-SUM($BK335:BN335)>AF334+AQ335,AF334+AQ335-BC335,$D334-SUM($BK335:BN335))))","v":0},{"$f":"IF(AG334<=0,0,IF($D334<=SUM($BK335:BO335),0,IF(BD335+$D334-SUM($BK335:BO335)>AG334+AR335,AG334+AR335-BD335,$D334-SUM($BK335:BO335))))","v":0},{"$f":"IF(AH334<=0,0,IF($D334<=SUM($BK335:BP335),0,IF(BE335+$D334-SUM($BK335:BP335)>AH334+AS335,AH334+AS335-BE335,$D334-SUM($BK335:BP335))))","v":0},{"$f":"IF(AI334<=0,0,IF($D334<=SUM($BK335:BQ335),0,IF(BF335+$D334-SUM($BK335:BQ335)>AI334+AT335,AI334+AT335-BF335,$D334-SUM($BK335:BQ335))))","v":0},{"$f":"IF(AJ334<=0,0,IF($D334<=SUM($BK335:BR335),0,IF(BG335+$D334-SUM($BK335:BR335)>AJ334+AU335,AJ334+AU335-BG335,$D334-SUM($BK335:BR335))))","v":0},{"$f":"IF(AK334<=0,0,IF($D334<=SUM($BK335:BS335),0,IF(BH335+$D334-SUM($BK335:BS335)>AK334+AV335,AK334+AV335-BH335,$D334-SUM($BK335:BS335))))","v":0}]
[null,"","1926-03-01",0,0,0,0,0,0,0,0,0,0,0,null,null,null,null,null,null,null,null,null,null,null,null,0,0,0,0,0,0,0,0,0,0,0,null,0,0,0,0,0,0,0,0,0,0,0,null,0,0,0,0,0,0,0,0,0,0,0,null,0,{"$f":"IF(AC335<=0,0,IF($D335<=SUM($BK336:BK336),0,IF(AZ336+$D335-SUM($BK336:BK336)>AC335+AN336,AC335+AN336-AZ336,$D335-SUM($BK336:BK336))))","v":0},{"$f":"IF(AD335<=0,0,IF($D335<=SUM($BK336:BL336),0,IF(BA336+$D335-SUM($BK336:BL336)>AD335+AO336,AD335+AO336-BA336,$D335-SUM($BK336:BL336))))","v":0},{"$f":"IF(AE335<=0,0,IF($D335<=SUM($BK336:BM336),0,IF(BB336+$D335-SUM($BK336:BM336)>AE335+AP336,AE335+AP336-BB336,$D335-SUM($BK336:BM336))))","v":0},{"$f":"IF(AF335<=0,0,IF($D335<=SUM($BK336:BN336),0,IF(BC336+$D335-SUM($BK336:BN336)>AF335+AQ336,AF335+AQ336-BC336,$D335-SUM($BK336:BN336))))","v":0},{"$f":"IF(AG335<=0,0,IF($D335<=SUM($BK336:BO336),0,IF(BD336+$D335-SUM($BK336:BO336)>AG335+AR336,AG335+AR336-BD336,$D335-SUM($BK336:BO336))))","v":0},{"$f":"IF(AH335<=0,0,IF($D335<=SUM($BK336:BP336),0,IF(BE336+$D335-SUM($BK336:BP336)>AH335+AS336,AH335+AS336-BE336,$D335-SUM($BK336:BP336))))","v":0},{"$f":"IF(AI335<=0,0,IF($D335<=SUM($BK336:BQ336),0,IF(BF336+$D335-SUM($BK336:BQ336)>AI335+AT336,AI335+AT336-BF336,$D335-SUM($BK336:BQ336))))","v":0},{"$f":"IF(AJ335<=0,0,IF($D335<=SUM($BK336:BR336),0,IF(BG336+$D335-SUM($BK336:BR336)>AJ335+AU336,AJ335+AU336-BG336,$D335-SUM($BK336:BR336))))","v":0},{"$f":"IF(AK335<=0,0,IF($D335<=SUM($BK336:BS336),0,IF(BH336+$D335-SUM($BK336:BS336)>AK335+AV336,AK335+AV336-BH336,$D335-SUM($BK336:BS336))))","v":0}]
[null,"","1926-04-01",0,0,0,0,0,0,0,0,0,0,0,null,null,null,null,null,null,null,null,null,null,null,null,0,0,0,0,0,0,0,0,0,0,0,null,0,0,0,0,0,0,0,0,0,0,0,null,0,0,0,0,0,0,0,0,0,0,0,null,0,{"$f":"IF(AC336<=0,0,IF($D336<=SUM($BK337:BK337),0,IF(AZ337+$D336-SUM($BK337:BK337)>AC336+AN337,AC336+AN337-AZ337,$D336-SUM($BK337:BK337))))","v":0},{"$f":"IF(AD336<=0,0,IF($D336<=SUM($BK337:BL337),0,IF(BA337+$D336-SUM($BK337:BL337)>AD336+AO337,AD336+AO337-BA337,$D336-SUM($BK337:BL337))))","v":0},{"$f":"IF(AE336<=0,0,IF($D336<=SUM($BK337:BM337),0,IF(BB337+$D336-SUM($BK337:BM337)>AE336+AP337,AE336+AP337-BB337,$D336-SUM($BK337:BM337))))","v":0},{"$f":"IF(AF336<=0,0,IF($D336<=SUM($BK337:BN337),0,IF(BC337+$D336-SUM($BK337:BN337)>AF336+AQ337,AF336+AQ337-BC337,$D336-SUM($BK337:BN337))))","v":0},{"$f":"IF(AG336<=0,0,IF($D336<=SUM($BK337:BO337),0,IF(BD337+$D336-SUM($BK337:BO337)>AG336+AR337,AG336+AR337-BD337,$D336-SUM($BK337:BO337))))","v":0},{"$f":"IF(AH336<=0,0,IF($D336<=SUM($BK337:BP337),0,IF(BE337+$D336-SUM($BK337:BP337)>AH336+AS337,AH336+AS337-BE337,$D336-SUM($BK337:BP337))))","v":0},{"$f":"IF(AI336<=0,0,IF($D336<=SUM($BK337:BQ337),0,IF(BF337+$D336-SUM($BK337:BQ337)>AI336+AT337,AI336+AT337-BF337,$D336-SUM($BK337:BQ337))))","v":0},{"$f":"IF(AJ336<=0,0,IF($D336<=SUM($BK337:BR337),0,IF(BG337+$D336-SUM($BK337:BR337)>AJ336+AU337,AJ336+AU337-BG337,$D336-SUM($BK337:BR337))))","v":0},{"$f":"IF(AK336<=0,0,IF($D336<=SUM($BK337:BS337),0,IF(BH337+$D336-SUM($BK337:BS337)>AK336+AV337,AK336+AV337-BH337,$D336-SUM($BK337:BS337))))","v":0}]
[null,"","1926-05-01",0,0,0,0,0,0,0,0,0,0,0,null,null,null,null,null,null,null,null,null,null,null,null,0,0,0,0,0,0,0,0,0,0,0,null,0,0,0,0,0,0,0,0,0,0,0,null,0,0,0,0,0,0,0,0,0,0,0,null,0,{"$f":"IF(AC337<=0,0,IF($D337<=SUM($BK338:BK338),0,IF(AZ338+$D337-SUM($BK338:BK338)>AC337+AN338,AC337+AN338-AZ338,$D337-SUM($BK338:BK338))))","v":0},{"$f":"IF(AD337<=0,0,IF($D337<=SUM($BK338:BL338),0,IF(BA338+$D337-SUM($BK338:BL338)>AD337+AO338,AD337+AO338-BA338,$D337-SUM($BK338:BL338))))","v":0},{"$f":"IF(AE337<=0,0,IF($D337<=SUM($BK338:BM338),0,IF(BB338+$D337-SUM($BK338:BM338)>AE337+AP338,AE337+AP338-BB338,$D337-SUM($BK338:BM338))))","v":0},{"$f":"IF(AF337<=0,0,IF($D337<=SUM($BK338:BN338),0,IF(BC338+$D337-SUM($BK338:BN338)>AF337+AQ338,AF337+AQ338-BC338,$D337-SUM($BK338:BN338))))","v":0},{"$f":"IF(AG337<=0,0,IF($D337<=SUM($BK338:BO338),0,IF(BD338+$D337-SUM($BK338:BO338)>AG337+AR338,AG337+AR338-BD338,$D337-SUM($BK338:BO338))))","v":0},{"$f":"IF(AH337<=0,0,IF($D337<=SUM($BK338:BP338),0,IF(BE338+$D337-SUM($BK338:BP338)>AH337+AS338,AH337+AS338-BE338,$D337-SUM($BK338:BP338))))","v":0},{"$f":"IF(AI337<=0,0,IF($D337<=SUM($BK338:BQ338),0,IF(BF338+$D337-SUM($BK338:BQ338)>AI337+AT338,AI337+AT338-BF338,$D337-SUM($BK338:BQ338))))","v":0},{"$f":"IF(AJ337<=0,0,IF($D337<=SUM($BK338:BR338),0,IF(BG338+$D337-SUM($BK338:BR338)>AJ337+AU338,AJ337+AU338-BG338,$D337-SUM($BK338:BR338))))","v":0},{"$f":"IF(AK337<=0,0,IF($D337<=SUM($BK338:BS338),0,IF(BH338+$D337-SUM($BK338:BS338)>AK337+AV338,AK337+AV338-BH338,$D337-SUM($BK338:BS338))))","v":0}]
[null,"","1926-06-01",0,0,0,0,0,0,0,0,0,0,0,null,null,null,null,null,null,null,null,null,null,null,null,0,0,0,0,0,0,0,0,0,0,0,null,0,0,0,0,0,0,0,0,0,0,0,null,0,0,0,0,0,0,0,0,0,0,0,null,0,{"$f":"IF(AC338<=0,0,IF($D338<=SUM($BK339:BK339),0,IF(AZ339+$D338-SUM($BK339:BK339)>AC338+AN339,AC338+AN339-AZ339,$D338-SUM($BK339:BK339))))","v":0},{"$f":"IF(AD338<=0,0,IF($D338<=SUM($BK339:BL339),0,IF(BA339+$D338-SUM($BK339:BL339)>AD338+AO339,AD338+AO339-BA339,$D338-SUM($BK339:BL339))))","v":0},{"$f":"IF(AE338<=0,0,IF($D338<=SUM($BK339:BM339),0,IF(BB339+$D338-SUM($BK339:BM339)>AE338+AP339,AE338+AP339-BB339,$D338-SUM($BK339:BM339))))","v":0},{"$f":"IF(AF338<=0,0,IF($D338<=SUM($BK339:BN339),0,IF(BC339+$D338-SUM($BK339:BN339)>AF338+AQ339,AF338+AQ339-BC339,$D338-SUM($BK339:BN339))))","v":0},{"$f":"IF(AG338<=0,0,IF($D338<=SUM($BK339:BO339),0,IF(BD339+$D338-SUM($BK339:BO339)>AG338+AR339,AG338+AR339-BD339,$D338-SUM($BK339:BO339))))","v":0},{"$f":"IF(AH338<=0,0,IF($D338<=SUM($BK339:BP339),0,IF(BE339+$D338-SUM($BK339:BP339)>AH338+AS339,AH338+AS339-BE339,$D338-SUM($BK339:BP339))))","v":0},{"$f":"IF(AI338<=0,0,IF($D338<=SUM($BK339:BQ339),0,IF(BF339+$D338-SUM($BK339:BQ339)>AI338+AT339,AI338+AT339-BF339,$D338-SUM($BK339:BQ339))))","v":0},{"$f":"IF(AJ338<=0,0,IF($D338<=SUM($BK339:BR339),0,IF(BG339+$D338-SUM($BK339:BR339)>AJ338+AU339,AJ338+AU339-BG339,$D338-SUM($BK339:BR339))))","v":0},{"$f":"IF(AK338<=0,0,IF($D338<=SUM($BK339:BS339),0,IF(BH339+$D338-SUM($BK339:BS339)>AK338+AV339,AK338+AV339-BH339,$D338-SUM($BK339:BS339))))","v":0}]
[null,"","1926-07-01",0,0,0,0,0,0,0,0,0,0,0,null,null,null,null,null,null,null,null,null,null,null,null,0,0,0,0,0,0,0,0,0,0,0,null,0,0,0,0,0,0,0,0,0,0,0,null,0,0,0,0,0,0,0,0,0,0,0,null,0,{"$f":"IF(AC339<=0,0,IF($D339<=SUM($BK340:BK340),0,IF(AZ340+$D339-SUM($BK340:BK340)>AC339+AN340,AC339+AN340-AZ340,$D339-SUM($BK340:BK340))))","v":0},{"$f":"IF(AD339<=0,0,IF($D339<=SUM($BK340:BL340),0,IF(BA340+$D339-SUM($BK340:BL340)>AD339+AO340,AD339+AO340-BA340,$D339-SUM($BK340:BL340))))","v":0},{"$f":"IF(AE339<=0,0,IF($D339<=SUM($BK340:BM340),0,IF(BB340+$D339-SUM($BK340:BM340)>AE339+AP340,AE339+AP340-BB340,$D339-SUM($BK340:BM340))))","v":0},{"$f":"IF(AF339<=0,0,IF($D339<=SUM($BK340:BN340),0,IF(BC340+$D339-SUM($BK340:BN340)>AF339+AQ340,AF339+AQ340-BC340,$D339-SUM($BK340:BN340))))","v":0},{"$f":"IF(AG339<=0,0,IF($D339<=SUM($BK340:BO340),0,IF(BD340+$D339-SUM($BK340:BO340)>AG339+AR340,AG339+AR340-BD340,$D339-SUM($BK340:BO340))))","v":0},{"$f":"IF(AH339<=0,0,IF($D339<=SUM($BK340:BP340),0,IF(BE340+$D339-SUM($BK340:BP340)>AH339+AS340,AH339+AS340-BE340,$D339-SUM($BK340:BP340))))","v":0},{"$f":"IF(AI339<=0,0,IF($D339<=SUM($BK340:BQ340),0,IF(BF340+$D339-SUM($BK340:BQ340)>AI339+AT340,AI339+AT340-BF340,$D339-SUM($BK340:BQ340))))","v":0},{"$f":"IF(AJ339<=0,0,IF($D339<=SUM($BK340:BR340),0,IF(BG340+$D339-SUM($BK340:BR340)>AJ339+AU340,AJ339+AU340-BG340,$D339-SUM($BK340:BR340))))","v":0},{"$f":"IF(AK339<=0,0,IF($D339<=SUM($BK340:BS340),0,IF(BH340+$D339-SUM($BK340:BS340)>AK339+AV340,AK339+AV340-BH340,$D339-SUM($BK340:BS340))))","v":0}]
[null,"","1926-08-01",0,0,0,0,0,0,0,0,0,0,0,null,null,null,null,null,null,null,null,null,null,null,null,0,0,0,0,0,0,0,0,0,0,0,null,0,0,0,0,0,0,0,0,0,0,0,null,0,0,0,0,0,0,0,0,0,0,0,null,0,{"$f":"IF(AC340<=0,0,IF($D340<=SUM($BK341:BK341),0,IF(AZ341+$D340-SUM($BK341:BK341)>AC340+AN341,AC340+AN341-AZ341,$D340-SUM($BK341:BK341))))","v":0},{"$f":"IF(AD340<=0,0,IF($D340<=SUM($BK341:BL341),0,IF(BA341+$D340-SUM($BK341:BL341)>AD340+AO341,AD340+AO341-BA341,$D340-SUM($BK341:BL341))))","v":0},{"$f":"IF(AE340<=0,0,IF($D340<=SUM($BK341:BM341),0,IF(BB341+$D340-SUM($BK341:BM341)>AE340+AP341,AE340+AP341-BB341,$D340-SUM($BK341:BM341))))","v":0},{"$f":"IF(AF340<=0,0,IF($D340<=SUM($BK341:BN341),0,IF(BC341+$D340-SUM($BK341:BN341)>AF340+AQ341,AF340+AQ341-BC341,$D340-SUM($BK341:BN341))))","v":0},{"$f":"IF(AG340<=0,0,IF($D340<=SUM($BK341:BO341),0,IF(BD341+$D340-SUM($BK341:BO341)>AG340+AR341,AG340+AR341-BD341,$D340-SUM($BK341:BO341))))","v":0},{"$f":"IF(AH340<=0,0,IF($D340<=SUM($BK341:BP341),0,IF(BE341+$D340-SUM($BK341:BP341)>AH340+AS341,AH340+AS341-BE341,$D340-SUM($BK341:BP341))))","v":0},{"$f":"IF(AI340<=0,0,IF($D340<=SUM($BK341:BQ341),0,IF(BF341+$D340-SUM($BK341:BQ341)>AI340+AT341,AI340+AT341-BF341,$D340-SUM($BK341:BQ341))))","v":0},{"$f":"IF(AJ340<=0,0,IF($D340<=SUM($BK341:BR341),0,IF(BG341+$D340-SUM($BK341:BR341)>AJ340+AU341,AJ340+AU341-BG341,$D340-SUM($BK341:BR341))))","v":0},{"$f":"IF(AK340<=0,0,IF($D340<=SUM($BK341:BS341),0,IF(BH341+$D340-SUM($BK341:BS341)>AK340+AV341,AK340+AV341-BH341,$D340-SUM($BK341:BS341))))","v":0}]
[null,"","1926-09-01",0,0,0,0,0,0,0,0,0,0,0,null,null,null,null,null,null,null,null,null,null,null,null,0,0,0,0,0,0,0,0,0,0,0,null,0,0,0,0,0,0,0,0,0,0,0,null,0,0,0,0,0,0,0,0,0,0,0,null,0,{"$f":"IF(AC341<=0,0,IF($D341<=SUM($BK342:BK342),0,IF(AZ342+$D341-SUM($BK342:BK342)>AC341+AN342,AC341+AN342-AZ342,$D341-SUM($BK342:BK342))))","v":0},{"$f":"IF(AD341<=0,0,IF($D341<=SUM($BK342:BL342),0,IF(BA342+$D341-SUM($BK342:BL342)>AD341+AO342,AD341+AO342-BA342,$D341-SUM($BK342:BL342))))","v":0},{"$f":"IF(AE341<=0,0,IF($D341<=SUM($BK342:BM342),0,IF(BB342+$D341-SUM($BK342:BM342)>AE341+AP342,AE341+AP342-BB342,$D341-SUM($BK342:BM342))))","v":0},{"$f":"IF(AF341<=0,0,IF($D341<=SUM($BK342:BN342),0,IF(BC342+$D341-SUM($BK342:BN342)>AF341+AQ342,AF341+AQ342-BC342,$D341-SUM($BK342:BN342))))","v":0},{"$f":"IF(AG341<=0,0,IF($D341<=SUM($BK342:BO342),0,IF(BD342+$D341-SUM($BK342:BO342)>AG341+AR342,AG341+AR342-BD342,$D341-SUM($BK342:BO342))))","v":0},{"$f":"IF(AH341<=0,0,IF($D341<=SUM($BK342:BP342),0,IF(BE342+$D341-SUM($BK342:BP342)>AH341+AS342,AH341+AS342-BE342,$D341-SUM($BK342:BP342))))","v":0},{"$f":"IF(AI341<=0,0,IF($D341<=SUM($BK342:BQ342),0,IF(BF342+$D341-SUM($BK342:BQ342)>AI341+AT342,AI341+AT342-BF342,$D341-SUM($BK342:BQ342))))","v":0},{"$f":"IF(AJ341<=0,0,IF($D341<=SUM($BK342:BR342),0,IF(BG342+$D341-SUM($BK342:BR342)>AJ341+AU342,AJ341+AU342-BG342,$D341-SUM($BK342:BR342))))","v":0},{"$f":"IF(AK341<=0,0,IF($D341<=SUM($BK342:BS342),0,IF(BH342+$D341-SUM($BK342:BS342)>AK341+AV342,AK341+AV342-BH342,$D341-SUM($BK342:BS342))))","v":0}]
[null,{"$f":"IF(SUM(AB343:AK343)<=0,\"\",B342+1)","v":""},"1926-10-01",{"$f":"IF(($F$4-BI344<0),$F$4,$F$4-BI344)","v":0},0,0,0,0,0,0,0,0,0,0,null,null,null,null,null,null,null,null,null,null,null,null,0,0,0,0,0,0,0,0,0,0,0,null,0,0,0,0,0,0,0,0,0,0,0,null,0,0,0,0,0,0,0,0,0,0,0,null,0,{"$f":"IF(AC342<=0,0,IF($D342<=SUM($BK343:BK343),0,IF(AZ343+$D342-SUM($BK343:BK343)>AC342+AN343,AC342+AN343-AZ343,$D342-SUM($BK343:BK343))))","v":0},{"$f":"IF(AD342<=0,0,IF($D342<=SUM($BK343:BL343),0,IF(BA343+$D342-SUM($BK343:BL343)>AD342+AO343,AD342+AO343-BA343,$D342-SUM($BK343:BL343))))","v":0},{"$f":"IF(AE342<=0,0,IF($D342<=SUM($BK343:BM343),0,IF(BB343+$D342-SUM($BK343:BM343)>AE342+AP343,AE342+AP343-BB343,$D342-SUM($BK343:BM343))))","v":0},{"$f":"IF(AF342<=0,0,IF($D342<=SUM($BK343:BN343),0,IF(BC343+$D342-SUM($BK343:BN343)>AF342+AQ343,AF342+AQ343-BC343,$D342-SUM($BK343:BN343))))","v":0},{"$f":"IF(AG342<=0,0,IF($D342<=SUM($BK343:BO343),0,IF(BD343+$D342-SUM($BK343:BO343)>AG342+AR343,AG342+AR343-BD343,$D342-SUM($BK343:BO343))))","v":0},{"$f":"IF(AH342<=0,0,IF($D342<=SUM($BK343:BP343),0,IF(BE343+$D342-SUM($BK343:BP343)>AH342+AS343,AH342+AS343-BE343,$D342-SUM($BK343:BP343))))","v":0},{"$f":"IF(AI342<=0,0,IF($D342<=SUM($BK343:BQ343),0,IF(BF343+$D342-SUM($BK343:BQ343)>AI342+AT343,AI342+AT343-BF343,$D342-SUM($BK343:BQ343))))","v":0},{"$f":"IF(AJ342<=0,0,IF($D342<=SUM($BK343:BR343),0,IF(BG343+$D342-SUM($BK343:BR343)>AJ342+AU343,AJ342+AU343-BG343,$D342-SUM($BK343:BR343))))","v":0},{"$f":"IF(AK342<=0,0,IF($D342<=SUM($BK343:BS343),0,IF(BH343+$D342-SUM($BK343:BS343)>AK342+AV343,AK342+AV343-BH343,$D342-SUM($BK343:BS343))))","v":0}]
[null,"","1926-11-01",0,0,0,0,0,0,0,0,0,0,0,null,null,null,null,null,null,null,null,null,null,null,null,0,{"$f":"IF(E$7=0,0,ROUND(AB343-(E343-AM344),2))","v":0},{"$f":"IF(F$7=0,0,ROUND(AC343-(F343-AN344),2))","v":0},{"$f":"IF(G$7=0,0,ROUND(AD343-(G343-AO344),2))","v":0},{"$f":"IF(H$7=0,0,ROUND(AE343-(H343-AP344),2))","v":0},{"$f":"IF(I$7=0,0,ROUND(AF343-(I343-AQ344),2))","v":0},{"$f":"IF(J$7=0,0,ROUND(AG343-(J343-AR344),2))","v":0},{"$f":"IF(K$7=0,0,ROUND(AH343-(K343-AS344),2))","v":0},{"$f":"IF(L$7=0,0,ROUND(AI343-(L343-AT344),2))","v":0},{"$f":"IF(M$7=0,0,ROUND(AJ343-(M343-AU344),2))","v":0},{"$f":"IF(N$7=0,0,ROUND(AK343-(N343-AV344),2))","v":0},null,{"$f":"IF((AB343=\"-\"),0,ROUND(AB343*E$8/12,2))","v":0},{"$f":"IF((AC343=\"-\"),0,ROUND(AC343*F$8/12,2))","v":0},{"$f":"IF((AD343=\"-\"),0,ROUND(AD343*G$8/12,2))","v":0},{"$f":"IF((AE343=\"-\"),0,ROUND(AE343*H$8/12,2))","v":0},{"$f":"IF((AF343=\"-\"),0,ROUND(AF343*I$8/12,2))","v":0},{"$f":"IF((AG343=\"-\"),0,ROUND(AG343*J$8/12,2))","v":0},{"$f":"IF((AH343=\"-\"),0,ROUND(AH343*K$8/12,2))","v":0},{"$f":"IF((AI343=\"-\"),0,ROUND(AI343*L$8/12,2))","v":0},{"$f":"IF((AJ343=\"-\"),0,ROUND(AJ343*M$8/12,2))","v":0},{"$f":"IF((AK343=\"-\"),0,ROUND(AK343*N$8/12,2))","v":0},0,null,0,0,0,0,0,0,0,0,0,0,0,null,0,{"$f":"IF(AC343<=0,0,IF($D343<=SUM($BK344:BK344),0,IF(AZ344+$D343-SUM($BK344:BK344)>AC343+AN344,AC343+AN344-AZ344,$D343-SUM($BK344:BK344))))","v":0},{"$f":"IF(AD343<=0,0,IF($D343<=SUM($BK344:BL344),0,IF(BA344+$D343-SUM($BK344:BL344)>AD343+AO344,AD343+AO344-BA344,$D343-SUM($BK344:BL344))))","v":0},{"$f":"IF(AE343<=0,0,IF($D343<=SUM($BK344:BM344),0,IF(BB344+$D343-SUM($BK344:BM344)>AE343+AP344,AE343+AP344-BB344,$D343-SUM($BK344:BM344))))","v":0},{"$f":"IF(AF343<=0,0,IF($D343<=SUM($BK344:BN344),0,IF(BC344+$D343-SUM($BK344:BN344)>AF343+AQ344,AF343+AQ344-BC344,$D343-SUM($BK344:BN344))))","v":0},{"$f":"IF(AG343<=0,0,IF($D343<=SUM($BK344:BO344),0,IF(BD344+$D343-SUM($BK344:BO344)>AG343+AR344,AG343+AR344-BD344,$D343-SUM($BK344:BO344))))","v":0},{"$f":"IF(AH343<=0,0,IF($D343<=SUM($BK344:BP344),0,IF(BE344+$D343-SUM($BK344:BP344)>AH343+AS344,AH343+AS344-BE344,$D343-SUM($BK344:BP344))))","v":0},{"$f":"IF(AI343<=0,0,IF($D343<=SUM($BK344:BQ344),0,IF(BF344+$D343-SUM($BK344:BQ344)>AI343+AT344,AI343+AT344-BF344,$D343-SUM($BK344:BQ344))))","v":0},{"$f":"IF(AJ343<=0,0,IF($D343<=SUM($BK344:BR344),0,IF(BG344+$D343-SUM($BK344:BR344)>AJ343+AU344,AJ343+AU344-BG344,$D343-SUM($BK344:BR344))))","v":0},{"$f":"IF(AK343<=0,0,IF($D343<=SUM($BK344:BS344),0,IF(BH344+$D343-SUM($BK344:BS344)>AK343+AV344,AK343+AV344-BH344,$D343-SUM($BK344:BS344))))","v":0}]
[null,"",{"$f":"IF(C344=\"\",NA(),DATE(YEAR(C344),MONTH(C344)+1,1))","v":"1926-12-01"},0,{"$f":"+AY346+BK346","v":0},0,0,0,0,0,0,0,0,0,null,null,null,null,null,null,null,null,null,null,null,null,{"$f":"SUM(AB345:AK345)","v":0},0,0,0,0,0,0,0,0,0,0,null,0,0,0,0,0,0,0,0,0,0,{"$f":"SUM(AM345:AV345)","v":0},null,{"$f":"IF(AB344>0,IF((AB344+AM345)<E$9,AB344+AM345,E$9),0)","v":0},{"$f":"IF(AC344>0,IF((AC344+AN345)<F$9,AC344+AN345,F$9),0)","v":0},{"$f":"IF(AD344>0,IF((AD344+AO345)<G$9,AD344+AO345,G$9),0)","v":0},{"$f":"IF(AE344>0,IF((AE344+AP345)<H$9,AE344+AP345,H$9),0)","v":0},{"$f":"IF(AF344>0,IF((AF344+AQ345)<I$9,AF344+AQ345,I$9),0)","v":0},{"$f":"IF(AG344>0,IF((AG344+AR345)<J$9,AG344+AR345,J$9),0)","v":0},{"$f":"IF(AH344>0,IF((AH344+AS345)<K$9,AH344+AS345,K$9),0)","v":0},{"$f":"IF(AI344>0,IF((AI344+AT345)<L$9,AI344+AT345,L$9),0)","v":0},{"$f":"IF(AJ344>0,IF((AJ344+AU345)<M$9,AJ344+AU345,M$9),0)","v":0},{"$f":"IF(AK344>0,IF((AK344+AV345)<N$9,AK344+AV345,N$9),0)","v":0},0,null,0,{"$f":"IF(AC344<=0,0,IF($D344<=SUM($BK345:BK345),0,IF(AZ345+$D344-SUM($BK345:BK345)>AC344+AN345,AC344+AN345-AZ345,$D344-SUM($BK345:BK345))))","v":0},{"$f":"IF(AD344<=0,0,IF($D344<=SUM($BK345:BL345),0,IF(BA345+$D344-SUM($BK345:BL345)>AD344+AO345,AD344+AO345-BA345,$D344-SUM($BK345:BL345))))","v":0},{"$f":"IF(AE344<=0,0,IF($D344<=SUM($BK345:BM345),0,IF(BB345+$D344-SUM($BK345:BM345)>AE344+AP345,AE344+AP345-BB345,$D344-SUM($BK345:BM345))))","v":0},{"$f":"IF(AF344<=0,0,IF($D344<=SUM($BK345:BN345),0,IF(BC345+$D344-SUM($BK345:BN345)>AF344+AQ345,AF344+AQ345-BC345,$D344-SUM($BK345:BN345))))","v":0},{"$f":"IF(AG344<=0,0,IF($D344<=SUM($BK345:BO345),0,IF(BD345+$D344-SUM($BK345:BO345)>AG344+AR345,AG344+AR345-BD345,$D344-SUM($BK345:BO345))))","v":0},{"$f":"IF(AH344<=0,0,IF($D344<=SUM($BK345:BP345),0,IF(BE345+$D344-SUM($BK345:BP345)>AH344+AS345,AH344+AS345-BE345,$D344-SUM($BK345:BP345))))","v":0},{"$f":"IF(AI344<=0,0,IF($D344<=SUM($BK345:BQ345),0,IF(BF345+$D344-SUM($BK345:BQ345)>AI344+AT345,AI344+AT345-BF345,$D344-SUM($BK345:BQ345))))","v":0},{"$f":"IF(AJ344<=0,0,IF($D344<=SUM($BK345:BR345),0,IF(BG345+$D344-SUM($BK345:BR345)>AJ344+AU345,AJ344+AU345-BG345,$D344-SUM($BK345:BR345))))","v":0},{"$f":"IF(AK344<=0,0,IF($D344<=SUM($BK345:BS345),0,IF(BH345+$D344-SUM($BK345:BS345)>AK344+AV345,AK344+AV345-BH345,$D344-SUM($BK345:BS345))))","v":0}]
[null,"","1927-01-01",0,0,0,0,0,0,0,0,0,0,0,null,null,null,null,null,null,null,null,null,null,null,null,0,0,0,0,0,0,0,0,0,0,0,null,0,0,0,0,0,0,0,0,0,0,0,null,0,0,0,0,0,0,0,0,0,0,0,null,{"$f":"IF(AB345<=0,0,IF(AY346+$D345>AB345+AM346,AB345+AM346-AY346,$D345))","v":0},{"$f":"IF(AC345<=0,0,IF($D345<=SUM($BK346:BK346),0,IF(AZ346+$D345-SUM($BK346:BK346)>AC345+AN346,AC345+AN346-AZ346,$D345-SUM($BK346:BK346))))","v":0},{"$f":"IF(AD345<=0,0,IF($D345<=SUM($BK346:BL346),0,IF(BA346+$D345-SUM($BK346:BL346)>AD345+AO346,AD345+AO346-BA346,$D345-SUM($BK346:BL346))))","v":0},{"$f":"IF(AE345<=0,0,IF($D345<=SUM($BK346:BM346),0,IF(BB346+$D345-SUM($BK346:BM346)>AE345+AP346,AE345+AP346-BB346,$D345-SUM($BK346:BM346))))","v":0},{"$f":"IF(AF345<=0,0,IF($D345<=SUM($BK346:BN346),0,IF(BC346+$D345-SUM($BK346:BN346)>AF345+AQ346,AF345+AQ346-BC346,$D345-SUM($BK346:BN346))))","v":0},{"$f":"IF(AG345<=0,0,IF($D345<=SUM($BK346:BO346),0,IF(BD346+$D345-SUM($BK346:BO346)>AG345+AR346,AG345+AR346-BD346,$D345-SUM($BK346:BO346))))","v":0},{"$f":"IF(AH345<=0,0,IF($D345<=SUM($BK346:BP346),0,IF(BE346+$D345-SUM($BK346:BP346)>AH345+AS346,AH345+AS346-BE346,$D345-SUM($BK346:BP346))))","v":0},{"$f":"IF(AI345<=0,0,IF($D345<=SUM($BK346:BQ346),0,IF(BF346+$D345-SUM($BK346:BQ346)>AI345+AT346,AI345+AT346-BF346,$D345-SUM($BK346:BQ346))))","v":0},{"$f":"IF(AJ345<=0,0,IF($D345<=SUM($BK346:BR346),0,IF(BG346+$D345-SUM($BK346:BR346)>AJ345+AU346,AJ345+AU346-BG346,$D345-SUM($BK346:BR346))))","v":0},{"$f":"IF(AK345<=0,0,IF($D345<=SUM($BK346:BS346),0,IF(BH346+$D345-SUM($BK346:BS346)>AK345+AV346,AK345+AV346-BH346,$D345-SUM($BK346:BS346))))","v":0}]
[null,"","1927-02-01",0,0,0,0,0,0,0,0,0,0,0,null,null,null,null,null,null,null,null,null,null,null,null,0,0,0,0,0,0,0,0,0,0,0,null,0,0,0,0,0,0,0,0,0,0,0,null,0,0,0,0,0,0,0,0,0,0,0,null,0,{"$f":"IF(AC346<=0,0,IF($D346<=SUM($BK347:BK347),0,IF(AZ347+$D346-SUM($BK347:BK347)>AC346+AN347,AC346+AN347-AZ347,$D346-SUM($BK347:BK347))))","v":0},{"$f":"IF(AD346<=0,0,IF($D346<=SUM($BK347:BL347),0,IF(BA347+$D346-SUM($BK347:BL347)>AD346+AO347,AD346+AO347-BA347,$D346-SUM($BK347:BL347))))","v":0},{"$f":"IF(AE346<=0,0,IF($D346<=SUM($BK347:BM347),0,IF(BB347+$D346-SUM($BK347:BM347)>AE346+AP347,AE346+AP347-BB347,$D346-SUM($BK347:BM347))))","v":0},{"$f":"IF(AF346<=0,0,IF($D346<=SUM($BK347:BN347),0,IF(BC347+$D346-SUM($BK347:BN347)>AF346+AQ347,AF346+AQ347-BC347,$D346-SUM($BK347:BN347))))","v":0},{"$f":"IF(AG346<=0,0,IF($D346<=SUM($BK347:BO347),0,IF(BD347+$D346-SUM($BK347:BO347)>AG346+AR347,AG346+AR347-BD347,$D346-SUM($BK347:BO347))))","v":0},{"$f":"IF(AH346<=0,0,IF($D346<=SUM($BK347:BP347),0,IF(BE347+$D346-SUM($BK347:BP347)>AH346+AS347,AH346+AS347-BE347,$D346-SUM($BK347:BP347))))","v":0},{"$f":"IF(AI346<=0,0,IF($D346<=SUM($BK347:BQ347),0,IF(BF347+$D346-SUM($BK347:BQ347)>AI346+AT347,AI346+AT347-BF347,$D346-SUM($BK347:BQ347))))","v":0},{"$f":"IF(AJ346<=0,0,IF($D346<=SUM($BK347:BR347),0,IF(BG347+$D346-SUM($BK347:BR347)>AJ346+AU347,AJ346+AU347-BG347,$D346-SUM($BK347:BR347))))","v":0},{"$f":"IF(AK346<=0,0,IF($D346<=SUM($BK347:BS347),0,IF(BH347+$D346-SUM($BK347:BS347)>AK346+AV347,AK346+AV347-BH347,$D346-SUM($BK347:BS347))))","v":0}]
[null,"","1927-03-01",0,0,0,0,0,0,0,0,0,0,0,null,null,null,null,null,null,null,null,null,null,null,null,0,0,0,0,0,0,0,0,0,0,0,null,0,0,0,0,0,0,0,0,0,0,0,null,0,0,0,0,0,0,0,0,0,0,0,null,0,{"$f":"IF(AC347<=0,0,IF($D347<=SUM($BK348:BK348),0,IF(AZ348+$D347-SUM($BK348:BK348)>AC347+AN348,AC347+AN348-AZ348,$D347-SUM($BK348:BK348))))","v":0},{"$f":"IF(AD347<=0,0,IF($D347<=SUM($BK348:BL348),0,IF(BA348+$D347-SUM($BK348:BL348)>AD347+AO348,AD347+AO348-BA348,$D347-SUM($BK348:BL348))))","v":0},{"$f":"IF(AE347<=0,0,IF($D347<=SUM($BK348:BM348),0,IF(BB348+$D347-SUM($BK348:BM348)>AE347+AP348,AE347+AP348-BB348,$D347-SUM($BK348:BM348))))","v":0},{"$f":"IF(AF347<=0,0,IF($D347<=SUM($BK348:BN348),0,IF(BC348+$D347-SUM($BK348:BN348)>AF347+AQ348,AF347+AQ348-BC348,$D347-SUM($BK348:BN348))))","v":0},{"$f":"IF(AG347<=0,0,IF($D347<=SUM($BK348:BO348),0,IF(BD348+$D347-SUM($BK348:BO348)>AG347+AR348,AG347+AR348-BD348,$D347-SUM($BK348:BO348))))","v":0},{"$f":"IF(AH347<=0,0,IF($D347<=SUM($BK348:BP348),0,IF(BE348+$D347-SUM($BK348:BP348)>AH347+AS348,AH347+AS348-BE348,$D347-SUM($BK348:BP348))))","v":0},{"$f":"IF(AI347<=0,0,IF($D347<=SUM($BK348:BQ348),0,IF(BF348+$D347-SUM($BK348:BQ348)>AI347+AT348,AI347+AT348-BF348,$D347-SUM($BK348:BQ348))))","v":0},{"$f":"IF(AJ347<=0,0,IF($D347<=SUM($BK348:BR348),0,IF(BG348+$D347-SUM($BK348:BR348)>AJ347+AU348,AJ347+AU348-BG348,$D347-SUM($BK348:BR348))))","v":0},{"$f":"IF(AK347<=0,0,IF($D347<=SUM($BK348:BS348),0,IF(BH348+$D347-SUM($BK348:BS348)>AK347+AV348,AK347+AV348-BH348,$D347-SUM($BK348:BS348))))","v":0}]
[null,"","1927-04-01",0,0,0,0,0,0,0,0,0,0,0,null,null,null,null,null,null,null,null,null,null,null,null,0,0,0,0,0,0,0,0,0,0,0,null,0,0,0,0,0,0,0,0,0,0,0,null,0,0,0,0,0,0,0,0,0,0,0,null,0,{"$f":"IF(AC348<=0,0,IF($D348<=SUM($BK349:BK349),0,IF(AZ349+$D348-SUM($BK349:BK349)>AC348+AN349,AC348+AN349-AZ349,$D348-SUM($BK349:BK349))))","v":0},{"$f":"IF(AD348<=0,0,IF($D348<=SUM($BK349:BL349),0,IF(BA349+$D348-SUM($BK349:BL349)>AD348+AO349,AD348+AO349-BA349,$D348-SUM($BK349:BL349))))","v":0},{"$f":"IF(AE348<=0,0,IF($D348<=SUM($BK349:BM349),0,IF(BB349+$D348-SUM($BK349:BM349)>AE348+AP349,AE348+AP349-BB349,$D348-SUM($BK349:BM349))))","v":0},{"$f":"IF(AF348<=0,0,IF($D348<=SUM($BK349:BN349),0,IF(BC349+$D348-SUM($BK349:BN349)>AF348+AQ349,AF348+AQ349-BC349,$D348-SUM($BK349:BN349))))","v":0},{"$f":"IF(AG348<=0,0,IF($D348<=SUM($BK349:BO349),0,IF(BD349+$D348-SUM($BK349:BO349)>AG348+AR349,AG348+AR349-BD349,$D348-SUM($BK349:BO349))))","v":0},{"$f":"IF(AH348<=0,0,IF($D348<=SUM($BK349:BP349),0,IF(BE349+$D348-SUM($BK349:BP349)>AH348+AS349,AH348+AS349-BE349,$D348-SUM($BK349:BP349))))","v":0},{"$f":"IF(AI348<=0,0,IF($D348<=SUM($BK349:BQ349),0,IF(BF349+$D348-SUM($BK349:BQ349)>AI348+AT349,AI348+AT349-BF349,$D348-SUM($BK349:BQ349))))","v":0},{"$f":"IF(AJ348<=0,0,IF($D348<=SUM($BK349:BR349),0,IF(BG349+$D348-SUM($BK349:BR349)>AJ348+AU349,AJ348+AU349-BG349,$D348-SUM($BK349:BR349))))","v":0},{"$f":"IF(AK348<=0,0,IF($D348<=SUM($BK349:BS349),0,IF(BH349+$D348-SUM($BK349:BS349)>AK348+AV349,AK348+AV349-BH349,$D348-SUM($BK349:BS349))))","v":0}]
[null,"","1927-05-01",0,0,0,0,0,0,0,0,0,0,0,null,null,null,null,null,null,null,null,null,null,null,null,0,0,0,0,0,0,0,0,0,0,0,null,0,0,0,0,0,0,0,0,0,0,0,null,0,0,0,0,0,0,0,0,0,0,0,null,0,{"$f":"IF(AC349<=0,0,IF($D349<=SUM($BK350:BK350),0,IF(AZ350+$D349-SUM($BK350:BK350)>AC349+AN350,AC349+AN350-AZ350,$D349-SUM($BK350:BK350))))","v":0},{"$f":"IF(AD349<=0,0,IF($D349<=SUM($BK350:BL350),0,IF(BA350+$D349-SUM($BK350:BL350)>AD349+AO350,AD349+AO350-BA350,$D349-SUM($BK350:BL350))))","v":0},{"$f":"IF(AE349<=0,0,IF($D349<=SUM($BK350:BM350),0,IF(BB350+$D349-SUM($BK350:BM350)>AE349+AP350,AE349+AP350-BB350,$D349-SUM($BK350:BM350))))","v":0},{"$f":"IF(AF349<=0,0,IF($D349<=SUM($BK350:BN350),0,IF(BC350+$D349-SUM($BK350:BN350)>AF349+AQ350,AF349+AQ350-BC350,$D349-SUM($BK350:BN350))))","v":0},{"$f":"IF(AG349<=0,0,IF($D349<=SUM($BK350:BO350),0,IF(BD350+$D349-SUM($BK350:BO350)>AG349+AR350,AG349+AR350-BD350,$D349-SUM($BK350:BO350))))","v":0},{"$f":"IF(AH349<=0,0,IF($D349<=SUM($BK350:BP350),0,IF(BE350+$D349-SUM($BK350:BP350)>AH349+AS350,AH349+AS350-BE350,$D349-SUM($BK350:BP350))))","v":0},{"$f":"IF(AI349<=0,0,IF($D349<=SUM($BK350:BQ350),0,IF(BF350+$D349-SUM($BK350:BQ350)>AI349+AT350,AI349+AT350-BF350,$D349-SUM($BK350:BQ350))))","v":0},{"$f":"IF(AJ349<=0,0,IF($D349<=SUM($BK350:BR350),0,IF(BG350+$D349-SUM($BK350:BR350)>AJ349+AU350,AJ349+AU350-BG350,$D349-SUM($BK350:BR350))))","v":0},{"$f":"IF(AK349<=0,0,IF($D349<=SUM($BK350:BS350),0,IF(BH350+$D349-SUM($BK350:BS350)>AK349+AV350,AK349+AV350-BH350,$D349-SUM($BK350:BS350))))","v":0}]
[null,"","1927-06-01",0,0,0,0,0,0,0,0,0,0,0,null,null,null,null,null,null,null,null,null,null,null,null,0,0,0,0,0,0,0,0,0,0,0,null,0,0,0,0,0,0,0,0,0,0,0,null,0,0,0,0,0,0,0,0,0,0,0,null,0,{"$f":"IF(AC350<=0,0,IF($D350<=SUM($BK351:BK351),0,IF(AZ351+$D350-SUM($BK351:BK351)>AC350+AN351,AC350+AN351-AZ351,$D350-SUM($BK351:BK351))))","v":0},{"$f":"IF(AD350<=0,0,IF($D350<=SUM($BK351:BL351),0,IF(BA351+$D350-SUM($BK351:BL351)>AD350+AO351,AD350+AO351-BA351,$D350-SUM($BK351:BL351))))","v":0},{"$f":"IF(AE350<=0,0,IF($D350<=SUM($BK351:BM351),0,IF(BB351+$D350-SUM($BK351:BM351)>AE350+AP351,AE350+AP351-BB351,$D350-SUM($BK351:BM351))))","v":0},{"$f":"IF(AF350<=0,0,IF($D350<=SUM($BK351:BN351),0,IF(BC351+$D350-SUM($BK351:BN351)>AF350+AQ351,AF350+AQ351-BC351,$D350-SUM($BK351:BN351))))","v":0},{"$f":"IF(AG350<=0,0,IF($D350<=SUM($BK351:BO351),0,IF(BD351+$D350-SUM($BK351:BO351)>AG350+AR351,AG350+AR351-BD351,$D350-SUM($BK351:BO351))))","v":0},{"$f":"IF(AH350<=0,0,IF($D350<=SUM($BK351:BP351),0,IF(BE351+$D350-SUM($BK351:BP351)>AH350+AS351,AH350+AS351-BE351,$D350-SUM($BK351:BP351))))","v":0},{"$f":"IF(AI350<=0,0,IF($D350<=SUM($BK351:BQ351),0,IF(BF351+$D350-SUM($BK351:BQ351)>AI350+AT351,AI350+AT351-BF351,$D350-SUM($BK351:BQ351))))","v":0},{"$f":"IF(AJ350<=0,0,IF($D350<=SUM($BK351:BR351),0,IF(BG351+$D350-SUM($BK351:BR351)>AJ350+AU351,AJ350+AU351-BG351,$D350-SUM($BK351:BR351))))","v":0},{"$f":"IF(AK350<=0,0,IF($D350<=SUM($BK351:BS351),0,IF(BH351+$D350-SUM($BK351:BS351)>AK350+AV351,AK350+AV351-BH351,$D350-SUM($BK351:BS351))))","v":0}]
[null,"","1927-07-01",0,0,0,0,0,0,0,0,0,0,0,null,null,null,null,null,null,null,null,null,null,null,null,0,0,0,0,0,0,0,0,0,0,0,null,0,0,0,0,0,0,0,0,0,0,0,null,0,0,0,0,0,0,0,0,0,0,0,null,0,{"$f":"IF(AC351<=0,0,IF($D351<=SUM($BK352:BK352),0,IF(AZ352+$D351-SUM($BK352:BK352)>AC351+AN352,AC351+AN352-AZ352,$D351-SUM($BK352:BK352))))","v":0},{"$f":"IF(AD351<=0,0,IF($D351<=SUM($BK352:BL352),0,IF(BA352+$D351-SUM($BK352:BL352)>AD351+AO352,AD351+AO352-BA352,$D351-SUM($BK352:BL352))))","v":0},{"$f":"IF(AE351<=0,0,IF($D351<=SUM($BK352:BM352),0,IF(BB352+$D351-SUM($BK352:BM352)>AE351+AP352,AE351+AP352-BB352,$D351-SUM($BK352:BM352))))","v":0},{"$f":"IF(AF351<=0,0,IF($D351<=SUM($BK352:BN352),0,IF(BC352+$D351-SUM($BK352:BN352)>AF351+AQ352,AF351+AQ352-BC352,$D351-SUM($BK352:BN352))))","v":0},{"$f":"IF(AG351<=0,0,IF($D351<=SUM($BK352:BO352),0,IF(BD352+$D351-SUM($BK352:BO352)>AG351+AR352,AG351+AR352-BD352,$D351-SUM($BK352:BO352))))","v":0},{"$f":"IF(AH351<=0,0,IF($D351<=SUM($BK352:BP352),0,IF(BE352+$D351-SUM($BK352:BP352)>AH351+AS352,AH351+AS352-BE352,$D351-SUM($BK352:BP352))))","v":0},{"$f":"IF(AI351<=0,0,IF($D351<=SUM($BK352:BQ352),0,IF(BF352+$D351-SUM($BK352:BQ352)>AI351+AT352,AI351+AT352-BF352,$D351-SUM($BK352:BQ352))))","v":0},{"$f":"IF(AJ351<=0,0,IF($D351<=SUM($BK352:BR352),0,IF(BG352+$D351-SUM($BK352:BR352)>AJ351+AU352,AJ351+AU352-BG352,$D351-SUM($BK352:BR352))))","v":0},{"$f":"IF(AK351<=0,0,IF($D351<=SUM($BK352:BS352),0,IF(BH352+$D351-SUM($BK352:BS352)>AK351+AV352,AK351+AV352-BH352,$D351-SUM($BK352:BS352))))","v":0}]
[null,"","1927-08-01",0,0,0,0,0,0,0,0,0,0,0,null,null,null,null,null,null,null,null,null,null,null,null,0,0,0,0,0,0,0,0,0,0,0,null,0,0,0,0,0,0,0,0,0,0,0,null,0,0,0,0,0,0,0,0,0,0,0,null,0,{"$f":"IF(AC352<=0,0,IF($D352<=SUM($BK353:BK353),0,IF(AZ353+$D352-SUM($BK353:BK353)>AC352+AN353,AC352+AN353-AZ353,$D352-SUM($BK353:BK353))))","v":0},{"$f":"IF(AD352<=0,0,IF($D352<=SUM($BK353:BL353),0,IF(BA353+$D352-SUM($BK353:BL353)>AD352+AO353,AD352+AO353-BA353,$D352-SUM($BK353:BL353))))","v":0},{"$f":"IF(AE352<=0,0,IF($D352<=SUM($BK353:BM353),0,IF(BB353+$D352-SUM($BK353:BM353)>AE352+AP353,AE352+AP353-BB353,$D352-SUM($BK353:BM353))))","v":0},{"$f":"IF(AF352<=0,0,IF($D352<=SUM($BK353:BN353),0,IF(BC353+$D352-SUM($BK353:BN353)>AF352+AQ353,AF352+AQ353-BC353,$D352-SUM($BK353:BN353))))","v":0},{"$f":"IF(AG352<=0,0,IF($D352<=SUM($BK353:BO353),0,IF(BD353+$D352-SUM($BK353:BO353)>AG352+AR353,AG352+AR353-BD353,$D352-SUM($BK353:BO353))))","v":0},{"$f":"IF(AH352<=0,0,IF($D352<=SUM($BK353:BP353),0,IF(BE353+$D352-SUM($BK353:BP353)>AH352+AS353,AH352+AS353-BE353,$D352-SUM($BK353:BP353))))","v":0},{"$f":"IF(AI352<=0,0,IF($D352<=SUM($BK353:BQ353),0,IF(BF353+$D352-SUM($BK353:BQ353)>AI352+AT353,AI352+AT353-BF353,$D352-SUM($BK353:BQ353))))","v":0},{"$f":"IF(AJ352<=0,0,IF($D352<=SUM($BK353:BR353),0,IF(BG353+$D352-SUM($BK353:BR353)>AJ352+AU353,AJ352+AU353-BG353,$D352-SUM($BK353:BR353))))","v":0},{"$f":"IF(AK352<=0,0,IF($D352<=SUM($BK353:BS353),0,IF(BH353+$D352-SUM($BK353:BS353)>AK352+AV353,AK352+AV353-BH353,$D352-SUM($BK353:BS353))))","v":0}]
[null,"","1927-09-01",0,0,0,0,0,0,0,0,0,0,0,null,null,null,null,null,null,null,null,null,null,null,null,0,0,0,0,0,0,0,0,0,0,0,null,0,0,0,0,0,0,0,0,0,0,0,null,0,0,0,0,0,0,0,0,0,0,0,null,0,{"$f":"IF(AC353<=0,0,IF($D353<=SUM($BK354:BK354),0,IF(AZ354+$D353-SUM($BK354:BK354)>AC353+AN354,AC353+AN354-AZ354,$D353-SUM($BK354:BK354))))","v":0},{"$f":"IF(AD353<=0,0,IF($D353<=SUM($BK354:BL354),0,IF(BA354+$D353-SUM($BK354:BL354)>AD353+AO354,AD353+AO354-BA354,$D353-SUM($BK354:BL354))))","v":0},{"$f":"IF(AE353<=0,0,IF($D353<=SUM($BK354:BM354),0,IF(BB354+$D353-SUM($BK354:BM354)>AE353+AP354,AE353+AP354-BB354,$D353-SUM($BK354:BM354))))","v":0},{"$f":"IF(AF353<=0,0,IF($D353<=SUM($BK354:BN354),0,IF(BC354+$D353-SUM($BK354:BN354)>AF353+AQ354,AF353+AQ354-BC354,$D353-SUM($BK354:BN354))))","v":0},{"$f":"IF(AG353<=0,0,IF($D353<=SUM($BK354:BO354),0,IF(BD354+$D353-SUM($BK354:BO354)>AG353+AR354,AG353+AR354-BD354,$D353-SUM($BK354:BO354))))","v":0},{"$f":"IF(AH353<=0,0,IF($D353<=SUM($BK354:BP354),0,IF(BE354+$D353-SUM($BK354:BP354)>AH353+AS354,AH353+AS354-BE354,$D353-SUM($BK354:BP354))))","v":0},{"$f":"IF(AI353<=0,0,IF($D353<=SUM($BK354:BQ354),0,IF(BF354+$D353-SUM($BK354:BQ354)>AI353+AT354,AI353+AT354-BF354,$D353-SUM($BK354:BQ354))))","v":0},{"$f":"IF(AJ353<=0,0,IF($D353<=SUM($BK354:BR354),0,IF(BG354+$D353-SUM($BK354:BR354)>AJ353+AU354,AJ353+AU354-BG354,$D353-SUM($BK354:BR354))))","v":0},{"$f":"IF(AK353<=0,0,IF($D353<=SUM($BK354:BS354),0,IF(BH354+$D353-SUM($BK354:BS354)>AK353+AV354,AK353+AV354-BH354,$D353-SUM($BK354:BS354))))","v":0}]
[null,"","1927-10-01",0,0,0,0,0,0,0,0,0,0,0,null,null,null,null,null,null,null,null,null,null,null,null,0,0,0,0,0,0,0,0,0,0,0,null,0,0,0,0,0,0,0,0,0,0,0,null,0,0,0,0,0,0,0,0,0,0,0,null,0,{"$f":"IF(AC354<=0,0,IF($D354<=SUM($BK355:BK355),0,IF(AZ355+$D354-SUM($BK355:BK355)>AC354+AN355,AC354+AN355-AZ355,$D354-SUM($BK355:BK355))))","v":0},{"$f":"IF(AD354<=0,0,IF($D354<=SUM($BK355:BL355),0,IF(BA355+$D354-SUM($BK355:BL355)>AD354+AO355,AD354+AO355-BA355,$D354-SUM($BK355:BL355))))","v":0},{"$f":"IF(AE354<=0,0,IF($D354<=SUM($BK355:BM355),0,IF(BB355+$D354-SUM($BK355:BM355)>AE354+AP355,AE354+AP355-BB355,$D354-SUM($BK355:BM355))))","v":0},{"$f":"IF(AF354<=0,0,IF($D354<=SUM($BK355:BN355),0,IF(BC355+$D354-SUM($BK355:BN355)>AF354+AQ355,AF354+AQ355-BC355,$D354-SUM($BK355:BN355))))","v":0},{"$f":"IF(AG354<=0,0,IF($D354<=SUM($BK355:BO355),0,IF(BD355+$D354-SUM($BK355:BO355)>AG354+AR355,AG354+AR355-BD355,$D354-SUM($BK355:BO355))))","v":0},{"$f":"IF(AH354<=0,0,IF($D354<=SUM($BK355:BP355),0,IF(BE355+$D354-SUM($BK355:BP355)>AH354+AS355,AH354+AS355-BE355,$D354-SUM($BK355:BP355))))","v":0},{"$f":"IF(AI354<=0,0,IF($D354<=SUM($BK355:BQ355),0,IF(BF355+$D354-SUM($BK355:BQ355)>AI354+AT355,AI354+AT355-BF355,$D354-SUM($BK355:BQ355))))","v":0},{"$f":"IF(AJ354<=0,0,IF($D354<=SUM($BK355:BR355),0,IF(BG355+$D354-SUM($BK355:BR355)>AJ354+AU355,AJ354+AU355-BG355,$D354-SUM($BK355:BR355))))","v":0},{"$f":"IF(AK354<=0,0,IF($D354<=SUM($BK355:BS355),0,IF(BH355+$D354-SUM($BK355:BS355)>AK354+AV355,AK354+AV355-BH355,$D354-SUM($BK355:BS355))))","v":0}]
[null,"","1927-11-01",0,0,0,0,0,0,0,0,0,0,0,null,null,null,null,null,null,null,null,null,null,null,null,0,0,0,0,0,0,0,0,0,0,0,null,0,0,0,0,0,0,0,0,0,0,0,null,0,0,0,0,0,0,0,0,0,0,0,null,0,{"$f":"IF(AC355<=0,0,IF($D355<=SUM($BK356:BK356),0,IF(AZ356+$D355-SUM($BK356:BK356)>AC355+AN356,AC355+AN356-AZ356,$D355-SUM($BK356:BK356))))","v":0},{"$f":"IF(AD355<=0,0,IF($D355<=SUM($BK356:BL356),0,IF(BA356+$D355-SUM($BK356:BL356)>AD355+AO356,AD355+AO356-BA356,$D355-SUM($BK356:BL356))))","v":0},{"$f":"IF(AE355<=0,0,IF($D355<=SUM($BK356:BM356),0,IF(BB356+$D355-SUM($BK356:BM356)>AE355+AP356,AE355+AP356-BB356,$D355-SUM($BK356:BM356))))","v":0},{"$f":"IF(AF355<=0,0,IF($D355<=SUM($BK356:BN356),0,IF(BC356+$D355-SUM($BK356:BN356)>AF355+AQ356,AF355+AQ356-BC356,$D355-SUM($BK356:BN356))))","v":0},{"$f":"IF(AG355<=0,0,IF($D355<=SUM($BK356:BO356),0,IF(BD356+$D355-SUM($BK356:BO356)>AG355+AR356,AG355+AR356-BD356,$D355-SUM($BK356:BO356))))","v":0},{"$f":"IF(AH355<=0,0,IF($D355<=SUM($BK356:BP356),0,IF(BE356+$D355-SUM($BK356:BP356)>AH355+AS356,AH355+AS356-BE356,$D355-SUM($BK356:BP356))))","v":0},{"$f":"IF(AI355<=0,0,IF($D355<=SUM($BK356:BQ356),0,IF(BF356+$D355-SUM($BK356:BQ356)>AI355+AT356,AI355+AT356-BF356,$D355-SUM($BK356:BQ356))))","v":0},{"$f":"IF(AJ355<=0,0,IF($D355<=SUM($BK356:BR356),0,IF(BG356+$D355-SUM($BK356:BR356)>AJ355+AU356,AJ355+AU356-BG356,$D355-SUM($BK356:BR356))))","v":0},{"$f":"IF(AK355<=0,0,IF($D355<=SUM($BK356:BS356),0,IF(BH356+$D355-SUM($BK356:BS356)>AK355+AV356,AK355+AV356-BH356,$D355-SUM($BK356:BS356))))","v":0}]
[null,"","1927-12-01",0,0,0,0,0,0,0,0,0,0,0,null,null,null,null,null,null,null,null,null,null,null,null,0,0,0,0,0,0,0,0,0,0,0,null,0,0,0,0,0,0,0,0,0,0,0,null,0,0,0,0,0,0,0,0,0,0,0,null,0,{"$f":"IF(AC356<=0,0,IF($D356<=SUM($BK357:BK357),0,IF(AZ357+$D356-SUM($BK357:BK357)>AC356+AN357,AC356+AN357-AZ357,$D356-SUM($BK357:BK357))))","v":0},{"$f":"IF(AD356<=0,0,IF($D356<=SUM($BK357:BL357),0,IF(BA357+$D356-SUM($BK357:BL357)>AD356+AO357,AD356+AO357-BA357,$D356-SUM($BK357:BL357))))","v":0},{"$f":"IF(AE356<=0,0,IF($D356<=SUM($BK357:BM357),0,IF(BB357+$D356-SUM($BK357:BM357)>AE356+AP357,AE356+AP357-BB357,$D356-SUM($BK357:BM357))))","v":0},{"$f":"IF(AF356<=0,0,IF($D356<=SUM($BK357:BN357),0,IF(BC357+$D356-SUM($BK357:BN357)>AF356+AQ357,AF356+AQ357-BC357,$D356-SUM($BK357:BN357))))","v":0},{"$f":"IF(AG356<=0,0,IF($D356<=SUM($BK357:BO357),0,IF(BD357+$D356-SUM($BK357:BO357)>AG356+AR357,AG356+AR357-BD357,$D356-SUM($BK357:BO357))))","v":0},{"$f":"IF(AH356<=0,0,IF($D356<=SUM($BK357:BP357),0,IF(BE357+$D356-SUM($BK357:BP357)>AH356+AS357,AH356+AS357-BE357,$D356-SUM($BK357:BP357))))","v":0},{"$f":"IF(AI356<=0,0,IF($D356<=SUM($BK357:BQ357),0,IF(BF357+$D356-SUM($BK357:BQ357)>AI356+AT357,AI356+AT357-BF357,$D356-SUM($BK357:BQ357))))","v":0},{"$f":"IF(AJ356<=0,0,IF($D356<=SUM($BK357:BR357),0,IF(BG357+$D356-SUM($BK357:BR357)>AJ356+AU357,AJ356+AU357-BG357,$D356-SUM($BK357:BR357))))","v":0},{"$f":"IF(AK356<=0,0,IF($D356<=SUM($BK357:BS357),0,IF(BH357+$D356-SUM($BK357:BS357)>AK356+AV357,AK356+AV357-BH357,$D356-SUM($BK357:BS357))))","v":0}]
[null,"","1928-01-01",0,0,0,0,0,0,0,0,0,0,0,null,null,null,null,null,null,null,null,null,null,null,null,0,0,0,0,0,0,0,0,0,0,0,null,0,0,0,0,0,0,0,0,0,0,0,null,0,0,0,0,0,0,0,0,0,0,0,null,0,{"$f":"IF(AC357<=0,0,IF($D357<=SUM($BK358:BK358),0,IF(AZ358+$D357-SUM($BK358:BK358)>AC357+AN358,AC357+AN358-AZ358,$D357-SUM($BK358:BK358))))","v":0},{"$f":"IF(AD357<=0,0,IF($D357<=SUM($BK358:BL358),0,IF(BA358+$D357-SUM($BK358:BL358)>AD357+AO358,AD357+AO358-BA358,$D357-SUM($BK358:BL358))))","v":0},{"$f":"IF(AE357<=0,0,IF($D357<=SUM($BK358:BM358),0,IF(BB358+$D357-SUM($BK358:BM358)>AE357+AP358,AE357+AP358-BB358,$D357-SUM($BK358:BM358))))","v":0},{"$f":"IF(AF357<=0,0,IF($D357<=SUM($BK358:BN358),0,IF(BC358+$D357-SUM($BK358:BN358)>AF357+AQ358,AF357+AQ358-BC358,$D357-SUM($BK358:BN358))))","v":0},{"$f":"IF(AG357<=0,0,IF($D357<=SUM($BK358:BO358),0,IF(BD358+$D357-SUM($BK358:BO358)>AG357+AR358,AG357+AR358-BD358,$D357-SUM($BK358:BO358))))","v":0},{"$f":"IF(AH357<=0,0,IF($D357<=SUM($BK358:BP358),0,IF(BE358+$D357-SUM($BK358:BP358)>AH357+AS358,AH357+AS358-BE358,$D357-SUM($BK358:BP358))))","v":0},{"$f":"IF(AI357<=0,0,IF($D357<=SUM($BK358:BQ358),0,IF(BF358+$D357-SUM($BK358:BQ358)>AI357+AT358,AI357+AT358-BF358,$D357-SUM($BK358:BQ358))))","v":0},{"$f":"IF(AJ357<=0,0,IF($D357<=SUM($BK358:BR358),0,IF(BG358+$D357-SUM($BK358:BR358)>AJ357+AU358,AJ357+AU358-BG358,$D357-SUM($BK358:BR358))))","v":0},{"$f":"IF(AK357<=0,0,IF($D357<=SUM($BK358:BS358),0,IF(BH358+$D357-SUM($BK358:BS358)>AK357+AV358,AK357+AV358-BH358,$D357-SUM($BK358:BS358))))","v":0}]
[null,"","1928-02-01",0,0,{"$f":"+AZ360+BL360","v":0},{"$f":"+BA360+BM360","v":0},{"$f":"+BB360+BN360","v":0},{"$f":"+BC360+BO360","v":0},{"$f":"+BD360+BP360","v":0},{"$f":"+BE360+BQ360","v":0},{"$f":"+BF360+BR360","v":0},{"$f":"+BG360+BS360","v":0},{"$f":"+BH360+BT360","v":0},null,null,null,null,null,null,null,null,null,null,null,null,0,0,0,0,0,0,0,0,0,0,0,null,0,0,0,0,0,0,0,0,0,0,0,null,0,0,0,0,0,0,0,0,0,0,0,null,0,{"$f":"IF(AC358<=0,0,IF($D358<=SUM($BK359:BK359),0,IF(AZ359+$D358-SUM($BK359:BK359)>AC358+AN359,AC358+AN359-AZ359,$D358-SUM($BK359:BK359))))","v":0},{"$f":"IF(AD358<=0,0,IF($D358<=SUM($BK359:BL359),0,IF(BA359+$D358-SUM($BK359:BL359)>AD358+AO359,AD358+AO359-BA359,$D358-SUM($BK359:BL359))))","v":0},{"$f":"IF(AE358<=0,0,IF($D358<=SUM($BK359:BM359),0,IF(BB359+$D358-SUM($BK359:BM359)>AE358+AP359,AE358+AP359-BB359,$D358-SUM($BK359:BM359))))","v":0},{"$f":"IF(AF358<=0,0,IF($D358<=SUM($BK359:BN359),0,IF(BC359+$D358-SUM($BK359:BN359)>AF358+AQ359,AF358+AQ359-BC359,$D358-SUM($BK359:BN359))))","v":0},{"$f":"IF(AG358<=0,0,IF($D358<=SUM($BK359:BO359),0,IF(BD359+$D358-SUM($BK359:BO359)>AG358+AR359,AG358+AR359-BD359,$D358-SUM($BK359:BO359))))","v":0},{"$f":"IF(AH358<=0,0,IF($D358<=SUM($BK359:BP359),0,IF(BE359+$D358-SUM($BK359:BP359)>AH358+AS359,AH358+AS359-BE359,$D358-SUM($BK359:BP359))))","v":0},{"$f":"IF(AI358<=0,0,IF($D358<=SUM($BK359:BQ359),0,IF(BF359+$D358-SUM($BK359:BQ359)>AI358+AT359,AI358+AT359-BF359,$D358-SUM($BK359:BQ359))))","v":0},{"$f":"IF(AJ358<=0,0,IF($D358<=SUM($BK359:BR359),0,IF(BG359+$D358-SUM($BK359:BR359)>AJ358+AU359,AJ358+AU359-BG359,$D358-SUM($BK359:BR359))))","v":0},{"$f":"IF(AK358<=0,0,IF($D358<=SUM($BK359:BS359),0,IF(BH359+$D358-SUM($BK359:BS359)>AK358+AV359,AK358+AV359-BH359,$D358-SUM($BK359:BS359))))","v":0}]
[null,"","1928-03-01",0,0,0,0,0,0,0,0,0,0,0,null,null,null,null,null,null,null,null,null,null,null,null,0,0,0,0,0,0,0,0,0,0,0,null,0,0,0,0,0,0,0,0,0,0,0,null,0,0,0,0,0,0,0,0,0,0,0,null,0,{"$f":"IF(AC359<=0,0,IF($D359<=SUM($BK360:BK360),0,IF(AZ360+$D359-SUM($BK360:BK360)>AC359+AN360,AC359+AN360-AZ360,$D359-SUM($BK360:BK360))))","v":0},{"$f":"IF(AD359<=0,0,IF($D359<=SUM($BK360:BL360),0,IF(BA360+$D359-SUM($BK360:BL360)>AD359+AO360,AD359+AO360-BA360,$D359-SUM($BK360:BL360))))","v":0},{"$f":"IF(AE359<=0,0,IF($D359<=SUM($BK360:BM360),0,IF(BB360+$D359-SUM($BK360:BM360)>AE359+AP360,AE359+AP360-BB360,$D359-SUM($BK360:BM360))))","v":0},{"$f":"IF(AF359<=0,0,IF($D359<=SUM($BK360:BN360),0,IF(BC360+$D359-SUM($BK360:BN360)>AF359+AQ360,AF359+AQ360-BC360,$D359-SUM($BK360:BN360))))","v":0},{"$f":"IF(AG359<=0,0,IF($D359<=SUM($BK360:BO360),0,IF(BD360+$D359-SUM($BK360:BO360)>AG359+AR360,AG359+AR360-BD360,$D359-SUM($BK360:BO360))))","v":0},{"$f":"IF(AH359<=0,0,IF($D359<=SUM($BK360:BP360),0,IF(BE360+$D359-SUM($BK360:BP360)>AH359+AS360,AH359+AS360-BE360,$D359-SUM($BK360:BP360))))","v":0},{"$f":"IF(AI359<=0,0,IF($D359<=SUM($BK360:BQ360),0,IF(BF360+$D359-SUM($BK360:BQ360)>AI359+AT360,AI359+AT360-BF360,$D359-SUM($BK360:BQ360))))","v":0},{"$f":"IF(AJ359<=0,0,IF($D359<=SUM($BK360:BR360),0,IF(BG360+$D359-SUM($BK360:BR360)>AJ359+AU360,AJ359+AU360-BG360,$D359-SUM($BK360:BR360))))","v":0},{"$f":"IF(AK359<=0,0,IF($D359<=SUM($BK360:BS360),0,IF(BH360+$D359-SUM($BK360:BS360)>AK359+AV360,AK359+AV360-BH360,$D359-SUM($BK360:BS360))))","v":0}]
[null,"","1928-04-01",0,0,0,0,0,0,0,0,0,0,0,null,null,null,null,null,null,null,null,null,null,null,null,0,0,0,0,0,0,0,0,0,0,0,null,0,0,0,0,0,0,0,0,0,0,0,null,0,0,0,0,0,0,0,0,0,0,0,null,0,{"$f":"IF(AC360<=0,0,IF($D360<=SUM($BK361:BK361),0,IF(AZ361+$D360-SUM($BK361:BK361)>AC360+AN361,AC360+AN361-AZ361,$D360-SUM($BK361:BK361))))","v":0},{"$f":"IF(AD360<=0,0,IF($D360<=SUM($BK361:BL361),0,IF(BA361+$D360-SUM($BK361:BL361)>AD360+AO361,AD360+AO361-BA361,$D360-SUM($BK361:BL361))))","v":0},{"$f":"IF(AE360<=0,0,IF($D360<=SUM($BK361:BM361),0,IF(BB361+$D360-SUM($BK361:BM361)>AE360+AP361,AE360+AP361-BB361,$D360-SUM($BK361:BM361))))","v":0},{"$f":"IF(AF360<=0,0,IF($D360<=SUM($BK361:BN361),0,IF(BC361+$D360-SUM($BK361:BN361)>AF360+AQ361,AF360+AQ361-BC361,$D360-SUM($BK361:BN361))))","v":0},{"$f":"IF(AG360<=0,0,IF($D360<=SUM($BK361:BO361),0,IF(BD361+$D360-SUM($BK361:BO361)>AG360+AR361,AG360+AR361-BD361,$D360-SUM($BK361:BO361))))","v":0},{"$f":"IF(AH360<=0,0,IF($D360<=SUM($BK361:BP361),0,IF(BE361+$D360-SUM($BK361:BP361)>AH360+AS361,AH360+AS361-BE361,$D360-SUM($BK361:BP361))))","v":0},{"$f":"IF(AI360<=0,0,IF($D360<=SUM($BK361:BQ361),0,IF(BF361+$D360-SUM($BK361:BQ361)>AI360+AT361,AI360+AT361-BF361,$D360-SUM($BK361:BQ361))))","v":0},{"$f":"IF(AJ360<=0,0,IF($D360<=SUM($BK361:BR361),0,IF(BG361+$D360-SUM($BK361:BR361)>AJ360+AU361,AJ360+AU361-BG361,$D360-SUM($BK361:BR361))))","v":0},{"$f":"IF(AK360<=0,0,IF($D360<=SUM($BK361:BS361),0,IF(BH361+$D360-SUM($BK361:BS361)>AK360+AV361,AK360+AV361-BH361,$D360-SUM($BK361:BS361))))","v":0}]
[null,"","1928-05-01",0,0,0,0,0,0,0,0,0,0,0,null,null,null,null,null,null,null,null,null,null,null,null,0,0,0,0,0,0,0,0,0,0,0,null,0,0,0,0,0,0,0,0,0,0,0,null,0,0,0,0,0,0,0,0,0,0,0,null,0,{"$f":"IF(AC361<=0,0,IF($D361<=SUM($BK362:BK362),0,IF(AZ362+$D361-SUM($BK362:BK362)>AC361+AN362,AC361+AN362-AZ362,$D361-SUM($BK362:BK362))))","v":0},{"$f":"IF(AD361<=0,0,IF($D361<=SUM($BK362:BL362),0,IF(BA362+$D361-SUM($BK362:BL362)>AD361+AO362,AD361+AO362-BA362,$D361-SUM($BK362:BL362))))","v":0},{"$f":"IF(AE361<=0,0,IF($D361<=SUM($BK362:BM362),0,IF(BB362+$D361-SUM($BK362:BM362)>AE361+AP362,AE361+AP362-BB362,$D361-SUM($BK362:BM362))))","v":0},{"$f":"IF(AF361<=0,0,IF($D361<=SUM($BK362:BN362),0,IF(BC362+$D361-SUM($BK362:BN362)>AF361+AQ362,AF361+AQ362-BC362,$D361-SUM($BK362:BN362))))","v":0},{"$f":"IF(AG361<=0,0,IF($D361<=SUM($BK362:BO362),0,IF(BD362+$D361-SUM($BK362:BO362)>AG361+AR362,AG361+AR362-BD362,$D361-SUM($BK362:BO362))))","v":0},{"$f":"IF(AH361<=0,0,IF($D361<=SUM($BK362:BP362),0,IF(BE362+$D361-SUM($BK362:BP362)>AH361+AS362,AH361+AS362-BE362,$D361-SUM($BK362:BP362))))","v":0},{"$f":"IF(AI361<=0,0,IF($D361<=SUM($BK362:BQ362),0,IF(BF362+$D361-SUM($BK362:BQ362)>AI361+AT362,AI361+AT362-BF362,$D361-SUM($BK362:BQ362))))","v":0},{"$f":"IF(AJ361<=0,0,IF($D361<=SUM($BK362:BR362),0,IF(BG362+$D361-SUM($BK362:BR362)>AJ361+AU362,AJ361+AU362-BG362,$D361-SUM($BK362:BR362))))","v":0},{"$f":"IF(AK361<=0,0,IF($D361<=SUM($BK362:BS362),0,IF(BH362+$D361-SUM($BK362:BS362)>AK361+AV362,AK361+AV362-BH362,$D361-SUM($BK362:BS362))))","v":0}]
[null,"","1928-06-01",0,0,0,0,0,0,0,0,0,0,0,null,null,null,null,null,null,null,null,null,null,null,null,0,0,0,0,0,0,0,0,0,0,0,null,0,0,0,0,0,0,0,0,0,0,0,null,0,0,0,0,0,0,0,0,0,0,0,null,0,{"$f":"IF(AC362<=0,0,IF($D362<=SUM($BK363:BK363),0,IF(AZ363+$D362-SUM($BK363:BK363)>AC362+AN363,AC362+AN363-AZ363,$D362-SUM($BK363:BK363))))","v":0},{"$f":"IF(AD362<=0,0,IF($D362<=SUM($BK363:BL363),0,IF(BA363+$D362-SUM($BK363:BL363)>AD362+AO363,AD362+AO363-BA363,$D362-SUM($BK363:BL363))))","v":0},{"$f":"IF(AE362<=0,0,IF($D362<=SUM($BK363:BM363),0,IF(BB363+$D362-SUM($BK363:BM363)>AE362+AP363,AE362+AP363-BB363,$D362-SUM($BK363:BM363))))","v":0},{"$f":"IF(AF362<=0,0,IF($D362<=SUM($BK363:BN363),0,IF(BC363+$D362-SUM($BK363:BN363)>AF362+AQ363,AF362+AQ363-BC363,$D362-SUM($BK363:BN363))))","v":0},{"$f":"IF(AG362<=0,0,IF($D362<=SUM($BK363:BO363),0,IF(BD363+$D362-SUM($BK363:BO363)>AG362+AR363,AG362+AR363-BD363,$D362-SUM($BK363:BO363))))","v":0},{"$f":"IF(AH362<=0,0,IF($D362<=SUM($BK363:BP363),0,IF(BE363+$D362-SUM($BK363:BP363)>AH362+AS363,AH362+AS363-BE363,$D362-SUM($BK363:BP363))))","v":0},{"$f":"IF(AI362<=0,0,IF($D362<=SUM($BK363:BQ363),0,IF(BF363+$D362-SUM($BK363:BQ363)>AI362+AT363,AI362+AT363-BF363,$D362-SUM($BK363:BQ363))))","v":0},{"$f":"IF(AJ362<=0,0,IF($D362<=SUM($BK363:BR363),0,IF(BG363+$D362-SUM($BK363:BR363)>AJ362+AU363,AJ362+AU363-BG363,$D362-SUM($BK363:BR363))))","v":0},{"$f":"IF(AK362<=0,0,IF($D362<=SUM($BK363:BS363),0,IF(BH363+$D362-SUM($BK363:BS363)>AK362+AV363,AK362+AV363-BH363,$D362-SUM($BK363:BS363))))","v":0}]
[null,"","1928-07-01",0,0,0,0,0,0,0,0,0,0,0,null,null,null,null,null,null,null,null,null,null,null,null,0,0,0,0,0,0,0,0,0,0,0,null,0,0,0,0,0,0,0,0,0,0,0,null,0,0,0,0,0,0,0,0,0,0,0,null,0,{"$f":"IF(AC363<=0,0,IF($D363<=SUM($BK364:BK364),0,IF(AZ364+$D363-SUM($BK364:BK364)>AC363+AN364,AC363+AN364-AZ364,$D363-SUM($BK364:BK364))))","v":0},{"$f":"IF(AD363<=0,0,IF($D363<=SUM($BK364:BL364),0,IF(BA364+$D363-SUM($BK364:BL364)>AD363+AO364,AD363+AO364-BA364,$D363-SUM($BK364:BL364))))","v":0},{"$f":"IF(AE363<=0,0,IF($D363<=SUM($BK364:BM364),0,IF(BB364+$D363-SUM($BK364:BM364)>AE363+AP364,AE363+AP364-BB364,$D363-SUM($BK364:BM364))))","v":0},{"$f":"IF(AF363<=0,0,IF($D363<=SUM($BK364:BN364),0,IF(BC364+$D363-SUM($BK364:BN364)>AF363+AQ364,AF363+AQ364-BC364,$D363-SUM($BK364:BN364))))","v":0},{"$f":"IF(AG363<=0,0,IF($D363<=SUM($BK364:BO364),0,IF(BD364+$D363-SUM($BK364:BO364)>AG363+AR364,AG363+AR364-BD364,$D363-SUM($BK364:BO364))))","v":0},{"$f":"IF(AH363<=0,0,IF($D363<=SUM($BK364:BP364),0,IF(BE364+$D363-SUM($BK364:BP364)>AH363+AS364,AH363+AS364-BE364,$D363-SUM($BK364:BP364))))","v":0},{"$f":"IF(AI363<=0,0,IF($D363<=SUM($BK364:BQ364),0,IF(BF364+$D363-SUM($BK364:BQ364)>AI363+AT364,AI363+AT364-BF364,$D363-SUM($BK364:BQ364))))","v":0},{"$f":"IF(AJ363<=0,0,IF($D363<=SUM($BK364:BR364),0,IF(BG364+$D363-SUM($BK364:BR364)>AJ363+AU364,AJ363+AU364-BG364,$D363-SUM($BK364:BR364))))","v":0},{"$f":"IF(AK363<=0,0,IF($D363<=SUM($BK364:BS364),0,IF(BH364+$D363-SUM($BK364:BS364)>AK363+AV364,AK363+AV364-BH364,$D363-SUM($BK364:BS364))))","v":0}]
[null,"","1928-08-01",0,0,0,0,0,0,0,0,0,0,0,null,null,null,null,null,null,null,null,null,null,null,null,0,0,0,0,0,0,0,0,0,0,0,null,0,0,0,0,0,0,0,0,0,0,0,null,0,0,0,0,0,0,0,0,0,0,0,null,0,{"$f":"IF(AC364<=0,0,IF($D364<=SUM($BK365:BK365),0,IF(AZ365+$D364-SUM($BK365:BK365)>AC364+AN365,AC364+AN365-AZ365,$D364-SUM($BK365:BK365))))","v":0},{"$f":"IF(AD364<=0,0,IF($D364<=SUM($BK365:BL365),0,IF(BA365+$D364-SUM($BK365:BL365)>AD364+AO365,AD364+AO365-BA365,$D364-SUM($BK365:BL365))))","v":0},{"$f":"IF(AE364<=0,0,IF($D364<=SUM($BK365:BM365),0,IF(BB365+$D364-SUM($BK365:BM365)>AE364+AP365,AE364+AP365-BB365,$D364-SUM($BK365:BM365))))","v":0},{"$f":"IF(AF364<=0,0,IF($D364<=SUM($BK365:BN365),0,IF(BC365+$D364-SUM($BK365:BN365)>AF364+AQ365,AF364+AQ365-BC365,$D364-SUM($BK365:BN365))))","v":0},{"$f":"IF(AG364<=0,0,IF($D364<=SUM($BK365:BO365),0,IF(BD365+$D364-SUM($BK365:BO365)>AG364+AR365,AG364+AR365-BD365,$D364-SUM($BK365:BO365))))","v":0},{"$f":"IF(AH364<=0,0,IF($D364<=SUM($BK365:BP365),0,IF(BE365+$D364-SUM($BK365:BP365)>AH364+AS365,AH364+AS365-BE365,$D364-SUM($BK365:BP365))))","v":0},{"$f":"IF(AI364<=0,0,IF($D364<=SUM($BK365:BQ365),0,IF(BF365+$D364-SUM($BK365:BQ365)>AI364+AT365,AI364+AT365-BF365,$D364-SUM($BK365:BQ365))))","v":0},{"$f":"IF(AJ364<=0,0,IF($D364<=SUM($BK365:BR365),0,IF(BG365+$D364-SUM($BK365:BR365)>AJ364+AU365,AJ364+AU365-BG365,$D364-SUM($BK365:BR365))))","v":0},{"$f":"IF(AK364<=0,0,IF($D364<=SUM($BK365:BS365),0,IF(BH365+$D364-SUM($BK365:BS365)>AK364+AV365,AK364+AV365-BH365,$D364-SUM($BK365:BS365))))","v":0}]
[null,"","1928-09-01",0,0,0,0,0,0,0,0,0,0,0,null,null,null,null,null,null,null,null,null,null,null,null,0,0,0,0,0,0,0,0,0,0,0,null,0,0,0,0,0,0,0,0,0,0,0,null,0,0,0,0,0,0,0,0,0,0,{"$f":"SUM(AY366:BH366)","v":0},null,0,{"$f":"IF(AC365<=0,0,IF($D365<=SUM($BK366:BK366),0,IF(AZ366+$D365-SUM($BK366:BK366)>AC365+AN366,AC365+AN366-AZ366,$D365-SUM($BK366:BK366))))","v":0},{"$f":"IF(AD365<=0,0,IF($D365<=SUM($BK366:BL366),0,IF(BA366+$D365-SUM($BK366:BL366)>AD365+AO366,AD365+AO366-BA366,$D365-SUM($BK366:BL366))))","v":0},{"$f":"IF(AE365<=0,0,IF($D365<=SUM($BK366:BM366),0,IF(BB366+$D365-SUM($BK366:BM366)>AE365+AP366,AE365+AP366-BB366,$D365-SUM($BK366:BM366))))","v":0},{"$f":"IF(AF365<=0,0,IF($D365<=SUM($BK366:BN366),0,IF(BC366+$D365-SUM($BK366:BN366)>AF365+AQ366,AF365+AQ366-BC366,$D365-SUM($BK366:BN366))))","v":0},{"$f":"IF(AG365<=0,0,IF($D365<=SUM($BK366:BO366),0,IF(BD366+$D365-SUM($BK366:BO366)>AG365+AR366,AG365+AR366-BD366,$D365-SUM($BK366:BO366))))","v":0},{"$f":"IF(AH365<=0,0,IF($D365<=SUM($BK366:BP366),0,IF(BE366+$D365-SUM($BK366:BP366)>AH365+AS366,AH365+AS366-BE366,$D365-SUM($BK366:BP366))))","v":0},{"$f":"IF(AI365<=0,0,IF($D365<=SUM($BK366:BQ366),0,IF(BF366+$D365-SUM($BK366:BQ366)>AI365+AT366,AI365+AT366-BF366,$D365-SUM($BK366:BQ366))))","v":0},{"$f":"IF(AJ365<=0,0,IF($D365<=SUM($BK366:BR366),0,IF(BG366+$D365-SUM($BK366:BR366)>AJ365+AU366,AJ365+AU366-BG366,$D365-SUM($BK366:BR366))))","v":0},{"$f":"IF(AK365<=0,0,IF($D365<=SUM($BK366:BS366),0,IF(BH366+$D365-SUM($BK366:BS366)>AK365+AV366,AK365+AV366-BH366,$D365-SUM($BK366:BS366))))","v":0}]
[null,"","1928-10-01",0,0,0,0,0,0,0,0,0,0,0,null,null,null,null,null,null,null,null,null,null,null,null,0,0,0,0,0,0,0,0,0,0,0,null,0,0,0,0,0,0,0,0,0,0,0,null,0,0,0,0,0,0,0,0,0,0,0,null,0,{"$f":"IF(AC366<=0,0,IF($D366<=SUM($BK367:BK367),0,IF(AZ367+$D366-SUM($BK367:BK367)>AC366+AN367,AC366+AN367-AZ367,$D366-SUM($BK367:BK367))))","v":0},{"$f":"IF(AD366<=0,0,IF($D366<=SUM($BK367:BL367),0,IF(BA367+$D366-SUM($BK367:BL367)>AD366+AO367,AD366+AO367-BA367,$D366-SUM($BK367:BL367))))","v":0},{"$f":"IF(AE366<=0,0,IF($D366<=SUM($BK367:BM367),0,IF(BB367+$D366-SUM($BK367:BM367)>AE366+AP367,AE366+AP367-BB367,$D366-SUM($BK367:BM367))))","v":0},{"$f":"IF(AF366<=0,0,IF($D366<=SUM($BK367:BN367),0,IF(BC367+$D366-SUM($BK367:BN367)>AF366+AQ367,AF366+AQ367-BC367,$D366-SUM($BK367:BN367))))","v":0},{"$f":"IF(AG366<=0,0,IF($D366<=SUM($BK367:BO367),0,IF(BD367+$D366-SUM($BK367:BO367)>AG366+AR367,AG366+AR367-BD367,$D366-SUM($BK367:BO367))))","v":0},{"$f":"IF(AH366<=0,0,IF($D366<=SUM($BK367:BP367),0,IF(BE367+$D366-SUM($BK367:BP367)>AH366+AS367,AH366+AS367-BE367,$D366-SUM($BK367:BP367))))","v":0},{"$f":"IF(AI366<=0,0,IF($D366<=SUM($BK367:BQ367),0,IF(BF367+$D366-SUM($BK367:BQ367)>AI366+AT367,AI366+AT367-BF367,$D366-SUM($BK367:BQ367))))","v":0},{"$f":"IF(AJ366<=0,0,IF($D366<=SUM($BK367:BR367),0,IF(BG367+$D366-SUM($BK367:BR367)>AJ366+AU367,AJ366+AU367-BG367,$D366-SUM($BK367:BR367))))","v":0},{"$f":"IF(AK366<=0,0,IF($D366<=SUM($BK367:BS367),0,IF(BH367+$D366-SUM($BK367:BS367)>AK366+AV367,AK366+AV367-BH367,$D366-SUM($BK367:BS367))))","v":0}]
[null,"","1928-11-01",0,0,0,0,0,0,0,0,0,0,0,null,null,null,null,null,null,null,null,null,null,null,null,0,0,0,0,0,0,0,0,0,0,0,null,0,0,0,0,0,0,0,0,0,0,0,null,0,0,0,0,0,0,0,0,0,0,0,null,0,{"$f":"IF(AC367<=0,0,IF($D367<=SUM($BK368:BK368),0,IF(AZ368+$D367-SUM($BK368:BK368)>AC367+AN368,AC367+AN368-AZ368,$D367-SUM($BK368:BK368))))","v":0},{"$f":"IF(AD367<=0,0,IF($D367<=SUM($BK368:BL368),0,IF(BA368+$D367-SUM($BK368:BL368)>AD367+AO368,AD367+AO368-BA368,$D367-SUM($BK368:BL368))))","v":0},{"$f":"IF(AE367<=0,0,IF($D367<=SUM($BK368:BM368),0,IF(BB368+$D367-SUM($BK368:BM368)>AE367+AP368,AE367+AP368-BB368,$D367-SUM($BK368:BM368))))","v":0},{"$f":"IF(AF367<=0,0,IF($D367<=SUM($BK368:BN368),0,IF(BC368+$D367-SUM($BK368:BN368)>AF367+AQ368,AF367+AQ368-BC368,$D367-SUM($BK368:BN368))))","v":0},{"$f":"IF(AG367<=0,0,IF($D367<=SUM($BK368:BO368),0,IF(BD368+$D367-SUM($BK368:BO368)>AG367+AR368,AG367+AR368-BD368,$D367-SUM($BK368:BO368))))","v":0},{"$f":"IF(AH367<=0,0,IF($D367<=SUM($BK368:BP368),0,IF(BE368+$D367-SUM($BK368:BP368)>AH367+AS368,AH367+AS368-BE368,$D367-SUM($BK368:BP368))))","v":0},{"$f":"IF(AI367<=0,0,IF($D367<=SUM($BK368:BQ368),0,IF(BF368+$D367-SUM($BK368:BQ368)>AI367+AT368,AI367+AT368-BF368,$D367-SUM($BK368:BQ368))))","v":0},{"$f":"IF(AJ367<=0,0,IF($D367<=SUM($BK368:BR368),0,IF(BG368+$D367-SUM($BK368:BR368)>AJ367+AU368,AJ367+AU368-BG368,$D367-SUM($BK368:BR368))))","v":0},{"$f":"IF(AK367<=0,0,IF($D367<=SUM($BK368:BS368),0,IF(BH368+$D367-SUM($BK368:BS368)>AK367+AV368,AK367+AV368-BH368,$D367-SUM($BK368:BS368))))","v":0}]
[null,"","1928-12-01",0,0,0,0,0,0,0,0,0,0,0,null,null,null,null,null,null,null,null,null,null,null,null,0,0,0,0,0,0,0,0,0,0,0,null,0,0,0,0,0,0,0,0,0,0,0,null,0,0,0,0,0,0,0,0,0,0,0,null,0,{"$f":"IF(AC368<=0,0,IF($D368<=SUM($BK369:BK369),0,IF(AZ369+$D368-SUM($BK369:BK369)>AC368+AN369,AC368+AN369-AZ369,$D368-SUM($BK369:BK369))))","v":0},{"$f":"IF(AD368<=0,0,IF($D368<=SUM($BK369:BL369),0,IF(BA369+$D368-SUM($BK369:BL369)>AD368+AO369,AD368+AO369-BA369,$D368-SUM($BK369:BL369))))","v":0},{"$f":"IF(AE368<=0,0,IF($D368<=SUM($BK369:BM369),0,IF(BB369+$D368-SUM($BK369:BM369)>AE368+AP369,AE368+AP369-BB369,$D368-SUM($BK369:BM369))))","v":0},{"$f":"IF(AF368<=0,0,IF($D368<=SUM($BK369:BN369),0,IF(BC369+$D368-SUM($BK369:BN369)>AF368+AQ369,AF368+AQ369-BC369,$D368-SUM($BK369:BN369))))","v":0},{"$f":"IF(AG368<=0,0,IF($D368<=SUM($BK369:BO369),0,IF(BD369+$D368-SUM($BK369:BO369)>AG368+AR369,AG368+AR369-BD369,$D368-SUM($BK369:BO369))))","v":0},{"$f":"IF(AH368<=0,0,IF($D368<=SUM($BK369:BP369),0,IF(BE369+$D368-SUM($BK369:BP369)>AH368+AS369,AH368+AS369-BE369,$D368-SUM($BK369:BP369))))","v":0},{"$f":"IF(AI368<=0,0,IF($D368<=SUM($BK369:BQ369),0,IF(BF369+$D368-SUM($BK369:BQ369)>AI368+AT369,AI368+AT369-BF369,$D368-SUM($BK369:BQ369))))","v":0},{"$f":"IF(AJ368<=0,0,IF($D368<=SUM($BK369:BR369),0,IF(BG369+$D368-SUM($BK369:BR369)>AJ368+AU369,AJ368+AU369-BG369,$D368-SUM($BK369:BR369))))","v":0},{"$f":"IF(AK368<=0,0,IF($D368<=SUM($BK369:BS369),0,IF(BH369+$D368-SUM($BK369:BS369)>AK368+AV369,AK368+AV369-BH369,$D368-SUM($BK369:BS369))))","v":0}]
[null,"","1929-01-01",0,0,0,0,0,0,0,0,0,0,0,null,null,null,null,null,null,null,null,null,null,null,null,0,0,0,0,0,0,0,0,0,0,0,null,0,0,0,0,0,0,0,0,0,0,0,null,0,0,0,0,0,0,0,0,0,0,0,null,0,{"$f":"IF(AC369<=0,0,IF($D369<=SUM($BK370:BK370),0,IF(AZ370+$D369-SUM($BK370:BK370)>AC369+AN370,AC369+AN370-AZ370,$D369-SUM($BK370:BK370))))","v":0},{"$f":"IF(AD369<=0,0,IF($D369<=SUM($BK370:BL370),0,IF(BA370+$D369-SUM($BK370:BL370)>AD369+AO370,AD369+AO370-BA370,$D369-SUM($BK370:BL370))))","v":0},{"$f":"IF(AE369<=0,0,IF($D369<=SUM($BK370:BM370),0,IF(BB370+$D369-SUM($BK370:BM370)>AE369+AP370,AE369+AP370-BB370,$D369-SUM($BK370:BM370))))","v":0},{"$f":"IF(AF369<=0,0,IF($D369<=SUM($BK370:BN370),0,IF(BC370+$D369-SUM($BK370:BN370)>AF369+AQ370,AF369+AQ370-BC370,$D369-SUM($BK370:BN370))))","v":0},{"$f":"IF(AG369<=0,0,IF($D369<=SUM($BK370:BO370),0,IF(BD370+$D369-SUM($BK370:BO370)>AG369+AR370,AG369+AR370-BD370,$D369-SUM($BK370:BO370))))","v":0},{"$f":"IF(AH369<=0,0,IF($D369<=SUM($BK370:BP370),0,IF(BE370+$D369-SUM($BK370:BP370)>AH369+AS370,AH369+AS370-BE370,$D369-SUM($BK370:BP370))))","v":0},{"$f":"IF(AI369<=0,0,IF($D369<=SUM($BK370:BQ370),0,IF(BF370+$D369-SUM($BK370:BQ370)>AI369+AT370,AI369+AT370-BF370,$D369-SUM($BK370:BQ370))))","v":0},{"$f":"IF(AJ369<=0,0,IF($D369<=SUM($BK370:BR370),0,IF(BG370+$D369-SUM($BK370:BR370)>AJ369+AU370,AJ369+AU370-BG370,$D369-SUM($BK370:BR370))))","v":0},{"$f":"IF(AK369<=0,0,IF($D369<=SUM($BK370:BS370),0,IF(BH370+$D369-SUM($BK370:BS370)>AK369+AV370,AK369+AV370-BH370,$D369-SUM($BK370:BS370))))","v":0}]
[null,"","1929-02-01",0,0,0,0,0,0,0,0,0,0,0,null,null,null,null,null,null,null,null,null,null,null,null,0,0,0,0,0,0,0,0,0,0,0,null,0,0,0,0,0,0,0,0,0,0,0,null,0,0,0,0,0,0,0,0,0,0,0,null,0,{"$f":"IF(AC370<=0,0,IF($D370<=SUM($BK371:BK371),0,IF(AZ371+$D370-SUM($BK371:BK371)>AC370+AN371,AC370+AN371-AZ371,$D370-SUM($BK371:BK371))))","v":0},{"$f":"IF(AD370<=0,0,IF($D370<=SUM($BK371:BL371),0,IF(BA371+$D370-SUM($BK371:BL371)>AD370+AO371,AD370+AO371-BA371,$D370-SUM($BK371:BL371))))","v":0},{"$f":"IF(AE370<=0,0,IF($D370<=SUM($BK371:BM371),0,IF(BB371+$D370-SUM($BK371:BM371)>AE370+AP371,AE370+AP371-BB371,$D370-SUM($BK371:BM371))))","v":0},{"$f":"IF(AF370<=0,0,IF($D370<=SUM($BK371:BN371),0,IF(BC371+$D370-SUM($BK371:BN371)>AF370+AQ371,AF370+AQ371-BC371,$D370-SUM($BK371:BN371))))","v":0},{"$f":"IF(AG370<=0,0,IF($D370<=SUM($BK371:BO371),0,IF(BD371+$D370-SUM($BK371:BO371)>AG370+AR371,AG370+AR371-BD371,$D370-SUM($BK371:BO371))))","v":0},{"$f":"IF(AH370<=0,0,IF($D370<=SUM($BK371:BP371),0,IF(BE371+$D370-SUM($BK371:BP371)>AH370+AS371,AH370+AS371-BE371,$D370-SUM($BK371:BP371))))","v":0},{"$f":"IF(AI370<=0,0,IF($D370<=SUM($BK371:BQ371),0,IF(BF371+$D370-SUM($BK371:BQ371)>AI370+AT371,AI370+AT371-BF371,$D370-SUM($BK371:BQ371))))","v":0},{"$f":"IF(AJ370<=0,0,IF($D370<=SUM($BK371:BR371),0,IF(BG371+$D370-SUM($BK371:BR371)>AJ370+AU371,AJ370+AU371-BG371,$D370-SUM($BK371:BR371))))","v":0},{"$f":"IF(AK370<=0,0,IF($D370<=SUM($BK371:BS371),0,IF(BH371+$D370-SUM($BK371:BS371)>AK370+AV371,AK370+AV371-BH371,$D370-SUM($BK371:BS371))))","v":0}]
[null,"","1929-03-01",0,0,0,0,0,0,0,0,0,0,0,null,null,null,null,null,null,null,null,null,null,null,null,0,0,0,0,0,0,0,0,0,0,0,null,0,0,0,0,0,0,0,0,0,0,0,null,0,0,0,0,0,0,0,0,0,0,0,null,0,{"$f":"IF(AC371<=0,0,IF($D371<=SUM($BK372:BK372),0,IF(AZ372+$D371-SUM($BK372:BK372)>AC371+AN372,AC371+AN372-AZ372,$D371-SUM($BK372:BK372))))","v":0},{"$f":"IF(AD371<=0,0,IF($D371<=SUM($BK372:BL372),0,IF(BA372+$D371-SUM($BK372:BL372)>AD371+AO372,AD371+AO372-BA372,$D371-SUM($BK372:BL372))))","v":0},{"$f":"IF(AE371<=0,0,IF($D371<=SUM($BK372:BM372),0,IF(BB372+$D371-SUM($BK372:BM372)>AE371+AP372,AE371+AP372-BB372,$D371-SUM($BK372:BM372))))","v":0},{"$f":"IF(AF371<=0,0,IF($D371<=SUM($BK372:BN372),0,IF(BC372+$D371-SUM($BK372:BN372)>AF371+AQ372,AF371+AQ372-BC372,$D371-SUM($BK372:BN372))))","v":0},{"$f":"IF(AG371<=0,0,IF($D371<=SUM($BK372:BO372),0,IF(BD372+$D371-SUM($BK372:BO372)>AG371+AR372,AG371+AR372-BD372,$D371-SUM($BK372:BO372))))","v":0},{"$f":"IF(AH371<=0,0,IF($D371<=SUM($BK372:BP372),0,IF(BE372+$D371-SUM($BK372:BP372)>AH371+AS372,AH371+AS372-BE372,$D371-SUM($BK372:BP372))))","v":0},{"$f":"IF(AI371<=0,0,IF($D371<=SUM($BK372:BQ372),0,IF(BF372+$D371-SUM($BK372:BQ372)>AI371+AT372,AI371+AT372-BF372,$D371-SUM($BK372:BQ372))))","v":0},{"$f":"IF(AJ371<=0,0,IF($D371<=SUM($BK372:BR372),0,IF(BG372+$D371-SUM($BK372:BR372)>AJ371+AU372,AJ371+AU372-BG372,$D371-SUM($BK372:BR372))))","v":0},{"$f":"IF(AK371<=0,0,IF($D371<=SUM($BK372:BS372),0,IF(BH372+$D371-SUM($BK372:BS372)>AK371+AV372,AK371+AV372-BH372,$D371-SUM($BK372:BS372))))","v":0}]
[null,"","1929-04-01",0,0,0,0,0,0,0,0,0,0,0,null,null,null,null,null,null,null,null,null,null,null,null,0,0,0,0,0,0,0,0,0,0,0,null,0,0,0,0,0,0,0,0,0,0,0,null,0,0,0,0,0,0,0,0,0,0,0,null,0,{"$f":"IF(AC372<=0,0,IF($D372<=SUM($BK373:BK373),0,IF(AZ373+$D372-SUM($BK373:BK373)>AC372+AN373,AC372+AN373-AZ373,$D372-SUM($BK373:BK373))))","v":0},{"$f":"IF(AD372<=0,0,IF($D372<=SUM($BK373:BL373),0,IF(BA373+$D372-SUM($BK373:BL373)>AD372+AO373,AD372+AO373-BA373,$D372-SUM($BK373:BL373))))","v":0},{"$f":"IF(AE372<=0,0,IF($D372<=SUM($BK373:BM373),0,IF(BB373+$D372-SUM($BK373:BM373)>AE372+AP373,AE372+AP373-BB373,$D372-SUM($BK373:BM373))))","v":0},{"$f":"IF(AF372<=0,0,IF($D372<=SUM($BK373:BN373),0,IF(BC373+$D372-SUM($BK373:BN373)>AF372+AQ373,AF372+AQ373-BC373,$D372-SUM($BK373:BN373))))","v":0},{"$f":"IF(AG372<=0,0,IF($D372<=SUM($BK373:BO373),0,IF(BD373+$D372-SUM($BK373:BO373)>AG372+AR373,AG372+AR373-BD373,$D372-SUM($BK373:BO373))))","v":0},{"$f":"IF(AH372<=0,0,IF($D372<=SUM($BK373:BP373),0,IF(BE373+$D372-SUM($BK373:BP373)>AH372+AS373,AH372+AS373-BE373,$D372-SUM($BK373:BP373))))","v":0},{"$f":"IF(AI372<=0,0,IF($D372<=SUM($BK373:BQ373),0,IF(BF373+$D372-SUM($BK373:BQ373)>AI372+AT373,AI372+AT373-BF373,$D372-SUM($BK373:BQ373))))","v":0},{"$f":"IF(AJ372<=0,0,IF($D372<=SUM($BK373:BR373),0,IF(BG373+$D372-SUM($BK373:BR373)>AJ372+AU373,AJ372+AU373-BG373,$D372-SUM($BK373:BR373))))","v":0},{"$f":"IF(AK372<=0,0,IF($D372<=SUM($BK373:BS373),0,IF(BH373+$D372-SUM($BK373:BS373)>AK372+AV373,AK372+AV373-BH373,$D372-SUM($BK373:BS373))))","v":0}]
[null,"","1929-05-01",0,0,0,0,0,0,0,0,0,0,0,null,null,null,null,null,null,null,null,null,null,null,null,0,0,0,0,0,0,0,0,0,0,0,null,0,0,0,0,0,0,0,0,0,0,0,null,0,0,0,0,0,0,0,0,0,0,0,null,0,{"$f":"IF(AC373<=0,0,IF($D373<=SUM($BK374:BK374),0,IF(AZ374+$D373-SUM($BK374:BK374)>AC373+AN374,AC373+AN374-AZ374,$D373-SUM($BK374:BK374))))","v":0},{"$f":"IF(AD373<=0,0,IF($D373<=SUM($BK374:BL374),0,IF(BA374+$D373-SUM($BK374:BL374)>AD373+AO374,AD373+AO374-BA374,$D373-SUM($BK374:BL374))))","v":0},{"$f":"IF(AE373<=0,0,IF($D373<=SUM($BK374:BM374),0,IF(BB374+$D373-SUM($BK374:BM374)>AE373+AP374,AE373+AP374-BB374,$D373-SUM($BK374:BM374))))","v":0},{"$f":"IF(AF373<=0,0,IF($D373<=SUM($BK374:BN374),0,IF(BC374+$D373-SUM($BK374:BN374)>AF373+AQ374,AF373+AQ374-BC374,$D373-SUM($BK374:BN374))))","v":0},{"$f":"IF(AG373<=0,0,IF($D373<=SUM($BK374:BO374),0,IF(BD374+$D373-SUM($BK374:BO374)>AG373+AR374,AG373+AR374-BD374,$D373-SUM($BK374:BO374))))","v":0},{"$f":"IF(AH373<=0,0,IF($D373<=SUM($BK374:BP374),0,IF(BE374+$D373-SUM($BK374:BP374)>AH373+AS374,AH373+AS374-BE374,$D373-SUM($BK374:BP374))))","v":0},{"$f":"IF(AI373<=0,0,IF($D373<=SUM($BK374:BQ374),0,IF(BF374+$D373-SUM($BK374:BQ374)>AI373+AT374,AI373+AT374-BF374,$D373-SUM($BK374:BQ374))))","v":0},{"$f":"IF(AJ373<=0,0,IF($D373<=SUM($BK374:BR374),0,IF(BG374+$D373-SUM($BK374:BR374)>AJ373+AU374,AJ373+AU374-BG374,$D373-SUM($BK374:BR374))))","v":0},{"$f":"IF(AK373<=0,0,IF($D373<=SUM($BK374:BS374),0,IF(BH374+$D373-SUM($BK374:BS374)>AK373+AV374,AK373+AV374-BH374,$D373-SUM($BK374:BS374))))","v":0}]
[null,"","1929-06-01",0,0,0,0,0,0,0,0,0,0,0,null,null,null,null,null,null,null,null,null,null,null,null,0,0,0,0,0,0,0,0,0,0,0,null,0,0,0,0,0,0,0,0,0,0,0,null,0,0,0,0,0,0,0,0,0,0,0,null,0,{"$f":"IF(AC374<=0,0,IF($D374<=SUM($BK375:BK375),0,IF(AZ375+$D374-SUM($BK375:BK375)>AC374+AN375,AC374+AN375-AZ375,$D374-SUM($BK375:BK375))))","v":0},{"$f":"IF(AD374<=0,0,IF($D374<=SUM($BK375:BL375),0,IF(BA375+$D374-SUM($BK375:BL375)>AD374+AO375,AD374+AO375-BA375,$D374-SUM($BK375:BL375))))","v":0},{"$f":"IF(AE374<=0,0,IF($D374<=SUM($BK375:BM375),0,IF(BB375+$D374-SUM($BK375:BM375)>AE374+AP375,AE374+AP375-BB375,$D374-SUM($BK375:BM375))))","v":0},{"$f":"IF(AF374<=0,0,IF($D374<=SUM($BK375:BN375),0,IF(BC375+$D374-SUM($BK375:BN375)>AF374+AQ375,AF374+AQ375-BC375,$D374-SUM($BK375:BN375))))","v":0},{"$f":"IF(AG374<=0,0,IF($D374<=SUM($BK375:BO375),0,IF(BD375+$D374-SUM($BK375:BO375)>AG374+AR375,AG374+AR375-BD375,$D374-SUM($BK375:BO375))))","v":0},{"$f":"IF(AH374<=0,0,IF($D374<=SUM($BK375:BP375),0,IF(BE375+$D374-SUM($BK375:BP375)>AH374+AS375,AH374+AS375-BE375,$D374-SUM($BK375:BP375))))","v":0},{"$f":"IF(AI374<=0,0,IF($D374<=SUM($BK375:BQ375),0,IF(BF375+$D374-SUM($BK375:BQ375)>AI374+AT375,AI374+AT375-BF375,$D374-SUM($BK375:BQ375))))","v":0},{"$f":"IF(AJ374<=0,0,IF($D374<=SUM($BK375:BR375),0,IF(BG375+$D374-SUM($BK375:BR375)>AJ374+AU375,AJ374+AU375-BG375,$D374-SUM($BK375:BR375))))","v":0},{"$f":"IF(AK374<=0,0,IF($D374<=SUM($BK375:BS375),0,IF(BH375+$D374-SUM($BK375:BS375)>AK374+AV375,AK374+AV375-BH375,$D374-SUM($BK375:BS375))))","v":0}]
[null,"","1929-07-01",0,0,0,0,0,0,0,0,0,0,0,null,null,null,null,null,null,null,null,null,null,null,null,0,0,0,0,0,0,0,0,0,0,0,null,0,0,0,0,0,0,0,0,0,0,0,null,0,0,0,0,0,0,0,0,0,0,0,null,0,{"$f":"IF(AC375<=0,0,IF($D375<=SUM($BK376:BK376),0,IF(AZ376+$D375-SUM($BK376:BK376)>AC375+AN376,AC375+AN376-AZ376,$D375-SUM($BK376:BK376))))","v":0},{"$f":"IF(AD375<=0,0,IF($D375<=SUM($BK376:BL376),0,IF(BA376+$D375-SUM($BK376:BL376)>AD375+AO376,AD375+AO376-BA376,$D375-SUM($BK376:BL376))))","v":0},{"$f":"IF(AE375<=0,0,IF($D375<=SUM($BK376:BM376),0,IF(BB376+$D375-SUM($BK376:BM376)>AE375+AP376,AE375+AP376-BB376,$D375-SUM($BK376:BM376))))","v":0},{"$f":"IF(AF375<=0,0,IF($D375<=SUM($BK376:BN376),0,IF(BC376+$D375-SUM($BK376:BN376)>AF375+AQ376,AF375+AQ376-BC376,$D375-SUM($BK376:BN376))))","v":0},{"$f":"IF(AG375<=0,0,IF($D375<=SUM($BK376:BO376),0,IF(BD376+$D375-SUM($BK376:BO376)>AG375+AR376,AG375+AR376-BD376,$D375-SUM($BK376:BO376))))","v":0},{"$f":"IF(AH375<=0,0,IF($D375<=SUM($BK376:BP376),0,IF(BE376+$D375-SUM($BK376:BP376)>AH375+AS376,AH375+AS376-BE376,$D375-SUM($BK376:BP376))))","v":0},{"$f":"IF(AI375<=0,0,IF($D375<=SUM($BK376:BQ376),0,IF(BF376+$D375-SUM($BK376:BQ376)>AI375+AT376,AI375+AT376-BF376,$D375-SUM($BK376:BQ376))))","v":0},{"$f":"IF(AJ375<=0,0,IF($D375<=SUM($BK376:BR376),0,IF(BG376+$D375-SUM($BK376:BR376)>AJ375+AU376,AJ375+AU376-BG376,$D375-SUM($BK376:BR376))))","v":0},{"$f":"IF(AK375<=0,0,IF($D375<=SUM($BK376:BS376),0,IF(BH376+$D375-SUM($BK376:BS376)>AK375+AV376,AK375+AV376-BH376,$D375-SUM($BK376:BS376))))","v":0}]
[null,"","1929-08-01",0,0,0,0,0,0,0,0,0,0,0,null,null,null,null,null,null,null,null,null,null,null,null,0,0,0,0,0,0,0,0,0,0,0,null,0,0,0,0,0,0,0,0,0,0,0,null,0,0,0,0,0,0,0,0,0,0,0,null,0,{"$f":"IF(AC376<=0,0,IF($D376<=SUM($BK377:BK377),0,IF(AZ377+$D376-SUM($BK377:BK377)>AC376+AN377,AC376+AN377-AZ377,$D376-SUM($BK377:BK377))))","v":0},{"$f":"IF(AD376<=0,0,IF($D376<=SUM($BK377:BL377),0,IF(BA377+$D376-SUM($BK377:BL377)>AD376+AO377,AD376+AO377-BA377,$D376-SUM($BK377:BL377))))","v":0},{"$f":"IF(AE376<=0,0,IF($D376<=SUM($BK377:BM377),0,IF(BB377+$D376-SUM($BK377:BM377)>AE376+AP377,AE376+AP377-BB377,$D376-SUM($BK377:BM377))))","v":0},{"$f":"IF(AF376<=0,0,IF($D376<=SUM($BK377:BN377),0,IF(BC377+$D376-SUM($BK377:BN377)>AF376+AQ377,AF376+AQ377-BC377,$D376-SUM($BK377:BN377))))","v":0},{"$f":"IF(AG376<=0,0,IF($D376<=SUM($BK377:BO377),0,IF(BD377+$D376-SUM($BK377:BO377)>AG376+AR377,AG376+AR377-BD377,$D376-SUM($BK377:BO377))))","v":0},{"$f":"IF(AH376<=0,0,IF($D376<=SUM($BK377:BP377),0,IF(BE377+$D376-SUM($BK377:BP377)>AH376+AS377,AH376+AS377-BE377,$D376-SUM($BK377:BP377))))","v":0},{"$f":"IF(AI376<=0,0,IF($D376<=SUM($BK377:BQ377),0,IF(BF377+$D376-SUM($BK377:BQ377)>AI376+AT377,AI376+AT377-BF377,$D376-SUM($BK377:BQ377))))","v":0},{"$f":"IF(AJ376<=0,0,IF($D376<=SUM($BK377:BR377),0,IF(BG377+$D376-SUM($BK377:BR377)>AJ376+AU377,AJ376+AU377-BG377,$D376-SUM($BK377:BR377))))","v":0},{"$f":"IF(AK376<=0,0,IF($D376<=SUM($BK377:BS377),0,IF(BH377+$D376-SUM($BK377:BS377)>AK376+AV377,AK376+AV377-BH377,$D376-SUM($BK377:BS377))))","v":0}]
[null,"","1929-09-01",0,0,0,0,0,0,0,0,0,0,0,null,null,null,null,null,null,null,null,null,null,null,null,0,0,0,0,0,0,0,0,0,0,0,null,0,0,0,0,0,0,0,0,0,0,0,null,0,0,0,0,0,0,0,0,0,0,0,null,0,{"$f":"IF(AC377<=0,0,IF($D377<=SUM($BK378:BK378),0,IF(AZ378+$D377-SUM($BK378:BK378)>AC377+AN378,AC377+AN378-AZ378,$D377-SUM($BK378:BK378))))","v":0},{"$f":"IF(AD377<=0,0,IF($D377<=SUM($BK378:BL378),0,IF(BA378+$D377-SUM($BK378:BL378)>AD377+AO378,AD377+AO378-BA378,$D377-SUM($BK378:BL378))))","v":0},{"$f":"IF(AE377<=0,0,IF($D377<=SUM($BK378:BM378),0,IF(BB378+$D377-SUM($BK378:BM378)>AE377+AP378,AE377+AP378-BB378,$D377-SUM($BK378:BM378))))","v":0},{"$f":"IF(AF377<=0,0,IF($D377<=SUM($BK378:BN378),0,IF(BC378+$D377-SUM($BK378:BN378)>AF377+AQ378,AF377+AQ378-BC378,$D377-SUM($BK378:BN378))))","v":0},{"$f":"IF(AG377<=0,0,IF($D377<=SUM($BK378:BO378),0,IF(BD378+$D377-SUM($BK378:BO378)>AG377+AR378,AG377+AR378-BD378,$D377-SUM($BK378:BO378))))","v":0},{"$f":"IF(AH377<=0,0,IF($D377<=SUM($BK378:BP378),0,IF(BE378+$D377-SUM($BK378:BP378)>AH377+AS378,AH377+AS378-BE378,$D377-SUM($BK378:BP378))))","v":0},{"$f":"IF(AI377<=0,0,IF($D377<=SUM($BK378:BQ378),0,IF(BF378+$D377-SUM($BK378:BQ378)>AI377+AT378,AI377+AT378-BF378,$D377-SUM($BK378:BQ378))))","v":0},{"$f":"IF(AJ377<=0,0,IF($D377<=SUM($BK378:BR378),0,IF(BG378+$D377-SUM($BK378:BR378)>AJ377+AU378,AJ377+AU378-BG378,$D377-SUM($BK378:BR378))))","v":0},{"$f":"IF(AK377<=0,0,IF($D377<=SUM($BK378:BS378),0,IF(BH378+$D377-SUM($BK378:BS378)>AK377+AV378,AK377+AV378-BH378,$D377-SUM($BK378:BS378))))","v":0}]
[null,"","1929-10-01",0,0,0,0,0,0,0,0,0,0,0,null,null,null,null,null,null,null,null,null,null,null,null,0,0,0,0,0,0,0,0,0,0,0,null,0,0,0,0,0,0,0,0,0,0,0,null,0,0,0,0,0,0,0,0,0,0,0,null,0,{"$f":"IF(AC378<=0,0,IF($D378<=SUM($BK379:BK379),0,IF(AZ379+$D378-SUM($BK379:BK379)>AC378+AN379,AC378+AN379-AZ379,$D378-SUM($BK379:BK379))))","v":0},{"$f":"IF(AD378<=0,0,IF($D378<=SUM($BK379:BL379),0,IF(BA379+$D378-SUM($BK379:BL379)>AD378+AO379,AD378+AO379-BA379,$D378-SUM($BK379:BL379))))","v":0},{"$f":"IF(AE378<=0,0,IF($D378<=SUM($BK379:BM379),0,IF(BB379+$D378-SUM($BK379:BM379)>AE378+AP379,AE378+AP379-BB379,$D378-SUM($BK379:BM379))))","v":0},{"$f":"IF(AF378<=0,0,IF($D378<=SUM($BK379:BN379),0,IF(BC379+$D378-SUM($BK379:BN379)>AF378+AQ379,AF378+AQ379-BC379,$D378-SUM($BK379:BN379))))","v":0},{"$f":"IF(AG378<=0,0,IF($D378<=SUM($BK379:BO379),0,IF(BD379+$D378-SUM($BK379:BO379)>AG378+AR379,AG378+AR379-BD379,$D378-SUM($BK379:BO379))))","v":0},{"$f":"IF(AH378<=0,0,IF($D378<=SUM($BK379:BP379),0,IF(BE379+$D378-SUM($BK379:BP379)>AH378+AS379,AH378+AS379-BE379,$D378-SUM($BK379:BP379))))","v":0},{"$f":"IF(AI378<=0,0,IF($D378<=SUM($BK379:BQ379),0,IF(BF379+$D378-SUM($BK379:BQ379)>AI378+AT379,AI378+AT379-BF379,$D378-SUM($BK379:BQ379))))","v":0},{"$f":"IF(AJ378<=0,0,IF($D378<=SUM($BK379:BR379),0,IF(BG379+$D378-SUM($BK379:BR379)>AJ378+AU379,AJ378+AU379-BG379,$D378-SUM($BK379:BR379))))","v":0},{"$f":"IF(AK378<=0,0,IF($D378<=SUM($BK379:BS379),0,IF(BH379+$D378-SUM($BK379:BS379)>AK378+AV379,AK378+AV379-BH379,$D378-SUM($BK379:BS379))))","v":0}]
[null,"","1929-11-01",0,0,0,0,0,0,0,0,0,0,0,null,null,null,null,null,null,null,null,null,null,null,null,0,0,0,0,0,0,0,0,0,0,0,null,0,0,0,0,0,0,0,0,0,0,0,null,0,0,0,0,0,0,0,0,0,0,0,null,0,{"$f":"IF(AC379<=0,0,IF($D379<=SUM($BK380:BK380),0,IF(AZ380+$D379-SUM($BK380:BK380)>AC379+AN380,AC379+AN380-AZ380,$D379-SUM($BK380:BK380))))","v":0},{"$f":"IF(AD379<=0,0,IF($D379<=SUM($BK380:BL380),0,IF(BA380+$D379-SUM($BK380:BL380)>AD379+AO380,AD379+AO380-BA380,$D379-SUM($BK380:BL380))))","v":0},{"$f":"IF(AE379<=0,0,IF($D379<=SUM($BK380:BM380),0,IF(BB380+$D379-SUM($BK380:BM380)>AE379+AP380,AE379+AP380-BB380,$D379-SUM($BK380:BM380))))","v":0},{"$f":"IF(AF379<=0,0,IF($D379<=SUM($BK380:BN380),0,IF(BC380+$D379-SUM($BK380:BN380)>AF379+AQ380,AF379+AQ380-BC380,$D379-SUM($BK380:BN380))))","v":0},{"$f":"IF(AG379<=0,0,IF($D379<=SUM($BK380:BO380),0,IF(BD380+$D379-SUM($BK380:BO380)>AG379+AR380,AG379+AR380-BD380,$D379-SUM($BK380:BO380))))","v":0},{"$f":"IF(AH379<=0,0,IF($D379<=SUM($BK380:BP380),0,IF(BE380+$D379-SUM($BK380:BP380)>AH379+AS380,AH379+AS380-BE380,$D379-SUM($BK380:BP380))))","v":0},{"$f":"IF(AI379<=0,0,IF($D379<=SUM($BK380:BQ380),0,IF(BF380+$D379-SUM($BK380:BQ380)>AI379+AT380,AI379+AT380-BF380,$D379-SUM($BK380:BQ380))))","v":0},{"$f":"IF(AJ379<=0,0,IF($D379<=SUM($BK380:BR380),0,IF(BG380+$D379-SUM($BK380:BR380)>AJ379+AU380,AJ379+AU380-BG380,$D379-SUM($BK380:BR380))))","v":0},{"$f":"IF(AK379<=0,0,IF($D379<=SUM($BK380:BS380),0,IF(BH380+$D379-SUM($BK380:BS380)>AK379+AV380,AK379+AV380-BH380,$D379-SUM($BK380:BS380))))","v":0}]
[null,"","1929-12-01",0,0,0,0,0,0,0,0,0,0,0,null,null,null,null,null,null,null,null,null,null,null,null,0,0,0,0,0,0,0,0,0,0,0,null,0,0,0,0,0,0,0,0,0,0,0,null,0,0,0,0,0,0,0,0,0,0,0,null,0,{"$f":"IF(AC380<=0,0,IF($D380<=SUM($BK381:BK381),0,IF(AZ381+$D380-SUM($BK381:BK381)>AC380+AN381,AC380+AN381-AZ381,$D380-SUM($BK381:BK381))))","v":0},{"$f":"IF(AD380<=0,0,IF($D380<=SUM($BK381:BL381),0,IF(BA381+$D380-SUM($BK381:BL381)>AD380+AO381,AD380+AO381-BA381,$D380-SUM($BK381:BL381))))","v":0},{"$f":"IF(AE380<=0,0,IF($D380<=SUM($BK381:BM381),0,IF(BB381+$D380-SUM($BK381:BM381)>AE380+AP381,AE380+AP381-BB381,$D380-SUM($BK381:BM381))))","v":0},{"$f":"IF(AF380<=0,0,IF($D380<=SUM($BK381:BN381),0,IF(BC381+$D380-SUM($BK381:BN381)>AF380+AQ381,AF380+AQ381-BC381,$D380-SUM($BK381:BN381))))","v":0},{"$f":"IF(AG380<=0,0,IF($D380<=SUM($BK381:BO381),0,IF(BD381+$D380-SUM($BK381:BO381)>AG380+AR381,AG380+AR381-BD381,$D380-SUM($BK381:BO381))))","v":0},{"$f":"IF(AH380<=0,0,IF($D380<=SUM($BK381:BP381),0,IF(BE381+$D380-SUM($BK381:BP381)>AH380+AS381,AH380+AS381-BE381,$D380-SUM($BK381:BP381))))","v":0},{"$f":"IF(AI380<=0,0,IF($D380<=SUM($BK381:BQ381),0,IF(BF381+$D380-SUM($BK381:BQ381)>AI380+AT381,AI380+AT381-BF381,$D380-SUM($BK381:BQ381))))","v":0},{"$f":"IF(AJ380<=0,0,IF($D380<=SUM($BK381:BR381),0,IF(BG381+$D380-SUM($BK381:BR381)>AJ380+AU381,AJ380+AU381-BG381,$D380-SUM($BK381:BR381))))","v":0},{"$f":"IF(AK380<=0,0,IF($D380<=SUM($BK381:BS381),0,IF(BH381+$D380-SUM($BK381:BS381)>AK380+AV381,AK380+AV381-BH381,$D380-SUM($BK381:BS381))))","v":0}]
[null,"","1930-01-01",0,0,0,0,0,0,0,0,0,0,0,null,null,null,null,null,null,null,null,null,null,null,null,0,0,0,0,0,0,0,0,0,0,0,null,0,0,0,0,0,0,0,0,0,0,0,null,0,0,0,0,0,0,0,0,0,0,0,null,0,{"$f":"IF(AC381<=0,0,IF($D381<=SUM($BK382:BK382),0,IF(AZ382+$D381-SUM($BK382:BK382)>AC381+AN382,AC381+AN382-AZ382,$D381-SUM($BK382:BK382))))","v":0},{"$f":"IF(AD381<=0,0,IF($D381<=SUM($BK382:BL382),0,IF(BA382+$D381-SUM($BK382:BL382)>AD381+AO382,AD381+AO382-BA382,$D381-SUM($BK382:BL382))))","v":0},{"$f":"IF(AE381<=0,0,IF($D381<=SUM($BK382:BM382),0,IF(BB382+$D381-SUM($BK382:BM382)>AE381+AP382,AE381+AP382-BB382,$D381-SUM($BK382:BM382))))","v":0},{"$f":"IF(AF381<=0,0,IF($D381<=SUM($BK382:BN382),0,IF(BC382+$D381-SUM($BK382:BN382)>AF381+AQ382,AF381+AQ382-BC382,$D381-SUM($BK382:BN382))))","v":0},{"$f":"IF(AG381<=0,0,IF($D381<=SUM($BK382:BO382),0,IF(BD382+$D381-SUM($BK382:BO382)>AG381+AR382,AG381+AR382-BD382,$D381-SUM($BK382:BO382))))","v":0},{"$f":"IF(AH381<=0,0,IF($D381<=SUM($BK382:BP382),0,IF(BE382+$D381-SUM($BK382:BP382)>AH381+AS382,AH381+AS382-BE382,$D381-SUM($BK382:BP382))))","v":0},{"$f":"IF(AI381<=0,0,IF($D381<=SUM($BK382:BQ382),0,IF(BF382+$D381-SUM($BK382:BQ382)>AI381+AT382,AI381+AT382-BF382,$D381-SUM($BK382:BQ382))))","v":0},{"$f":"IF(AJ381<=0,0,IF($D381<=SUM($BK382:BR382),0,IF(BG382+$D381-SUM($BK382:BR382)>AJ381+AU382,AJ381+AU382-BG382,$D381-SUM($BK382:BR382))))","v":0},{"$f":"IF(AK381<=0,0,IF($D381<=SUM($BK382:BS382),0,IF(BH382+$D381-SUM($BK382:BS382)>AK381+AV382,AK381+AV382-BH382,$D381-SUM($BK382:BS382))))","v":0}]
[null,null,null,null,null,null,null,null,null,null,null,null,null,null,null,null,null,null,null,null,null,null,null,null,null,null,0,0,0,0,0,0,0,0,0,0,0,null,0,0,0,0,0,0,0,0,0,0,0,null,0,0,0,0,0,0,0,0,0,0,0,null,0,{"$f":"IF(AC382<=0,0,IF($D382<=SUM($BK383:BK383),0,IF(AZ383+$D382-SUM($BK383:BK383)>AC382+AN383,AC382+AN383-AZ383,$D382-SUM($BK383:BK383))))","v":0},{"$f":"IF(AD382<=0,0,IF($D382<=SUM($BK383:BL383),0,IF(BA383+$D382-SUM($BK383:BL383)>AD382+AO383,AD382+AO383-BA383,$D382-SUM($BK383:BL383))))","v":0},{"$f":"IF(AE382<=0,0,IF($D382<=SUM($BK383:BM383),0,IF(BB383+$D382-SUM($BK383:BM383)>AE382+AP383,AE382+AP383-BB383,$D382-SUM($BK383:BM383))))","v":0},{"$f":"IF(AF382<=0,0,IF($D382<=SUM($BK383:BN383),0,IF(BC383+$D382-SUM($BK383:BN383)>AF382+AQ383,AF382+AQ383-BC383,$D382-SUM($BK383:BN383))))","v":0},{"$f":"IF(AG382<=0,0,IF($D382<=SUM($BK383:BO383),0,IF(BD383+$D382-SUM($BK383:BO383)>AG382+AR383,AG382+AR383-BD383,$D382-SUM($BK383:BO383))))","v":0},{"$f":"IF(AH382<=0,0,IF($D382<=SUM($BK383:BP383),0,IF(BE383+$D382-SUM($BK383:BP383)>AH382+AS383,AH382+AS383-BE383,$D382-SUM($BK383:BP383))))","v":0},{"$f":"IF(AI382<=0,0,IF($D382<=SUM($BK383:BQ383),0,IF(BF383+$D382-SUM($BK383:BQ383)>AI382+AT383,AI382+AT383-BF383,$D382-SUM($BK383:BQ383))))","v":0},{"$f":"IF(AJ382<=0,0,IF($D382<=SUM($BK383:BR383),0,IF(BG383+$D382-SUM($BK383:BR383)>AJ382+AU383,AJ382+AU383-BG383,$D382-SUM($BK383:BR383))))","v":0},{"$f":"IF(AK382<=0,0,IF($D382<=SUM($BK383:BS383),0,IF(BH383+$D382-SUM($BK383:BS383)>AK382+AV383,AK382+AV383-BH383,$D382-SUM($BK383:BS383))))","v":0}]
[null,null,null,null,null,null,null,null,null,null,null,null,null,null,null,null,null,null,null,null,null,null,null,null,null,null,null,null,null,null,null,null,null,null,null,null,null,null,null,null,null,null,null,null,null,null,null,null,null,null,null,null,null,null,null,null,null,null,null,null,null,null,null,{"$f":"IF(AB383<=0,0,IF(AZ384+$D383>AB383+AN384,AB383+AN384-AZ384,$D383))","v":0},{"$f":"IF(AC383<=0,0,IF($D383<=SUM($BL384:BL384),0,IF(BA384+$D383-SUM($BL384:BL384)>AC383+AO384,AC383+AO384-BA384,$D383-SUM($BL384:BL384))))","v":0},{"$f":"IF(AD383<=0,0,IF($D383<=SUM($BL384:BM384),0,IF(BB384+$D383-SUM($BL384:BM384)>AD383+AP384,AD383+AP384-BB384,$D383-SUM($BL384:BM384))))","v":0},{"$f":"IF(AE383<=0,0,IF($D383<=SUM($BL384:BN384),0,IF(BC384+$D383-SUM($BL384:BN384)>AE383+AQ384,AE383+AQ384-BC384,$D383-SUM($BL384:BN384))))","v":0},{"$f":"IF(AF383<=0,0,IF($D383<=SUM($BL384:BO384),0,IF(BD384+$D383-SUM($BL384:BO384)>AF383+AR384,AF383+AR384-BD384,$D383-SUM($BL384:BO384))))","v":0},{"$f":"IF(AG383<=0,0,IF($D383<=SUM($BL384:BP384),0,IF(BE384+$D383-SUM($BL384:BP384)>AG383+AS384,AG383+AS384-BE384,$D383-SUM($BL384:BP384))))","v":0},{"$f":"IF(AH383<=0,0,IF($D383<=SUM($BL384:BQ384),0,IF(BF384+$D383-SUM($BL384:BQ384)>AH383+AT384,AH383+AT384-BF384,$D383-SUM($BL384:BQ384))))","v":0},{"$f":"IF(AI383<=0,0,IF($D383<=SUM($BL384:BR384),0,IF(BG384+$D383-SUM($BL384:BR384)>AI383+AU384,AI383+AU384-BG384,$D383-SUM($BL384:BR384))))","v":0},{"$f":"IF(AJ383<=0,0,IF($D383<=SUM($BL384:BS384),0,IF(BH384+$D383-SUM($BL384:BS384)>AJ383+AV384,AJ383+AV384-BH384,$D383-SUM($BL384:BS384))))","v":0},{"$f":"IF(AK383<=0,0,IF($D383<=SUM($BL384:BT384),0,IF(BI384+$D383-SUM($BL384:BT384)>AK383+AW384,AK383+AW384-BI384,$D383-SUM($BL384:BT384))))","v":0}]
[]
[null,"© 2016 BC Holdings, LLC; All rights reserved. This information is for educational purposes only and should not be construed as investment advice. You should consult a qualified, licensed investment professional for any questions you have related to investment or other financial matters. All information, content, calculators and materials in whatever form provided in this program are protected by the copyright laws in the United States and in foreign countries. Provided you hold a valid, current license to use this training program, BC Holdings, LLC authorizes you to access this content and download the downloadable forms for personal, non-commercial use during the period for which you hold a valid, current license. You are not authorized to reproduce or distribute this program or any of its components in any way, in any form without the express written consent from BC Holdings, LLC.  All rights not expressly granted herein are reserved to BC Holdings, LLC and its licensors."]

{"sheet":"Location","index":2,"n_rows":10,"n_cols":1,"rows_kept":10,"cut":false,"hidden":true,"merged":[]}
[1]
[2]
[3]
[4]
[5]
[6]
[7]
[8]
[9]
[10]